BEGIN:VCALENDAR
VERSION:2.0
PRODID:-//Billings Farm - ECPv6.15.15//NONSGML v1.0//EN
CALSCALE:GREGORIAN
METHOD:PUBLISH
X-ORIGINAL-URL:https://billingsfarm.org
X-WR-CALDESC:Events for Billings Farm
REFRESH-INTERVAL;VALUE=DURATION:PT1H
X-Robots-Tag:noindex
X-PUBLISHED-TTL:PT1H
BEGIN:VTIMEZONE
TZID:America/New_York
BEGIN:DAYLIGHT
TZOFFSETFROM:-0500
TZOFFSETTO:-0400
TZNAME:EDT
DTSTART:20190310T070000
END:DAYLIGHT
BEGIN:STANDARD
TZOFFSETFROM:-0400
TZOFFSETTO:-0500
TZNAME:EST
DTSTART:20191103T060000
END:STANDARD
BEGIN:DAYLIGHT
TZOFFSETFROM:-0500
TZOFFSETTO:-0400
TZNAME:EDT
DTSTART:20200308T070000
END:DAYLIGHT
BEGIN:STANDARD
TZOFFSETFROM:-0400
TZOFFSETTO:-0500
TZNAME:EST
DTSTART:20201101T060000
END:STANDARD
BEGIN:DAYLIGHT
TZOFFSETFROM:-0500
TZOFFSETTO:-0400
TZNAME:EDT
DTSTART:20210314T070000
END:DAYLIGHT
BEGIN:STANDARD
TZOFFSETFROM:-0400
TZOFFSETTO:-0500
TZNAME:EST
DTSTART:20211107T060000
END:STANDARD
END:VTIMEZONE
BEGIN:VEVENT
DTSTART;TZID=America/New_York:20200605T100000
DTEND;TZID=America/New_York:20200605T160000
DTSTAMP:20260422T182446
CREATED:20171019T172250Z
LAST-MODIFIED:20200730T135851Z
UID:10000024-1591351200-1591372800@billingsfarm.org
SUMMARY:Foodie Fridays - An Online Program
DESCRIPTION:Visit Billings Farm at Home and discover how we use seasonal ingredients from our farm and gardens to make delicious recipes.  
URL:https://billingsfarm.org/event/foodie-fridays-2/2020-06-05/
LOCATION:VT
CATEGORIES:Featured
END:VEVENT
BEGIN:VEVENT
DTSTART;TZID=America/New_York:20200612T100000
DTEND;TZID=America/New_York:20200612T160000
DTSTAMP:20260422T182446
CREATED:20171019T172250Z
LAST-MODIFIED:20200730T135851Z
UID:10000025-1591956000-1591977600@billingsfarm.org
SUMMARY:Foodie Fridays - An Online Program
DESCRIPTION:Visit Billings Farm at Home and discover how we use seasonal ingredients from our farm and gardens to make delicious recipes.  
URL:https://billingsfarm.org/event/foodie-fridays-2/2020-06-12/
LOCATION:VT
CATEGORIES:Featured
END:VEVENT
BEGIN:VEVENT
DTSTART;TZID=America/New_York:20200619T100000
DTEND;TZID=America/New_York:20200619T160000
DTSTAMP:20260422T182446
CREATED:20171019T172250Z
LAST-MODIFIED:20200730T135851Z
UID:10000026-1592560800-1592582400@billingsfarm.org
SUMMARY:Foodie Fridays - An Online Program
DESCRIPTION:Visit Billings Farm at Home and discover how we use seasonal ingredients from our farm and gardens to make delicious recipes.  
URL:https://billingsfarm.org/event/foodie-fridays-2/2020-06-19/
LOCATION:VT
CATEGORIES:Featured
END:VEVENT
BEGIN:VEVENT
DTSTART;TZID=America/New_York:20200626T100000
DTEND;TZID=America/New_York:20200626T160000
DTSTAMP:20260422T182446
CREATED:20171019T172250Z
LAST-MODIFIED:20200730T135851Z
UID:10000027-1593165600-1593187200@billingsfarm.org
SUMMARY:Foodie Fridays - An Online Program
DESCRIPTION:Visit Billings Farm at Home and discover how we use seasonal ingredients from our farm and gardens to make delicious recipes.  
URL:https://billingsfarm.org/event/foodie-fridays-2/2020-06-26/
LOCATION:VT
CATEGORIES:Featured
END:VEVENT
END:VCALENDAR