BEGIN:VCALENDAR
VERSION:2.0
PRODID:-//Billings Farm - ECPv6.15.15//NONSGML v1.0//EN
CALSCALE:GREGORIAN
METHOD:PUBLISH
X-ORIGINAL-URL:https://billingsfarm.org
X-WR-CALDESC:Events for Billings Farm
REFRESH-INTERVAL;VALUE=DURATION:PT1H
X-Robots-Tag:noindex
X-PUBLISHED-TTL:PT1H
BEGIN:VTIMEZONE
TZID:America/New_York
BEGIN:DAYLIGHT
TZOFFSETFROM:-0500
TZOFFSETTO:-0400
TZNAME:EDT
DTSTART:20190310T070000
END:DAYLIGHT
BEGIN:STANDARD
TZOFFSETFROM:-0400
TZOFFSETTO:-0500
TZNAME:EST
DTSTART:20191103T060000
END:STANDARD
BEGIN:DAYLIGHT
TZOFFSETFROM:-0500
TZOFFSETTO:-0400
TZNAME:EDT
DTSTART:20200308T070000
END:DAYLIGHT
BEGIN:STANDARD
TZOFFSETFROM:-0400
TZOFFSETTO:-0500
TZNAME:EST
DTSTART:20201101T060000
END:STANDARD
BEGIN:DAYLIGHT
TZOFFSETFROM:-0500
TZOFFSETTO:-0400
TZNAME:EDT
DTSTART:20210314T070000
END:DAYLIGHT
BEGIN:STANDARD
TZOFFSETFROM:-0400
TZOFFSETTO:-0500
TZNAME:EST
DTSTART:20211107T060000
END:STANDARD
END:VTIMEZONE
BEGIN:VEVENT
DTSTART;VALUE=DATE:20200831
DTEND;VALUE=DATE:20200905
DTSTAMP:20260422T134344
CREATED:20200701T214901Z
LAST-MODIFIED:20200701T214901Z
UID:10002487-1598832000-1599263999@billingsfarm.org
SUMMARY:Pollination Celebration Online!
DESCRIPTION:Visit Billings Farm at Home online  to learn how to make a simple bee bath for your garden. Find out how Billings Farm became a certified “bee-friendly” farm\, and download pollinator information and activities on our website.
URL:https://billingsfarm.org/event/pollination-celebration-online-2/
LOCATION:VT
CATEGORIES:Featured
ATTACH;FMTTYPE=:
END:VEVENT
BEGIN:VEVENT
DTSTART;TZID=America/New_York:20200901T100000
DTEND;TZID=America/New_York:20200901T160000
DTSTAMP:20260422T134344
CREATED:20171019T172342Z
LAST-MODIFIED:20200814T100436Z
UID:10000078-1598954400-1598976000@billingsfarm.org
SUMMARY:34th Annual Quilt Exhibition
DESCRIPTION:Explore the juried exhibition of locally-made quilts. Enjoy quilting demonstrations and activities for children and adults.
URL:https://billingsfarm.org/event/34th-annual-quilt-exhibition/2020-09-01/
LOCATION:VT
CATEGORIES:Featured
ATTACH;FMTTYPE=:
END:VEVENT
BEGIN:VEVENT
DTSTART;TZID=America/New_York:20200902T100000
DTEND;TZID=America/New_York:20200902T160000
DTSTAMP:20260422T134344
CREATED:20171019T172342Z
LAST-MODIFIED:20200814T100436Z
UID:10000079-1599040800-1599062400@billingsfarm.org
SUMMARY:34th Annual Quilt Exhibition
DESCRIPTION:Explore the juried exhibition of locally-made quilts. Enjoy quilting demonstrations and activities for children and adults.
URL:https://billingsfarm.org/event/34th-annual-quilt-exhibition/2020-09-02/
LOCATION:VT
CATEGORIES:Featured
ATTACH;FMTTYPE=:
END:VEVENT
BEGIN:VEVENT
DTSTART;TZID=America/New_York:20200903T100000
DTEND;TZID=America/New_York:20200903T160000
DTSTAMP:20260422T134344
CREATED:20171019T172342Z
LAST-MODIFIED:20200814T100436Z
UID:10000080-1599127200-1599148800@billingsfarm.org
SUMMARY:34th Annual Quilt Exhibition
DESCRIPTION:Explore the juried exhibition of locally-made quilts. Enjoy quilting demonstrations and activities for children and adults.
URL:https://billingsfarm.org/event/34th-annual-quilt-exhibition/2020-09-03/
LOCATION:VT
CATEGORIES:Featured
ATTACH;FMTTYPE=:
END:VEVENT
BEGIN:VEVENT
DTSTART;TZID=America/New_York:20200904T100000
DTEND;TZID=America/New_York:20200904T160000
DTSTAMP:20260422T134344
CREATED:20171019T172342Z
LAST-MODIFIED:20200814T100436Z
UID:10000081-1599213600-1599235200@billingsfarm.org
SUMMARY:34th Annual Quilt Exhibition
DESCRIPTION:Explore the juried exhibition of locally-made quilts. Enjoy quilting demonstrations and activities for children and adults.
URL:https://billingsfarm.org/event/34th-annual-quilt-exhibition/2020-09-04/
LOCATION:VT
CATEGORIES:Featured
ATTACH;FMTTYPE=:
END:VEVENT
BEGIN:VEVENT
DTSTART;TZID=America/New_York:20200905T100000
DTEND;TZID=America/New_York:20200905T160000
DTSTAMP:20260422T134344
CREATED:20171019T172342Z
LAST-MODIFIED:20200814T100436Z
UID:10000082-1599300000-1599321600@billingsfarm.org
SUMMARY:34th Annual Quilt Exhibition
DESCRIPTION:Explore the juried exhibition of locally-made quilts. Enjoy quilting demonstrations and activities for children and adults.
URL:https://billingsfarm.org/event/34th-annual-quilt-exhibition/2020-09-05/
LOCATION:VT
CATEGORIES:Featured
ATTACH;FMTTYPE=:
END:VEVENT
BEGIN:VEVENT
DTSTART;TZID=America/New_York:20200906T100000
DTEND;TZID=America/New_York:20200906T160000
DTSTAMP:20260422T134344
CREATED:20171019T172342Z
LAST-MODIFIED:20200814T100436Z
UID:10000083-1599386400-1599408000@billingsfarm.org
SUMMARY:34th Annual Quilt Exhibition
DESCRIPTION:Explore the juried exhibition of locally-made quilts. Enjoy quilting demonstrations and activities for children and adults.
URL:https://billingsfarm.org/event/34th-annual-quilt-exhibition/2020-09-06/
LOCATION:VT
CATEGORIES:Featured
ATTACH;FMTTYPE=:
END:VEVENT
BEGIN:VEVENT
DTSTART;TZID=America/New_York:20200907T100000
DTEND;TZID=America/New_York:20200907T160000
DTSTAMP:20260422T134344
CREATED:20171019T172342Z
LAST-MODIFIED:20210319T183525Z
UID:10000232-1599472800-1599494400@billingsfarm.org
SUMMARY:34th Annual Quilt Exhibition
DESCRIPTION:Explore the juried exhibition of locally-made quilts. Enjoy quilting demonstrations and activities for children and adults.
URL:https://billingsfarm.org/event/34th-annual-quilt-exhibition-2020-09-07/
LOCATION:VT
CATEGORIES:Featured
ATTACH;FMTTYPE=:
END:VEVENT
END:VCALENDAR