BEGIN:VCALENDAR
VERSION:2.0
PRODID:-//Billings Farm - ECPv6.15.15//NONSGML v1.0//EN
CALSCALE:GREGORIAN
METHOD:PUBLISH
X-WR-CALNAME:Billings Farm
X-ORIGINAL-URL:https://billingsfarm.org
X-WR-CALDESC:Events for Billings Farm
REFRESH-INTERVAL;VALUE=DURATION:PT1H
X-Robots-Tag:noindex
X-PUBLISHED-TTL:PT1H
BEGIN:VTIMEZONE
TZID:America/New_York
BEGIN:DAYLIGHT
TZOFFSETFROM:-0500
TZOFFSETTO:-0400
TZNAME:EDT
DTSTART:20190310T070000
END:DAYLIGHT
BEGIN:STANDARD
TZOFFSETFROM:-0400
TZOFFSETTO:-0500
TZNAME:EST
DTSTART:20191103T060000
END:STANDARD
BEGIN:DAYLIGHT
TZOFFSETFROM:-0500
TZOFFSETTO:-0400
TZNAME:EDT
DTSTART:20200308T070000
END:DAYLIGHT
BEGIN:STANDARD
TZOFFSETFROM:-0400
TZOFFSETTO:-0500
TZNAME:EST
DTSTART:20201101T060000
END:STANDARD
BEGIN:DAYLIGHT
TZOFFSETFROM:-0500
TZOFFSETTO:-0400
TZNAME:EDT
DTSTART:20210314T070000
END:DAYLIGHT
BEGIN:STANDARD
TZOFFSETFROM:-0400
TZOFFSETTO:-0500
TZNAME:EST
DTSTART:20211107T060000
END:STANDARD
END:VTIMEZONE
BEGIN:VEVENT
DTSTART;TZID=America/New_York:20201025T100000
DTEND;TZID=America/New_York:20201025T160000
DTSTAMP:20260422T121248
CREATED:20200123T152636Z
LAST-MODIFIED:20201019T184904Z
UID:10000105-1603620000-1603641600@billingsfarm.org
SUMMARY:A Family Halloween
DESCRIPTION:Physically-distancing Halloween fun for all ages!  Children in costume receive free admission when accompanied by a ticketed adult. \nChildren are invited to march in a costume parade. Parades will be held at 11:30 a.m. & 1:30 p.m.\, and all children will receive a ribbon. Costumed children can enter to win a drawing for a $10 gift certificate to the Museum Shop. Drawings will be held following each costume parade. Families can also enjoy a hayride around the farm\, offered from 11:00 a.m. – 4:00 p.m. \nActivities for all ages include pumpkin bowling\, making spider web necklaces\, plus family-friendly Halloween story readings. Families can venture through the “not too spooky” Farm Life Exhibits while searching for the hidden pumpkins. Children are invited to trick-or-treat safely from 12:00 – 3:00 p.m. at candy stations located around the farm. \nDon’t fear the annual pumpkin carving contest! Guests vote for their favorite in the ‘spooktastic” display of decorated pumpkins created by our staff! See the roasted pumpkin seed display and take home the Billings Farm recipe. \nVisit the Dairy Bar for a special fall treat – cider and doughnuts! Also available:  pumpkin ice cream and Billings Farm cheese.
URL:https://billingsfarm.org/event/a-family-halloween-2020/
LOCATION:VT
CATEGORIES:Featured
ATTACH;FMTTYPE=:
END:VEVENT
END:VCALENDAR