BEGIN:VCALENDAR
VERSION:2.0
PRODID:-//Billings Farm - ECPv6.15.15//NONSGML v1.0//EN
CALSCALE:GREGORIAN
METHOD:PUBLISH
X-WR-CALNAME:Billings Farm
X-ORIGINAL-URL:https://billingsfarm.org
X-WR-CALDESC:Events for Billings Farm
REFRESH-INTERVAL;VALUE=DURATION:PT1H
X-Robots-Tag:noindex
X-PUBLISHED-TTL:PT1H
BEGIN:VTIMEZONE
TZID:America/New_York
BEGIN:DAYLIGHT
TZOFFSETFROM:-0500
TZOFFSETTO:-0400
TZNAME:EDT
DTSTART:20190310T070000
END:DAYLIGHT
BEGIN:STANDARD
TZOFFSETFROM:-0400
TZOFFSETTO:-0500
TZNAME:EST
DTSTART:20191103T060000
END:STANDARD
BEGIN:DAYLIGHT
TZOFFSETFROM:-0500
TZOFFSETTO:-0400
TZNAME:EDT
DTSTART:20200308T070000
END:DAYLIGHT
BEGIN:STANDARD
TZOFFSETFROM:-0400
TZOFFSETTO:-0500
TZNAME:EST
DTSTART:20201101T060000
END:STANDARD
BEGIN:DAYLIGHT
TZOFFSETFROM:-0500
TZOFFSETTO:-0400
TZNAME:EDT
DTSTART:20210314T070000
END:DAYLIGHT
BEGIN:STANDARD
TZOFFSETFROM:-0400
TZOFFSETTO:-0500
TZNAME:EST
DTSTART:20211107T060000
END:STANDARD
END:VTIMEZONE
BEGIN:VTIMEZONE
TZID:UTC
BEGIN:STANDARD
TZOFFSETFROM:+0000
TZOFFSETTO:+0000
TZNAME:UTC
DTSTART:20190101T000000
END:STANDARD
END:VTIMEZONE
BEGIN:VEVENT
DTSTART;TZID=America/New_York:20201104T100000
DTEND;TZID=America/New_York:20201104T160000
DTSTAMP:20260422T105144
CREATED:20201023T160155Z
LAST-MODIFIED:20201113T171331Z
UID:10002506-1604484000-1604505600@billingsfarm.org
SUMMARY:Family Wednesdays
DESCRIPTION:Family friendly programs\, story readings\, artifact explorations and on-site or take-home crafts. \nPrograms will take place on these dates: \n11/4 – Gentle Jersey Cows \n11/11 – Delightful Dairy \n11/18 – Sharing Sheep (& Wool!) \n12/2 – Check out Chickens \n12/9 – Draft Animal Power \n12/16 – Giddy Goats \nSome programs will feature “up close” visits with the featured farm animal of the week. Visitors will learn more about their role on the farm\, both past and present through displays of farm artifacts\, videos\, and demonstrations. Families can find items hidden in the Farm Life Exhibits and enjoy story time. Children can make or take home a theme-related craft
URL:https://billingsfarm.org/event/family-wednesdays/2020-11-04/
LOCATION:VT
CATEGORIES:Featured
ATTACH;FMTTYPE=image/png:https://billingsfarm.org/wp/wp-content/uploads/2019/04/billings-farm-and-museum-sheep-1-e1605287424352.png
END:VEVENT
BEGIN:VEVENT
DTSTART;TZID=America/New_York:20201111T100000
DTEND;TZID=America/New_York:20201111T160000
DTSTAMP:20260422T105144
CREATED:20201023T160155Z
LAST-MODIFIED:20201113T171331Z
UID:10002507-1605088800-1605110400@billingsfarm.org
SUMMARY:Family Wednesdays
DESCRIPTION:Family friendly programs\, story readings\, artifact explorations and on-site or take-home crafts. \nPrograms will take place on these dates: \n11/4 – Gentle Jersey Cows \n11/11 – Delightful Dairy \n11/18 – Sharing Sheep (& Wool!) \n12/2 – Check out Chickens \n12/9 – Draft Animal Power \n12/16 – Giddy Goats \nSome programs will feature “up close” visits with the featured farm animal of the week. Visitors will learn more about their role on the farm\, both past and present through displays of farm artifacts\, videos\, and demonstrations. Families can find items hidden in the Farm Life Exhibits and enjoy story time. Children can make or take home a theme-related craft
URL:https://billingsfarm.org/event/family-wednesdays/2020-11-11/
LOCATION:VT
CATEGORIES:Featured
ATTACH;FMTTYPE=image/png:https://billingsfarm.org/wp/wp-content/uploads/2019/04/billings-farm-and-museum-sheep-1-e1605287424352.png
END:VEVENT
BEGIN:VEVENT
DTSTART;TZID=America/New_York:20201111T100000
DTEND;TZID=America/New_York:20201111T160000
DTSTAMP:20260422T105144
CREATED:20201110T181322Z
LAST-MODIFIED:20201110T181322Z
UID:10002754-1605088800-1605110400@billingsfarm.org
SUMMARY:Veteran's Day
DESCRIPTION:We are grateful for your service! Veterans and active duty military receive free admission including one guest. 
URL:https://billingsfarm.org/event/veterans-day/
LOCATION:VT
CATEGORIES:Featured
END:VEVENT
BEGIN:VEVENT
DTSTART;TZID=America/New_York:20201118T100000
DTEND;TZID=America/New_York:20201118T160000
DTSTAMP:20260422T105144
CREATED:20201023T160155Z
LAST-MODIFIED:20201113T171331Z
UID:10002508-1605693600-1605715200@billingsfarm.org
SUMMARY:Family Wednesdays
DESCRIPTION:Family friendly programs\, story readings\, artifact explorations and on-site or take-home crafts. \nPrograms will take place on these dates: \n11/4 – Gentle Jersey Cows \n11/11 – Delightful Dairy \n11/18 – Sharing Sheep (& Wool!) \n12/2 – Check out Chickens \n12/9 – Draft Animal Power \n12/16 – Giddy Goats \nSome programs will feature “up close” visits with the featured farm animal of the week. Visitors will learn more about their role on the farm\, both past and present through displays of farm artifacts\, videos\, and demonstrations. Families can find items hidden in the Farm Life Exhibits and enjoy story time. Children can make or take home a theme-related craft
URL:https://billingsfarm.org/event/family-wednesdays/2020-11-18/
LOCATION:VT
CATEGORIES:Featured
ATTACH;FMTTYPE=image/png:https://billingsfarm.org/wp/wp-content/uploads/2019/04/billings-farm-and-museum-sheep-1-e1605287424352.png
END:VEVENT
BEGIN:VEVENT
DTSTART;TZID=America/New_York:20201119T000000
DTEND;TZID=America/New_York:20201122T233000
DTSTAMP:20260422T105144
CREATED:20201112T170421Z
LAST-MODIFIED:20201117T162446Z
UID:10002513-1605744000-1606087800@billingsfarm.org
SUMMARY:JFK: The Last Speech\, Woodstock Vermont Film Series Online
DESCRIPTION:JFK: The Last Speech  takes us to Amherst College for President Kennedy’s celebrated speech about poetry and power. The documentary was produced by Amherst College alumni who attended JFK’s speech at their college\, where the president paid tribute to Robert Frost and offered a passionate vision that juxtaposed power\, poetry and the arts. No president has spoken more forcefully about the importance of the arts in a democratic society. \nPurchase tickets and passes and view the complete list of films here.
URL:https://billingsfarm.org/event/jfk-the-last-speech/
LOCATION:VT
CATEGORIES:Featured
ATTACH;FMTTYPE=image/jpeg:https://billingsfarm.org/wp/wp-content/uploads/2020/11/Final-Image-scaled-e1605214694661.jpg
END:VEVENT
BEGIN:VEVENT
DTSTART;TZID=America/New_York:20201119T100000
DTEND;TZID=America/New_York:20201119T110000
DTSTAMP:20260422T105144
CREATED:20200909T125159Z
LAST-MODIFIED:20201117T163032Z
UID:10002504-1605780000-1605783600@billingsfarm.org
SUMMARY:Homeschool Virtual Program: Tools of the Trade
DESCRIPTION:Learn about the tools and technologies used on a farm and how they have evolved over time. We’ll look at artifacts from our collections and compare them to modern-day tools found in our own homes and surroundings. Students will learn how simple machines can make a job easier\, and see how butter making technology has changed\, and even learn how to make butter at home. Follow-along instructions and worksheets will be provided. \nTo learn more about this program or to register\, click here.
URL:https://billingsfarm.org/event/homeschool-program-tools-of-the-trade/2020-11-19/1/
LOCATION:VT
CATEGORIES:Featured
END:VEVENT
BEGIN:VEVENT
DTSTART;TZID=America/New_York:20201119T130000
DTEND;TZID=America/New_York:20201119T140000
DTSTAMP:20260422T105144
CREATED:20200909T125159Z
LAST-MODIFIED:20201117T163032Z
UID:10002505-1605790800-1605794400@billingsfarm.org
SUMMARY:Homeschool Virtual Program: Tools of the Trade
DESCRIPTION:Learn about the tools and technologies used on a farm and how they have evolved over time. We’ll look at artifacts from our collections and compare them to modern-day tools found in our own homes and surroundings. Students will learn how simple machines can make a job easier\, and see how butter making technology has changed\, and even learn how to make butter at home. Follow-along instructions and worksheets will be provided. \nTo learn more about this program or to register\, click here.
URL:https://billingsfarm.org/event/homeschool-program-tools-of-the-trade/2020-11-19/2/
LOCATION:VT
CATEGORIES:Featured
END:VEVENT
BEGIN:VEVENT
DTSTART;TZID=UTC:20201127T100000
DTEND;TZID=UTC:20201127T160000
DTSTAMP:20260422T105144
CREATED:20200123T164341Z
LAST-MODIFIED:20201117T162236Z
UID:10000196-1606471200-1606492800@billingsfarm.org
SUMMARY:Thanksgiving Weekend
DESCRIPTION:Discover how Thanksgiving was observed at the Billings Farm in the 1890s.  The event will feature the traditional farmhouse Thanksgiving table setting\, holiday programs and activities. Find out the history of foods typically served on the Farm for this holiday. Share stories about your own family traditions on our “Sharing Wall.” See why we are thankful for the stewardship of this land and take a “Thankfulness Walk” around the farm. Families will also enjoy holiday-themed children’s stories in the Theater and the “Story Walk” along the pastures. Children can take home a seasonal “to-go” craft bag with instructions and materials to make a colorful ear of corn or a pumpkin out of beads. \n  \n 
URL:https://billingsfarm.org/event/thanksgiving-weekend-2020/2020-11-27/
LOCATION:VT
CATEGORIES:Featured
ATTACH;FMTTYPE=image/jpeg:https://billingsfarm.org/wp/wp-content/uploads/2020/01/Thanksgiving-table.jpg
END:VEVENT
BEGIN:VEVENT
DTSTART;TZID=UTC:20201128T100000
DTEND;TZID=UTC:20201128T160000
DTSTAMP:20260422T105144
CREATED:20200123T164341Z
LAST-MODIFIED:20201117T162236Z
UID:10000197-1606557600-1606579200@billingsfarm.org
SUMMARY:Thanksgiving Weekend
DESCRIPTION:Discover how Thanksgiving was observed at the Billings Farm in the 1890s.  The event will feature the traditional farmhouse Thanksgiving table setting\, holiday programs and activities. Find out the history of foods typically served on the Farm for this holiday. Share stories about your own family traditions on our “Sharing Wall.” See why we are thankful for the stewardship of this land and take a “Thankfulness Walk” around the farm. Families will also enjoy holiday-themed children’s stories in the Theater and the “Story Walk” along the pastures. Children can take home a seasonal “to-go” craft bag with instructions and materials to make a colorful ear of corn or a pumpkin out of beads. \n  \n 
URL:https://billingsfarm.org/event/thanksgiving-weekend-2020/2020-11-28/
LOCATION:VT
CATEGORIES:Featured
ATTACH;FMTTYPE=image/jpeg:https://billingsfarm.org/wp/wp-content/uploads/2020/01/Thanksgiving-table.jpg
END:VEVENT
BEGIN:VEVENT
DTSTART;TZID=UTC:20201129T100000
DTEND;TZID=UTC:20201129T160000
DTSTAMP:20260422T105144
CREATED:20200123T164341Z
LAST-MODIFIED:20201117T162236Z
UID:10000198-1606644000-1606665600@billingsfarm.org
SUMMARY:Thanksgiving Weekend
DESCRIPTION:Discover how Thanksgiving was observed at the Billings Farm in the 1890s.  The event will feature the traditional farmhouse Thanksgiving table setting\, holiday programs and activities. Find out the history of foods typically served on the Farm for this holiday. Share stories about your own family traditions on our “Sharing Wall.” See why we are thankful for the stewardship of this land and take a “Thankfulness Walk” around the farm. Families will also enjoy holiday-themed children’s stories in the Theater and the “Story Walk” along the pastures. Children can take home a seasonal “to-go” craft bag with instructions and materials to make a colorful ear of corn or a pumpkin out of beads. \n  \n 
URL:https://billingsfarm.org/event/thanksgiving-weekend-2020/2020-11-29/
LOCATION:VT
CATEGORIES:Featured
ATTACH;FMTTYPE=image/jpeg:https://billingsfarm.org/wp/wp-content/uploads/2020/01/Thanksgiving-table.jpg
END:VEVENT
END:VCALENDAR