BEGIN:VCALENDAR
VERSION:2.0
PRODID:-//Billings Farm - ECPv6.15.15//NONSGML v1.0//EN
CALSCALE:GREGORIAN
METHOD:PUBLISH
X-WR-CALNAME:Billings Farm
X-ORIGINAL-URL:https://billingsfarm.org
X-WR-CALDESC:Events for Billings Farm
REFRESH-INTERVAL;VALUE=DURATION:PT1H
X-Robots-Tag:noindex
X-PUBLISHED-TTL:PT1H
BEGIN:VTIMEZONE
TZID:America/New_York
BEGIN:DAYLIGHT
TZOFFSETFROM:-0500
TZOFFSETTO:-0400
TZNAME:EDT
DTSTART:20200308T070000
END:DAYLIGHT
BEGIN:STANDARD
TZOFFSETFROM:-0400
TZOFFSETTO:-0500
TZNAME:EST
DTSTART:20201101T060000
END:STANDARD
BEGIN:DAYLIGHT
TZOFFSETFROM:-0500
TZOFFSETTO:-0400
TZNAME:EDT
DTSTART:20210314T070000
END:DAYLIGHT
BEGIN:STANDARD
TZOFFSETFROM:-0400
TZOFFSETTO:-0500
TZNAME:EST
DTSTART:20211107T060000
END:STANDARD
BEGIN:DAYLIGHT
TZOFFSETFROM:-0500
TZOFFSETTO:-0400
TZNAME:EDT
DTSTART:20220313T070000
END:DAYLIGHT
BEGIN:STANDARD
TZOFFSETFROM:-0400
TZOFFSETTO:-0500
TZNAME:EST
DTSTART:20221106T060000
END:STANDARD
END:VTIMEZONE
BEGIN:VTIMEZONE
TZID:UTC
BEGIN:STANDARD
TZOFFSETFROM:+0000
TZOFFSETTO:+0000
TZNAME:UTC
DTSTART:20200101T000000
END:STANDARD
END:VTIMEZONE
BEGIN:VEVENT
DTSTART;TZID=America/New_York:20210204T000000
DTEND;TZID=America/New_York:20210207T233000
DTSTAMP:20260422T064324
CREATED:20201113T154020Z
LAST-MODIFIED:20210127T135938Z
UID:10002520-1612396800-1612740600@billingsfarm.org
SUMMARY:The Fight\, Woodstock Vermont Film Series Online
DESCRIPTION:Directed by Eli B. Despres\, Josh Kriegman and Elyse Steinberg. The film provides a behind-the-scenes look at five ACLU attorneys as they work on four landmark cases. It’s “riveting\,” says the Washington Post. \nPurchase tickets and passes and view the complete list of films here.
URL:https://billingsfarm.org/event/the-fight-woodstock-vermont-film-series-online/
LOCATION:VT
CATEGORIES:Featured
ATTACH;FMTTYPE=image/jpeg:https://billingsfarm.org/wp/wp-content/uploads/2020/11/The-Fight.jpg
END:VEVENT
BEGIN:VEVENT
DTSTART;TZID=UTC:20210206T100000
DTEND;TZID=UTC:20210206T160000
DTSTAMP:20260422T064324
CREATED:20201228T211612Z
LAST-MODIFIED:20210115T165326Z
UID:10002755-1612605600-1612627200@billingsfarm.org
SUMMARY:Winter Weekends at the Farm
DESCRIPTION:February is a Winter Wonderland at Billings Farm! \nEnjoy scenic winter landscapes among the barns and pastures of Billings Farm & Museum in February. Open each Saturday & Sunday from 10am-4pm\, plus the week of President’s Day with engaging activities indoors and out for visitors of all ages. \nFarm Animals & Winter Fun  Visit the sheep\, chickens and goats all cozy in the Small Animal Barn. \nDon snowshoes – bring your own or rent from the nearby Woodstock Inn & Resort Nordic Center – and venture through the picturesque snow-covered farm fields and along the Ottauquechee River. \nBring your sled to speed down the small hill next to the orchard. Gather round the fire pit and warm up with hot cider and s’mores. Families can enjoy a poetic stroll along the Story Walk pasture fence featuring “Stopping by Woods on a Snowy Evening” by Robert Frost. \nDip a candle to take home. \nVermont’s Rural History  Explore the Farm Life Exhibits to see what life on the farm was like in the 1890’s and find the snowpeople hidden within the exhibits. Learn about the families and history of Billings Farm in our Upon This Land Exhibit. A Place in the Land\, the Academy Award® – nominee film which chronicles the development of Billings Farm is shown throughout the day in the Visitor Center Theater. Guests are invited to view re-creations of both the Sitting and Dining Rooms from the 1890 Farm Manager’s House within the Activity Barn.
URL:https://billingsfarm.org/event/winter-weekends-at-the-farm/2021-02-06/
LOCATION:VT
CATEGORIES:Featured
ATTACH;FMTTYPE=image/jpeg:https://billingsfarm.org/wp/wp-content/uploads/2020/12/snowshoeing-e1609190132481.jpg
END:VEVENT
BEGIN:VEVENT
DTSTART;TZID=UTC:20210207T100000
DTEND;TZID=UTC:20210207T160000
DTSTAMP:20260422T064324
CREATED:20201228T211612Z
LAST-MODIFIED:20210115T165326Z
UID:10002756-1612692000-1612713600@billingsfarm.org
SUMMARY:Winter Weekends at the Farm
DESCRIPTION:February is a Winter Wonderland at Billings Farm! \nEnjoy scenic winter landscapes among the barns and pastures of Billings Farm & Museum in February. Open each Saturday & Sunday from 10am-4pm\, plus the week of President’s Day with engaging activities indoors and out for visitors of all ages. \nFarm Animals & Winter Fun  Visit the sheep\, chickens and goats all cozy in the Small Animal Barn. \nDon snowshoes – bring your own or rent from the nearby Woodstock Inn & Resort Nordic Center – and venture through the picturesque snow-covered farm fields and along the Ottauquechee River. \nBring your sled to speed down the small hill next to the orchard. Gather round the fire pit and warm up with hot cider and s’mores. Families can enjoy a poetic stroll along the Story Walk pasture fence featuring “Stopping by Woods on a Snowy Evening” by Robert Frost. \nDip a candle to take home. \nVermont’s Rural History  Explore the Farm Life Exhibits to see what life on the farm was like in the 1890’s and find the snowpeople hidden within the exhibits. Learn about the families and history of Billings Farm in our Upon This Land Exhibit. A Place in the Land\, the Academy Award® – nominee film which chronicles the development of Billings Farm is shown throughout the day in the Visitor Center Theater. Guests are invited to view re-creations of both the Sitting and Dining Rooms from the 1890 Farm Manager’s House within the Activity Barn.
URL:https://billingsfarm.org/event/winter-weekends-at-the-farm/2021-02-07/
LOCATION:VT
CATEGORIES:Featured
ATTACH;FMTTYPE=image/jpeg:https://billingsfarm.org/wp/wp-content/uploads/2020/12/snowshoeing-e1609190132481.jpg
END:VEVENT
BEGIN:VEVENT
DTSTART;TZID=America/New_York:20210211T000000
DTEND;TZID=America/New_York:20210214T233000
DTSTAMP:20260422T064324
CREATED:20201113T160153Z
LAST-MODIFIED:20201113T160153Z
UID:10002521-1613001600-1613345400@billingsfarm.org
SUMMARY:Life in Synchro\, Woodstock Film Series Online
DESCRIPTION:Directed by Angela Pinaglia\, this fun film takes us inside the dazzling\, beautiful\, cold\, hard world of synchronized ice skating – the toughest sport you’ve never heard of. Women\, young and old\, show what’s it like to bring precision\, grace and women’s unity to the rink as they perform the improbable. \nPurchase tickets and passes and view the complete list of films here. \n 
URL:https://billingsfarm.org/event/life-in-synchro-woodstock-film-series-online/
LOCATION:VT
CATEGORIES:Featured
ATTACH;FMTTYPE=image/jpeg:https://billingsfarm.org/wp/wp-content/uploads/2020/11/Life-in-Synchro.jpg
END:VEVENT
BEGIN:VEVENT
DTSTART;TZID=America/New_York:20210220T163000
DTEND;TZID=America/New_York:20210220T183000
DTSTAMP:20260422T064324
CREATED:20210122T133028Z
LAST-MODIFIED:20210217T015154Z
UID:10002650-1613838600-1613845800@billingsfarm.org
SUMMARY:Torchlight Snowshoe
DESCRIPTION:
URL:https://billingsfarm.org/event/february-torchlight-snowshoe/
LOCATION:VT
CATEGORIES:Featured
ATTACH;FMTTYPE=image/jpeg:https://billingsfarm.org/wp/wp-content/uploads/2021/01/special-event-torchlight-snowshoe-billings-farm-woodstock-vt.jpg
END:VEVENT
BEGIN:VEVENT
DTSTART;TZID=America/New_York:20210225T000000
DTEND;TZID=America/New_York:20210228T233000
DTSTAMP:20260422T064324
CREATED:20201113T160441Z
LAST-MODIFIED:20201113T160500Z
UID:10002522-1614211200-1614555000@billingsfarm.org
SUMMARY:The Booksellers\, Woodstock Vermont Film Series Online
DESCRIPTION:D.W. Young’s The Booksellers explores the small but fascinating world of antiquarian booksellers\, populated by obsessives\, intellects and dreamers. The New York Times designated the film a “Critic’s Pick” and wrote\, “Eccentricity and charm abound.” \nPurchase tickets and passes and view the complete list of films here. \n 
URL:https://billingsfarm.org/event/the-booksellers-woodstock-vermont-film-series-online/
LOCATION:VT
CATEGORIES:Featured
ATTACH;FMTTYPE=image/jpeg:https://billingsfarm.org/wp/wp-content/uploads/2020/11/Adina-Cohen-Naomi-Hample-and-Judith-Lowry-of-the-Argosy-Bookstore-THE-BOOKSELLERS-Courtesy-of-Greenwich-Entertainment.jpg
END:VEVENT
BEGIN:VEVENT
DTSTART;TZID=UTC:20210227T100000
DTEND;TZID=UTC:20210227T160000
DTSTAMP:20260422T064324
CREATED:20201228T211612Z
LAST-MODIFIED:20210115T165326Z
UID:10002757-1614420000-1614441600@billingsfarm.org
SUMMARY:Winter Weekends at the Farm
DESCRIPTION:February is a Winter Wonderland at Billings Farm! \nEnjoy scenic winter landscapes among the barns and pastures of Billings Farm & Museum in February. Open each Saturday & Sunday from 10am-4pm\, plus the week of President’s Day with engaging activities indoors and out for visitors of all ages. \nFarm Animals & Winter Fun  Visit the sheep\, chickens and goats all cozy in the Small Animal Barn. \nDon snowshoes – bring your own or rent from the nearby Woodstock Inn & Resort Nordic Center – and venture through the picturesque snow-covered farm fields and along the Ottauquechee River. \nBring your sled to speed down the small hill next to the orchard. Gather round the fire pit and warm up with hot cider and s’mores. Families can enjoy a poetic stroll along the Story Walk pasture fence featuring “Stopping by Woods on a Snowy Evening” by Robert Frost. \nDip a candle to take home. \nVermont’s Rural History  Explore the Farm Life Exhibits to see what life on the farm was like in the 1890’s and find the snowpeople hidden within the exhibits. Learn about the families and history of Billings Farm in our Upon This Land Exhibit. A Place in the Land\, the Academy Award® – nominee film which chronicles the development of Billings Farm is shown throughout the day in the Visitor Center Theater. Guests are invited to view re-creations of both the Sitting and Dining Rooms from the 1890 Farm Manager’s House within the Activity Barn.
URL:https://billingsfarm.org/event/winter-weekends-at-the-farm/2021-02-27/
LOCATION:VT
CATEGORIES:Featured
ATTACH;FMTTYPE=image/jpeg:https://billingsfarm.org/wp/wp-content/uploads/2020/12/snowshoeing-e1609190132481.jpg
END:VEVENT
BEGIN:VEVENT
DTSTART;TZID=America/New_York:20210227T100000
DTEND;TZID=America/New_York:20210227T233000
DTSTAMP:20260422T064324
CREATED:20210113T212556Z
LAST-MODIFIED:20210127T135805Z
UID:10002644-1614420000-1614468600@billingsfarm.org
SUMMARY:Planning Your Garden with Master Gardener Ben Pauly
DESCRIPTION:Join Woodstock Inn & Resort’s Master Gardener Ben Pauly live by Zoom and get motivated to plan an awesome garden using sustainable practices and a holistic gardening approach. Known for his creations at Kelly Way Gardens and for Billings Farm’s Sunflower House\, Ben will share ideas for plotting out gardens\, attracting pollinators and beneficial insects\, and how and when to start seeds and seedlings. Questions are encouraged! Learn more and register here.
URL:https://billingsfarm.org/event/planning-your-garden-with-master-gardner-ben-pauly/
LOCATION:VT
CATEGORIES:Featured
ATTACH;FMTTYPE=image/jpeg:https://billingsfarm.org/wp/wp-content/uploads/2020/12/spring-garden-small-e1611755713203.jpg
END:VEVENT
BEGIN:VEVENT
DTSTART;TZID=UTC:20210228T100000
DTEND;TZID=UTC:20210228T160000
DTSTAMP:20260422T064324
CREATED:20201228T211612Z
LAST-MODIFIED:20210115T165326Z
UID:10002758-1614506400-1614528000@billingsfarm.org
SUMMARY:Winter Weekends at the Farm
DESCRIPTION:February is a Winter Wonderland at Billings Farm! \nEnjoy scenic winter landscapes among the barns and pastures of Billings Farm & Museum in February. Open each Saturday & Sunday from 10am-4pm\, plus the week of President’s Day with engaging activities indoors and out for visitors of all ages. \nFarm Animals & Winter Fun  Visit the sheep\, chickens and goats all cozy in the Small Animal Barn. \nDon snowshoes – bring your own or rent from the nearby Woodstock Inn & Resort Nordic Center – and venture through the picturesque snow-covered farm fields and along the Ottauquechee River. \nBring your sled to speed down the small hill next to the orchard. Gather round the fire pit and warm up with hot cider and s’mores. Families can enjoy a poetic stroll along the Story Walk pasture fence featuring “Stopping by Woods on a Snowy Evening” by Robert Frost. \nDip a candle to take home. \nVermont’s Rural History  Explore the Farm Life Exhibits to see what life on the farm was like in the 1890’s and find the snowpeople hidden within the exhibits. Learn about the families and history of Billings Farm in our Upon This Land Exhibit. A Place in the Land\, the Academy Award® – nominee film which chronicles the development of Billings Farm is shown throughout the day in the Visitor Center Theater. Guests are invited to view re-creations of both the Sitting and Dining Rooms from the 1890 Farm Manager’s House within the Activity Barn.
URL:https://billingsfarm.org/event/winter-weekends-at-the-farm/2021-02-28/
LOCATION:VT
CATEGORIES:Featured
ATTACH;FMTTYPE=image/jpeg:https://billingsfarm.org/wp/wp-content/uploads/2020/12/snowshoeing-e1609190132481.jpg
END:VEVENT
END:VCALENDAR