BEGIN:VCALENDAR
VERSION:2.0
PRODID:-//Billings Farm - ECPv6.15.15//NONSGML v1.0//EN
CALSCALE:GREGORIAN
METHOD:PUBLISH
X-WR-CALNAME:Billings Farm
X-ORIGINAL-URL:https://billingsfarm.org
X-WR-CALDESC:Events for Billings Farm
REFRESH-INTERVAL;VALUE=DURATION:PT1H
X-Robots-Tag:noindex
X-PUBLISHED-TTL:PT1H
BEGIN:VTIMEZONE
TZID:America/New_York
BEGIN:DAYLIGHT
TZOFFSETFROM:-0500
TZOFFSETTO:-0400
TZNAME:EDT
DTSTART:20200308T070000
END:DAYLIGHT
BEGIN:STANDARD
TZOFFSETFROM:-0400
TZOFFSETTO:-0500
TZNAME:EST
DTSTART:20201101T060000
END:STANDARD
BEGIN:DAYLIGHT
TZOFFSETFROM:-0500
TZOFFSETTO:-0400
TZNAME:EDT
DTSTART:20210314T070000
END:DAYLIGHT
BEGIN:STANDARD
TZOFFSETFROM:-0400
TZOFFSETTO:-0500
TZNAME:EST
DTSTART:20211107T060000
END:STANDARD
BEGIN:DAYLIGHT
TZOFFSETFROM:-0500
TZOFFSETTO:-0400
TZNAME:EDT
DTSTART:20220313T070000
END:DAYLIGHT
BEGIN:STANDARD
TZOFFSETFROM:-0400
TZOFFSETTO:-0500
TZNAME:EST
DTSTART:20221106T060000
END:STANDARD
END:VTIMEZONE
BEGIN:VEVENT
DTSTART;TZID=America/New_York:20210408T000000
DTEND;TZID=America/New_York:20210411T233000
DTSTAMP:20260422T035248
CREATED:20201113T163222Z
LAST-MODIFIED:20201113T163223Z
UID:10002525-1617840000-1618183800@billingsfarm.org
SUMMARY:River City Drumbeat\, Woodstock Vermont Film Series Online
DESCRIPTION:River City Drumbeat directed by Anne Flatte and Marlon Johnson\, tells the story of indefatigable Nardie White who has\, for 30 years\, offered a path to empowerment for African American youth through music and drumming. The film provides a powerful testament to all that one person can accomplish by offering children compassion\, opportunity\, and a place to explore their creativity. \nPurchase tickets and passes and view the complete list of films here.
URL:https://billingsfarm.org/event/river-city-drumbeat-woodstock-vermont-film-series-online/
LOCATION:VT
CATEGORIES:Featured
ATTACH;FMTTYPE=image/jpeg:https://billingsfarm.org/wp/wp-content/uploads/2020/11/River-City-Drumbeat.jpg
END:VEVENT
BEGIN:VEVENT
DTSTART;TZID=America/New_York:20210415T000000
DTEND;TZID=America/New_York:20210418T233000
DTSTAMP:20260422T035248
CREATED:20201113T164041Z
LAST-MODIFIED:20201113T164442Z
UID:10002526-1618444800-1618788600@billingsfarm.org
SUMMARY:Desert One\, Woodstock Vermont Film Series Online
DESCRIPTION:Two-time Academy Award winner Barbara Kopple’s documentary thriller Desert One takes viewers inside the planning\, execution and aftermath of Operation Eagle Claw\, Jimmy Carter’s failed 1980 mission to free 52 U.S. hostages being held in Iran. The picture features hostages\, soldiers – and Carter\, himself\, in an honest reflection of all that was planned – and failed. The Wall Street Journal calls the picture\, “Superb.” \nPurchase tickets and passes and view the complete list of films here. \n 
URL:https://billingsfarm.org/event/desert-one-woodstock-vermont-film-series-online/
LOCATION:VT
CATEGORIES:Featured
ATTACH;FMTTYPE=image/jpeg:https://billingsfarm.org/wp/wp-content/uploads/2020/11/Desert-One.jpg
END:VEVENT
BEGIN:VEVENT
DTSTART;TZID=America/New_York:20210425T100000
DTEND;TZID=America/New_York:20210425T170000
DTSTAMP:20260422T035248
CREATED:20210104T143216Z
LAST-MODIFIED:20210416T203740Z
UID:10002532-1619344800-1619370000@billingsfarm.org
SUMMARY:Sheep Shearing & Herding
DESCRIPTION:Billings Farm’s annual Sheep Shearing & Herding takes place on Saturday and Sunday\, April 24 & 25 from 10:00 a.m. to 5:00 p.m. \nReserve your entrance time to receive expedited entry! \nCelebrate all things sheep and wool with a weekend of shear fun! Meet herdsman Jim McRae and his team of Border Collies and watch demonstrations of herding sheep in the farm fields during narrated programs at 11:30 a.m.\, 1:30 and 3:30 p.m. each day. \nThe farm’s Southdown sheep will receive their spring “wool cuts” by Craig & Philo Marcotte at 10:30 a.m. and 12:30\, 2:30\, and 4:30 p.m. \nSpinning\, and carding demonstrations will highlight the skills needed to turn fleece into yarn. Visitors are invited to help skirt a fleece (the process of preparing the wool for washing)\, try their hand at carding\, and make a wool butterfly. \nIn the Learning Kitchen from 11 a.m.-4 p.m.\, see a cooking demonstration for Spanakopita made with sheep milk cheese and enjoy a sample! \nWhy reserve an entry time? \nEvery guest\, regardless of age\, must provide a name and phone number for contact tracing purposes. We require at least one phone number per group. By reserving the entrance time for you and each member of your party\, you can save time when you arrive and help us ensure a safe flow of guests through the site during the day. \nThe reserved entry time is the window in which you should plan to arrive at Billings Farm & Museum. This reservation is not your admission ticket. You must still purchase a ticket when you arrive or proceed to the member table to check in if you are a member. The reservation does not reserve a spot at any of the timed demonstrations. Once you have completed a health screening and paid for your admission\, you may stay and enjoy the demonstrations and programs for as long as you’d like. \nReservations must be made at least 24 hours before your selected entry time. Walk-ins are welcome\, however advance reservations are strongly recommended. \nReserve your entrance time for Sheep Shearing & Herding \nVisiting safely Billings Farm & Museum enforces safety standards in compliance with Vermont State guidelines. We take the safety of our staff\, animals\, and our guests seriously. Each person must answer health screening questions and follow the Vermont’s travel guidelines. Contact tracing information and temperatures are taken for each visitor. Face coverings must be worn by all guests over the age of 2 everywhere on the site\, including the outdoors. For more about visiting Billings Farm safely\, updates on our site capacity\, and to learn which spaces are open\, visit billingsfarm.org/safety. \n 
URL:https://billingsfarm.org/event/sheep-shearing-herding-2021-04-25/
LOCATION:VT
CATEGORIES:Featured
ATTACH;FMTTYPE=image/jpeg:https://billingsfarm.org/wp/wp-content/uploads/2021/01/Sheep-herding-2019-website.jpg
END:VEVENT
END:VCALENDAR