BEGIN:VCALENDAR
VERSION:2.0
PRODID:-//Billings Farm - ECPv6.15.15//NONSGML v1.0//EN
CALSCALE:GREGORIAN
METHOD:PUBLISH
X-ORIGINAL-URL:https://billingsfarm.org
X-WR-CALDESC:Events for Billings Farm
REFRESH-INTERVAL;VALUE=DURATION:PT1H
X-Robots-Tag:noindex
X-PUBLISHED-TTL:PT1H
BEGIN:VTIMEZONE
TZID:America/New_York
BEGIN:DAYLIGHT
TZOFFSETFROM:-0500
TZOFFSETTO:-0400
TZNAME:EDT
DTSTART:20200308T070000
END:DAYLIGHT
BEGIN:STANDARD
TZOFFSETFROM:-0400
TZOFFSETTO:-0500
TZNAME:EST
DTSTART:20201101T060000
END:STANDARD
BEGIN:DAYLIGHT
TZOFFSETFROM:-0500
TZOFFSETTO:-0400
TZNAME:EDT
DTSTART:20210314T070000
END:DAYLIGHT
BEGIN:STANDARD
TZOFFSETFROM:-0400
TZOFFSETTO:-0500
TZNAME:EST
DTSTART:20211107T060000
END:STANDARD
BEGIN:DAYLIGHT
TZOFFSETFROM:-0500
TZOFFSETTO:-0400
TZNAME:EDT
DTSTART:20220313T070000
END:DAYLIGHT
BEGIN:STANDARD
TZOFFSETFROM:-0400
TZOFFSETTO:-0500
TZNAME:EST
DTSTART:20221106T060000
END:STANDARD
END:VTIMEZONE
BEGIN:VEVENT
DTSTART;TZID=America/New_York:20210604T100000
DTEND;TZID=America/New_York:20210604T170000
DTSTAMP:20260422T004639
CREATED:20210428T193044Z
LAST-MODIFIED:20210629T184021Z
UID:10002657-1622800800-1622826000@billingsfarm.org
SUMMARY:"Foodie" Fridays
DESCRIPTION:Discover how we use seasonal ingredients from our farm and gardens to make delicious recipes. Culinary demonstrations and interactive garden programs. \nFridays in June: Watch as we make Fannie Farmer’s Cream Cake with Cream Filling and Rhubarb Sauce.  Enjoy a sample of this delicious treat!
URL:https://billingsfarm.org/event/foodie-fridays/2021-06-04/
LOCATION:VT
CATEGORIES:Featured
ATTACH;FMTTYPE=image/jpeg:https://billingsfarm.org/wp/wp-content/uploads/2021/04/MicrosoftTeams-image-27.jpg
END:VEVENT
BEGIN:VEVENT
DTSTART;TZID=America/New_York:20210605T100000
DTEND;TZID=America/New_York:20210605T113000
DTSTAMP:20260422T004639
CREATED:20210514T202926Z
LAST-MODIFIED:20210517T171655Z
UID:10002807-1622887200-1622892600@billingsfarm.org
SUMMARY:Billings Backyard: Backyard Goats
DESCRIPTION:Have you ever thought about adding a goat to your family? Join Tina Tuckerman\, dairy goat farmer and owner of One Chicken at a Time farm\, to learn the basics of caring for a goat of your own. Tina will discuss which breeds may be the best choices for your needs\, daily care and space needs\, and information about milking goats and uses for goat milk. There will be plenty of opportunities to ask questions\, and for Tina to share all that she has learned over the years. For more information visit Billings Backyard: Backyard Goats. \nA Q&A period with the presenter may continue for up to 30 minutes past the scheduled end time. \nThis workshop will be held in person at Billings Farm & Museum. \nBillings Backyard is a series of workshops designed to teach sustainable living skills to adult participants and is underwritten by a generous grant from the SpringRiver Private Foundation Trust. Each workshop includes hands-on demonstrations and concrete steps for incorporating these skills into everyday life. Find more Billings Backyard Series workshops.
URL:https://billingsfarm.org/event/billings-backyard-backyard-goats/
LOCATION:VT
CATEGORIES:Featured
ATTACH;FMTTYPE=image/jpeg:https://billingsfarm.org/wp/wp-content/uploads/2021/03/goats-billings-farm-and-museum-woodstock-vt.jpg
END:VEVENT
BEGIN:VEVENT
DTSTART;TZID=America/New_York:20210611T100000
DTEND;TZID=America/New_York:20210611T170000
DTSTAMP:20260422T004639
CREATED:20210428T193044Z
LAST-MODIFIED:20210629T184021Z
UID:10002658-1623405600-1623430800@billingsfarm.org
SUMMARY:"Foodie" Fridays
DESCRIPTION:Discover how we use seasonal ingredients from our farm and gardens to make delicious recipes. Culinary demonstrations and interactive garden programs. \nFridays in June: Watch as we make Fannie Farmer’s Cream Cake with Cream Filling and Rhubarb Sauce.  Enjoy a sample of this delicious treat!
URL:https://billingsfarm.org/event/foodie-fridays/2021-06-11/
LOCATION:VT
CATEGORIES:Featured
ATTACH;FMTTYPE=image/jpeg:https://billingsfarm.org/wp/wp-content/uploads/2021/04/MicrosoftTeams-image-27.jpg
END:VEVENT
BEGIN:VEVENT
DTSTART;TZID=America/New_York:20210617T173000
DTEND;TZID=America/New_York:20210617T193000
DTSTAMP:20260422T004639
CREATED:20210429T194554Z
LAST-MODIFIED:20210604T222418Z
UID:10002804-1623951000-1623958200@billingsfarm.org
SUMMARY:Special Member Event: Family Picnic
DESCRIPTION:Kick off the Billings Farm 150th Celebration with a Members Family Picnic! \n~ Get a free scoop of our special birthday ice cream flavor: homemade strawberry rhubarb ice cream! \n~ Bring your blanket and favorite picnic foods. The Dairy Bar will be open for ice cream and other treats as well. \n~ Meet our farmers and calves! Kids will enjoy the Hobby Horse barrel races and making homemade butter! \nRSVP to membership@162.241.240.79 by June 16th. There is no fee to attend. In gratitude to members\, attendance is limited to members only.
URL:https://billingsfarm.org/event/special-member-event-family-picnic/
LOCATION:VT
CATEGORIES:Featured
ATTACH;FMTTYPE=image/jpeg:https://billingsfarm.org/wp/wp-content/uploads/2021/04/Member-Event-image_410.jpg
END:VEVENT
BEGIN:VEVENT
DTSTART;TZID=America/New_York:20210618T100000
DTEND;TZID=America/New_York:20210618T170000
DTSTAMP:20260422T004639
CREATED:20210428T193044Z
LAST-MODIFIED:20210629T184021Z
UID:10002659-1624010400-1624035600@billingsfarm.org
SUMMARY:"Foodie" Fridays
DESCRIPTION:Discover how we use seasonal ingredients from our farm and gardens to make delicious recipes. Culinary demonstrations and interactive garden programs. \nFridays in June: Watch as we make Fannie Farmer’s Cream Cake with Cream Filling and Rhubarb Sauce.  Enjoy a sample of this delicious treat!
URL:https://billingsfarm.org/event/foodie-fridays/2021-06-18/
LOCATION:VT
CATEGORIES:Featured
ATTACH;FMTTYPE=image/jpeg:https://billingsfarm.org/wp/wp-content/uploads/2021/04/MicrosoftTeams-image-27.jpg
END:VEVENT
BEGIN:VEVENT
DTSTART;TZID=America/New_York:20210620T100000
DTEND;TZID=America/New_York:20210620T170000
DTSTAMP:20260422T004639
CREATED:20210428T202130Z
LAST-MODIFIED:20210611T195119Z
UID:10002687-1624183200-1624208400@billingsfarm.org
SUMMARY:Father's Day at the Farm
DESCRIPTION:Happy Father’s Day! Fathers receive free admission! \n\nFamilies can participate in the 3-legged races and egg races.\nJoin in a rousing game of historic base ball at 2PM.\nCraft a handprint gift for dad featuring a rooster or a billy goat.\nWoodstock Inn & Resort chefs will be grilling up burgers and hot dogs for purchase from 12:00-3:00.\nSample homemade barbecue sauces and take home the recipes in the Learning Kitchen from 11:00-4:00.\nStop by the Dairy Bar for a root beer float and delicious Vermont-made Wilcox ice cream from 11:00-5:00.
URL:https://billingsfarm.org/event/fathers-day-at-the-farm/
LOCATION:VT
CATEGORIES:Featured
ATTACH;FMTTYPE=image/jpeg:https://billingsfarm.org/wp/wp-content/uploads/2021/04/baseball.jpg
END:VEVENT
BEGIN:VEVENT
DTSTART;TZID=America/New_York:20210625T100000
DTEND;TZID=America/New_York:20210625T170000
DTSTAMP:20260422T004639
CREATED:20210428T193044Z
LAST-MODIFIED:20210629T184021Z
UID:10002660-1624615200-1624640400@billingsfarm.org
SUMMARY:"Foodie" Fridays
DESCRIPTION:Discover how we use seasonal ingredients from our farm and gardens to make delicious recipes. Culinary demonstrations and interactive garden programs. \nFridays in June: Watch as we make Fannie Farmer’s Cream Cake with Cream Filling and Rhubarb Sauce.  Enjoy a sample of this delicious treat!
URL:https://billingsfarm.org/event/foodie-fridays/2021-06-25/
LOCATION:VT
CATEGORIES:Featured
ATTACH;FMTTYPE=image/jpeg:https://billingsfarm.org/wp/wp-content/uploads/2021/04/MicrosoftTeams-image-27.jpg
END:VEVENT
BEGIN:VEVENT
DTSTART;TZID=America/New_York:20210627T100000
DTEND;TZID=America/New_York:20210627T170000
DTSTAMP:20260422T004639
CREATED:20210104T143642Z
LAST-MODIFIED:20210624T131713Z
UID:10002534-1624788000-1624813200@billingsfarm.org
SUMMARY:Dairy Celebration Days
DESCRIPTION:Billings Farm is celebrating Dairy Celebration Days and our 150th Anniversary as a Jersey cow dairy and you are invited to join in! \nSaturday & Sunday Activities: \n\nEnjoy a complimentary bite of birthday cake and pair it with our Dairy Bar Birthday Special: homemade Strawberry Rhubarb ice cream\, made with Billings Farm milk\, available for purchase at the Dairy Bar\, 11AM-5PM.\nLearn about Billings Farm’s most famous cows and view artifacts and images from the past 150 years.\nView our “historic” Birthday Cake and miniature farm scene. Sign the giant Birthday Card and share your favorite Billings Farm memories!\nSample award-winning Billings Farm Cheddar Cheese.\nMake a Jersey cow craft (Activity Barn)\nLive demonstration on how to make Cheese Straws\, enjoy a sample! Pick up some of our best dairy recipes and view a recorded demonstration featuring a historic Mac-n-cheese recipe. Learn all about the history of our dairy. (Learning Kitchen)\nAs our gift to you\, take home a Billings Farm Dairy mini milk bottle.\n\n Saturday Only \n\nStep behind-the-scenes and visit with local youth in the Show Barn as they groom their cattle and prepare to compete in Sunday’s Youth Invitational Dairy Show.\n11AM & 1PM Join the Farm staff for the Judging Dairy Cattle program and learn how to identify certain characteristics that make up a prize dairy cow. (Show Tent)\n11AM-3PM Goat’s milk soap making demonstration with Tina Tuckerman of One Chicken at a Time Farm. (Wagon Barn)\n12:00-12:45PM Take an Instagram-worthy picture with one of our prize-winning Jerseys (Outside the Horse Barn)\n2PM Brush a Heifer! (Outside the Horse Barn)\n\nSunday Only \n\nWatch local youth and their cattle compete in the Third Annual Youth Invitational Dairy Show. (Show Tent)\n12:00-3:00PM Purchase a fresh Billings Farm Grilled Cheese Sandwich with Tomato Jam and a garden-fresh side salad prepared by the Woodstock Inn & Resort.\n\nBillings Farm Celebrates 150 Years: \nOne hundred and fifty years ago\, Frederick Billings imported Jersey cattle from the Isle of Jersey\, building a prize herd and transforming his Woodstock estate into a model farm that employed the latest sustainable agricultural practices. \nWhile the intervening years brought successes – as in 1893\, when Billings Farm’s Jerseys garnered top honors at the Columbian Exposition in Chicago – and heartbreaking challenges\, as when the herd was sold off during hard times in the 1930’s – the Billings family’s dedication to Frederick Billings’ vision held true. \nToday\, the Billings Farm & Museum breeds and milks a herd of nearly 50 blue ribbon Jerseys\, producing more than 650\,000 pounds of milk\, some of which goes to Agri-Mark for Cabot products and some of which is used to craft award-winning artisan cheeses in partnership with Grafton Village Cheese. The Woodstock landmark is a Vermont destination which attracts thousands of visitors annually with its educational exhibits\, engaging programs and special events that bring to life Vermont’s rural heritage. \n 
URL:https://billingsfarm.org/event/dairy-celebration-days/
LOCATION:VT
CATEGORIES:Featured
ATTACH;FMTTYPE=image/jpeg:https://billingsfarm.org/wp/wp-content/uploads/2021/06/DSC_2847_600x410.jpg
END:VEVENT
END:VCALENDAR