BEGIN:VCALENDAR
VERSION:2.0
PRODID:-//Billings Farm - ECPv6.15.15//NONSGML v1.0//EN
CALSCALE:GREGORIAN
METHOD:PUBLISH
X-ORIGINAL-URL:https://billingsfarm.org
X-WR-CALDESC:Events for Billings Farm
REFRESH-INTERVAL;VALUE=DURATION:PT1H
X-Robots-Tag:noindex
X-PUBLISHED-TTL:PT1H
BEGIN:VTIMEZONE
TZID:America/New_York
BEGIN:DAYLIGHT
TZOFFSETFROM:-0500
TZOFFSETTO:-0400
TZNAME:EDT
DTSTART:20210314T070000
END:DAYLIGHT
BEGIN:STANDARD
TZOFFSETFROM:-0400
TZOFFSETTO:-0500
TZNAME:EST
DTSTART:20211107T060000
END:STANDARD
BEGIN:DAYLIGHT
TZOFFSETFROM:-0500
TZOFFSETTO:-0400
TZNAME:EDT
DTSTART:20220313T070000
END:DAYLIGHT
BEGIN:STANDARD
TZOFFSETFROM:-0400
TZOFFSETTO:-0500
TZNAME:EST
DTSTART:20221106T060000
END:STANDARD
BEGIN:DAYLIGHT
TZOFFSETFROM:-0500
TZOFFSETTO:-0400
TZNAME:EDT
DTSTART:20230312T070000
END:DAYLIGHT
BEGIN:STANDARD
TZOFFSETFROM:-0400
TZOFFSETTO:-0500
TZNAME:EST
DTSTART:20231105T060000
END:STANDARD
END:VTIMEZONE
BEGIN:VEVENT
DTSTART;TZID=America/New_York:20220505T093000
DTEND;TZID=America/New_York:20220505T110000
DTSTAMP:20260421T081034
CREATED:20220427T155942Z
LAST-MODIFIED:20220510T181214Z
UID:10003002-1651743000-1651748400@billingsfarm.org
SUMMARY:Pre K Storytime
DESCRIPTION:Thursdays during the month of May\nTime: 9:30AM – 11:00AM\nPer Session Price:  $12/child\, $10/member child \nRegister for May sessions today! \nThis program is designed for preschool aged children (3-5) and an adult companion. Each week will include a different theme that connects the stories with activities and animals on the farm. A snack and a visit to see the featured animal are included. View the weekly selection of books and activities \nOne adult admitted free with paid child. Adult attendance required. Guests who want to visit site after must purchase admission.
URL:https://billingsfarm.org/event/pre-k-storytime/2022-05-05/
LOCATION:VT
CATEGORIES:Featured
ATTACH;FMTTYPE=image/jpeg:https://billingsfarm.org/wp/wp-content/uploads/2022/04/prek-story-time-homepage-block-image.jpg
END:VEVENT
BEGIN:VEVENT
DTSTART;TZID=America/New_York:20220512T093000
DTEND;TZID=America/New_York:20220512T110000
DTSTAMP:20260421T081034
CREATED:20220427T155942Z
LAST-MODIFIED:20220510T181214Z
UID:10003003-1652347800-1652353200@billingsfarm.org
SUMMARY:Pre K Storytime
DESCRIPTION:Thursdays during the month of May\nTime: 9:30AM – 11:00AM\nPer Session Price:  $12/child\, $10/member child \nRegister for May sessions today! \nThis program is designed for preschool aged children (3-5) and an adult companion. Each week will include a different theme that connects the stories with activities and animals on the farm. A snack and a visit to see the featured animal are included. View the weekly selection of books and activities \nOne adult admitted free with paid child. Adult attendance required. Guests who want to visit site after must purchase admission.
URL:https://billingsfarm.org/event/pre-k-storytime/2022-05-12/
LOCATION:VT
CATEGORIES:Featured
ATTACH;FMTTYPE=image/jpeg:https://billingsfarm.org/wp/wp-content/uploads/2022/04/prek-story-time-homepage-block-image.jpg
END:VEVENT
BEGIN:VEVENT
DTSTART;TZID=America/New_York:20220519T093000
DTEND;TZID=America/New_York:20220519T110000
DTSTAMP:20260421T081034
CREATED:20220427T155942Z
LAST-MODIFIED:20220510T181214Z
UID:10003004-1652952600-1652958000@billingsfarm.org
SUMMARY:Pre K Storytime
DESCRIPTION:Thursdays during the month of May\nTime: 9:30AM – 11:00AM\nPer Session Price:  $12/child\, $10/member child \nRegister for May sessions today! \nThis program is designed for preschool aged children (3-5) and an adult companion. Each week will include a different theme that connects the stories with activities and animals on the farm. A snack and a visit to see the featured animal are included. View the weekly selection of books and activities \nOne adult admitted free with paid child. Adult attendance required. Guests who want to visit site after must purchase admission.
URL:https://billingsfarm.org/event/pre-k-storytime/2022-05-19/
LOCATION:VT
CATEGORIES:Featured
ATTACH;FMTTYPE=image/jpeg:https://billingsfarm.org/wp/wp-content/uploads/2022/04/prek-story-time-homepage-block-image.jpg
END:VEVENT
BEGIN:VEVENT
DTSTART;TZID=America/New_York:20220526T093000
DTEND;TZID=America/New_York:20220526T110000
DTSTAMP:20260421T081034
CREATED:20220427T155942Z
LAST-MODIFIED:20220510T181214Z
UID:10003005-1653557400-1653562800@billingsfarm.org
SUMMARY:Pre K Storytime
DESCRIPTION:Thursdays during the month of May\nTime: 9:30AM – 11:00AM\nPer Session Price:  $12/child\, $10/member child \nRegister for May sessions today! \nThis program is designed for preschool aged children (3-5) and an adult companion. Each week will include a different theme that connects the stories with activities and animals on the farm. A snack and a visit to see the featured animal are included. View the weekly selection of books and activities \nOne adult admitted free with paid child. Adult attendance required. Guests who want to visit site after must purchase admission.
URL:https://billingsfarm.org/event/pre-k-storytime/2022-05-26/
LOCATION:VT
CATEGORIES:Featured
ATTACH;FMTTYPE=image/jpeg:https://billingsfarm.org/wp/wp-content/uploads/2022/04/prek-story-time-homepage-block-image.jpg
END:VEVENT
END:VCALENDAR