BEGIN:VCALENDAR
VERSION:2.0
PRODID:-//Billings Farm - ECPv6.15.15//NONSGML v1.0//EN
CALSCALE:GREGORIAN
METHOD:PUBLISH
X-ORIGINAL-URL:https://billingsfarm.org
X-WR-CALDESC:Events for Billings Farm
REFRESH-INTERVAL;VALUE=DURATION:PT1H
X-Robots-Tag:noindex
X-PUBLISHED-TTL:PT1H
BEGIN:VTIMEZONE
TZID:America/New_York
BEGIN:DAYLIGHT
TZOFFSETFROM:-0500
TZOFFSETTO:-0400
TZNAME:EDT
DTSTART:20200308T070000
END:DAYLIGHT
BEGIN:STANDARD
TZOFFSETFROM:-0400
TZOFFSETTO:-0500
TZNAME:EST
DTSTART:20201101T060000
END:STANDARD
BEGIN:DAYLIGHT
TZOFFSETFROM:-0500
TZOFFSETTO:-0400
TZNAME:EDT
DTSTART:20210314T070000
END:DAYLIGHT
BEGIN:STANDARD
TZOFFSETFROM:-0400
TZOFFSETTO:-0500
TZNAME:EST
DTSTART:20211107T060000
END:STANDARD
BEGIN:DAYLIGHT
TZOFFSETFROM:-0500
TZOFFSETTO:-0400
TZNAME:EDT
DTSTART:20220313T070000
END:DAYLIGHT
BEGIN:STANDARD
TZOFFSETFROM:-0400
TZOFFSETTO:-0500
TZNAME:EST
DTSTART:20221106T060000
END:STANDARD
END:VTIMEZONE
BEGIN:VEVENT
DTSTART;TZID=America/New_York:20210803T100000
DTEND;TZID=America/New_York:20210803T170000
DTSTAMP:20260422T183140
CREATED:20210104T144641Z
LAST-MODIFIED:20210319T185252Z
UID:10002604-1627984800-1628010000@billingsfarm.org
SUMMARY:35th Annual Quilt Exhibition
DESCRIPTION:Explore the juried exhibition of locally-made quilts ONLINE & ONSITE. Enjoy quilting demonstrations and activities for all.
URL:https://billingsfarm.org/event/35th-annual-quilt-exhibition-2021-08-03/
CATEGORIES:Featured
ATTACH;FMTTYPE=image/jpeg:https://billingsfarm.org/wp/wp-content/uploads/2021/01/fiber-arts.jpg
END:VEVENT
BEGIN:VEVENT
DTSTART;TZID=America/New_York:20210804T100000
DTEND;TZID=America/New_York:20210804T170000
DTSTAMP:20260422T183140
CREATED:20210104T144641Z
LAST-MODIFIED:20210319T185438Z
UID:10002605-1628071200-1628096400@billingsfarm.org
SUMMARY:35th Annual Quilt Exhibition
DESCRIPTION:Explore the juried exhibition of locally-made quilts ONLINE & ONSITE. Enjoy quilting demonstrations and activities for all.
URL:https://billingsfarm.org/event/35th-annual-quilt-exhibition-2021-08-04/
CATEGORIES:Featured
ATTACH;FMTTYPE=image/jpeg:https://billingsfarm.org/wp/wp-content/uploads/2021/01/fiber-arts.jpg
END:VEVENT
BEGIN:VEVENT
DTSTART;TZID=America/New_York:20210805T100000
DTEND;TZID=America/New_York:20210805T170000
DTSTAMP:20260422T183140
CREATED:20210104T144641Z
LAST-MODIFIED:20210319T185537Z
UID:10002606-1628157600-1628182800@billingsfarm.org
SUMMARY:35th Annual Quilt Exhibition
DESCRIPTION:Explore the juried exhibition of locally-made quilts ONLINE & ONSITE. Enjoy quilting demonstrations and activities for all.
URL:https://billingsfarm.org/event/35th-annual-quilt-exhibition-2021-08-05/
CATEGORIES:Featured
ATTACH;FMTTYPE=image/jpeg:https://billingsfarm.org/wp/wp-content/uploads/2021/01/fiber-arts.jpg
END:VEVENT
BEGIN:VEVENT
DTSTART;TZID=America/New_York:20210806T100000
DTEND;TZID=America/New_York:20210806T170000
DTSTAMP:20260422T183140
CREATED:20210104T144641Z
LAST-MODIFIED:20210319T185623Z
UID:10002607-1628244000-1628269200@billingsfarm.org
SUMMARY:35th Annual Quilt Exhibition
DESCRIPTION:Explore the juried exhibition of locally-made quilts ONLINE & ONSITE. Enjoy quilting demonstrations and activities for all.
URL:https://billingsfarm.org/event/35th-annual-quilt-exhibition-2021-08-06/
CATEGORIES:Featured
ATTACH;FMTTYPE=image/jpeg:https://billingsfarm.org/wp/wp-content/uploads/2021/01/fiber-arts.jpg
END:VEVENT
BEGIN:VEVENT
DTSTART;TZID=America/New_York:20210807T100000
DTEND;TZID=America/New_York:20210807T170000
DTSTAMP:20260422T183140
CREATED:20210104T144641Z
LAST-MODIFIED:20210319T185710Z
UID:10002608-1628330400-1628355600@billingsfarm.org
SUMMARY:35th Annual Quilt Exhibition
DESCRIPTION:Explore the juried exhibition of locally-made quilts ONLINE & ONSITE. Enjoy quilting demonstrations and activities for all.
URL:https://billingsfarm.org/event/35th-annual-quilt-exhibition-2021-08-07/
CATEGORIES:Featured
ATTACH;FMTTYPE=image/jpeg:https://billingsfarm.org/wp/wp-content/uploads/2021/01/fiber-arts.jpg
END:VEVENT
BEGIN:VEVENT
DTSTART;TZID=America/New_York:20210808T100000
DTEND;TZID=America/New_York:20210808T170000
DTSTAMP:20260422T183140
CREATED:20210104T144641Z
LAST-MODIFIED:20210319T185754Z
UID:10002609-1628416800-1628442000@billingsfarm.org
SUMMARY:35th Annual Quilt Exhibition
DESCRIPTION:Explore the juried exhibition of locally-made quilts ONLINE & ONSITE. Enjoy quilting demonstrations and activities for all.
URL:https://billingsfarm.org/event/35th-annual-quilt-exhibition-2021-08-08/
CATEGORIES:Featured
ATTACH;FMTTYPE=image/jpeg:https://billingsfarm.org/wp/wp-content/uploads/2021/01/fiber-arts.jpg
END:VEVENT
BEGIN:VEVENT
DTSTART;TZID=America/New_York:20210809T100000
DTEND;TZID=America/New_York:20210809T113000
DTSTAMP:20260422T183140
CREATED:20210517T170929Z
LAST-MODIFIED:20210517T191506Z
UID:10002817-1628503200-1628508600@billingsfarm.org
SUMMARY:Billings Bookworms Week 5: Justin Morgan and the Big Horse Race
DESCRIPTION:Join the Billings Bookworms! From July 12 through August 16\, kids ages 6-8 are invited to Billings Farm & Museum each week to read about and explore a farm-themed topic. This is not just a book club! There are activities and crafts each week and Bookworms get to experience all the site has to offer. \nBillings Bookworms Week 5: Justin Morgan and the Big Horse Race  \n10-10:30 Book reading and exploration. Bookworms will listen to an educator read Justin Morgan and The Big Horse Race by Ellen F. Feld. Each Bookworm will pick a passage and write or draw about it and have the chance to share with the group. \n10:30-10:45 Snack time. Snack will be provided by Billings Farm & Museum. During snack time\, we’ll listen to a chapter of Good Dog: Herd You Loud and Clear by Cam Higgins and Ariel Landy\, which is about a young herding dog working to bring in the sheep. Each week we will continue reading from this chapter book until it is finished on the last day of the club.  \n10:45-11:30 Activity time. Today we’ll head down to the Draft Animal Barn to meet some of our working animals and our teamster Amy! \nLearn more about Billings Bookworms and complete the application form. \nBillings Bookworms is for kids ages 6-8 \nOne session: $25 per participant/$20 per BF&M member\n6-week Series: $125 per participant/$100 per BF&M member. \nSpaces are limited!
URL:https://billingsfarm.org/event/billings-bookworms-week-5-justin-morgan-and-the-big-horse-race/
CATEGORIES:Featured
ATTACH;FMTTYPE=image/jpeg:https://billingsfarm.org/wp/wp-content/uploads/2021/05/justin-morgan-and-the-big-horse-race-copy.jpg
END:VEVENT
BEGIN:VEVENT
DTSTART;TZID=America/New_York:20210809T100000
DTEND;TZID=America/New_York:20210809T170000
DTSTAMP:20260422T183140
CREATED:20210104T144641Z
LAST-MODIFIED:20210319T185836Z
UID:10002610-1628503200-1628528400@billingsfarm.org
SUMMARY:35th Annual Quilt Exhibition
DESCRIPTION:Explore the juried exhibition of locally-made quilts ONLINE & ONSITE. Enjoy quilting demonstrations and activities for all.
URL:https://billingsfarm.org/event/35th-annual-quilt-exhibition-2021-08-09/
CATEGORIES:Featured
ATTACH;FMTTYPE=image/jpeg:https://billingsfarm.org/wp/wp-content/uploads/2021/01/fiber-arts.jpg
END:VEVENT
BEGIN:VEVENT
DTSTART;TZID=America/New_York:20210809T100000
DTEND;TZID=America/New_York:20210809T170000
DTSTAMP:20260422T183140
CREATED:20210516T125517Z
LAST-MODIFIED:20210719T165241Z
UID:10002926-1628503200-1628528400@billingsfarm.org
SUMMARY:Mindful Monday
DESCRIPTION:Heighten your senses in our relaxing farm landscape in a 20-minute instructor-led mindfulness activity offered at 10:30\, 11:00\, and 11:30 am. Sample herbal tea and Billings Farm cheese from 11 am – 4 pm. Find inner peace with a mission-focused mantra\, complete with instructions\, available at the Ticket Desk. \nMindful Monday programs are included with admission to Billings Farm & Museum.
URL:https://billingsfarm.org/event/mindful-monday/2021-08-09/
CATEGORIES:Featured
ATTACH;FMTTYPE=image/jpeg:https://billingsfarm.org/wp/wp-content/uploads/2021/07/IMG_0862_small-e1626526601821.jpg
END:VEVENT
BEGIN:VEVENT
DTSTART;TZID=America/New_York:20210810T100000
DTEND;TZID=America/New_York:20210810T170000
DTSTAMP:20260422T183140
CREATED:20210104T144641Z
LAST-MODIFIED:20210319T185926Z
UID:10002611-1628589600-1628614800@billingsfarm.org
SUMMARY:35th Annual Quilt Exhibition
DESCRIPTION:Explore the juried exhibition of locally-made quilts ONLINE & ONSITE. Enjoy quilting demonstrations and activities for all.
URL:https://billingsfarm.org/event/35th-annual-quilt-exhibition-2021-08-10/
CATEGORIES:Featured
ATTACH;FMTTYPE=image/jpeg:https://billingsfarm.org/wp/wp-content/uploads/2021/01/fiber-arts.jpg
END:VEVENT
BEGIN:VEVENT
DTSTART;TZID=America/New_York:20210811T100000
DTEND;TZID=America/New_York:20210811T170000
DTSTAMP:20260422T183140
CREATED:20210104T144641Z
LAST-MODIFIED:20210319T190008Z
UID:10002612-1628676000-1628701200@billingsfarm.org
SUMMARY:35th Annual Quilt Exhibition
DESCRIPTION:Explore the juried exhibition of locally-made quilts ONLINE & ONSITE. Enjoy quilting demonstrations and activities for all.
URL:https://billingsfarm.org/event/35th-annual-quilt-exhibition-2021-08-11/
CATEGORIES:Featured
ATTACH;FMTTYPE=image/jpeg:https://billingsfarm.org/wp/wp-content/uploads/2021/01/fiber-arts.jpg
END:VEVENT
BEGIN:VEVENT
DTSTART;TZID=America/New_York:20210812T100000
DTEND;TZID=America/New_York:20210812T170000
DTSTAMP:20260422T183140
CREATED:20210104T144641Z
LAST-MODIFIED:20210319T190212Z
UID:10002613-1628762400-1628787600@billingsfarm.org
SUMMARY:35th Annual Quilt Exhibition
DESCRIPTION:Explore the juried exhibition of locally-made quilts ONLINE & ONSITE. Enjoy quilting demonstrations and activities for all.
URL:https://billingsfarm.org/event/35th-annual-quilt-exhibition-2021-08-12/
CATEGORIES:Featured
ATTACH;FMTTYPE=image/jpeg:https://billingsfarm.org/wp/wp-content/uploads/2021/01/fiber-arts.jpg
END:VEVENT
BEGIN:VEVENT
DTSTART;TZID=America/New_York:20210813T100000
DTEND;TZID=America/New_York:20210813T170000
DTSTAMP:20260422T183140
CREATED:20210104T144641Z
LAST-MODIFIED:20210319T190253Z
UID:10002614-1628848800-1628874000@billingsfarm.org
SUMMARY:35th Annual Quilt Exhibition
DESCRIPTION:Explore the juried exhibition of locally-made quilts ONLINE & ONSITE. Enjoy quilting demonstrations and activities for all.
URL:https://billingsfarm.org/event/35th-annual-quilt-exhibition-2021-08-13/
CATEGORIES:Featured
ATTACH;FMTTYPE=image/jpeg:https://billingsfarm.org/wp/wp-content/uploads/2021/01/fiber-arts.jpg
END:VEVENT
BEGIN:VEVENT
DTSTART;TZID=America/New_York:20210814T100000
DTEND;TZID=America/New_York:20210814T170000
DTSTAMP:20260422T183140
CREATED:20210104T144641Z
LAST-MODIFIED:20210319T190337Z
UID:10002615-1628935200-1628960400@billingsfarm.org
SUMMARY:35th Annual Quilt Exhibition
DESCRIPTION:Explore the juried exhibition of locally-made quilts ONLINE & ONSITE. Enjoy quilting demonstrations and activities for all.
URL:https://billingsfarm.org/event/35th-annual-quilt-exhibition-2021-08-14/
CATEGORIES:Featured
ATTACH;FMTTYPE=image/jpeg:https://billingsfarm.org/wp/wp-content/uploads/2021/01/fiber-arts.jpg
END:VEVENT
BEGIN:VEVENT
DTSTART;TZID=America/New_York:20210815T100000
DTEND;TZID=America/New_York:20210815T170000
DTSTAMP:20260422T183140
CREATED:20210104T144641Z
LAST-MODIFIED:20210319T190431Z
UID:10002616-1629021600-1629046800@billingsfarm.org
SUMMARY:35th Annual Quilt Exhibition
DESCRIPTION:Explore the juried exhibition of locally-made quilts ONLINE & ONSITE. Enjoy quilting demonstrations and activities for all.
URL:https://billingsfarm.org/event/35th-annual-quilt-exhibition-2021-08-15/
CATEGORIES:Featured
ATTACH;FMTTYPE=image/jpeg:https://billingsfarm.org/wp/wp-content/uploads/2021/01/fiber-arts.jpg
END:VEVENT
BEGIN:VEVENT
DTSTART;TZID=America/New_York:20210816T100000
DTEND;TZID=America/New_York:20210816T113000
DTSTAMP:20260422T183140
CREATED:20210517T171150Z
LAST-MODIFIED:20210517T171150Z
UID:10002818-1629108000-1629113400@billingsfarm.org
SUMMARY:Billings Bookworms Week 6: How Chipmunk Got His Stripes
DESCRIPTION:Join the Billings Bookworms! From July 12 through August 16\, kids ages 6-8 are invited to Billings Farm & Museum each week to read about and explore a farm-themed topic. This is not just a book club! There are activities and crafts each week and Bookworms get to experience all the site has to offer. \nBillings Bookworms Week 6: How Chipmunk Got His Stripes \n10-10:30 Book reading and exploration. This week we’ll begin by reading How the Chipmunk Got His Stripes by Joseph Bruchac and James Bruchac\, a Native American folktale. Each Bookworm will then pick a passage that stands out to them and write or draw about it. Everyone will have the chance to share what they’ve written or drawn about the story. \n10:30-10:45 Snack time. Snack will be provided by Billings Farm & Museum. During snack we will complete the final chapter of Good Dog: Herd You Loud and Clear by Cam Higgins and Ariel Landy. Each week we will continue reading from this chapter book until it is finished on the last day of the club. The book is called Good Dog: Herd You Loud and Clear and is about a young herding dog working to bring in the sheep.  \n10:45-11:30 Activity time. Today our Bookworms will set out on the Billings Farm & Museum walking trail to identify native plants and learn about the indigenous concept of Seven Generations.  \nLearn more about Billings Bookworms and complete the application form. \nBillings Bookworms is for kids ages 6-8 \nOne session: $25 per participant/$20 per BF&M member\n6-week Series: $125 per participant/$100 per BF&M member. \nSpaces are limited!
URL:https://billingsfarm.org/event/billings-bookworms-week-6-how-chipmunk-got-his-stripes/
CATEGORIES:Featured
ATTACH;FMTTYPE=image/jpeg:https://billingsfarm.org/wp/wp-content/uploads/2021/05/how-chipmunk-got-his-stripes.jpg
END:VEVENT
BEGIN:VEVENT
DTSTART;TZID=America/New_York:20210816T100000
DTEND;TZID=America/New_York:20210816T170000
DTSTAMP:20260422T183140
CREATED:20210104T144641Z
LAST-MODIFIED:20210319T190518Z
UID:10002617-1629108000-1629133200@billingsfarm.org
SUMMARY:35th Annual Quilt Exhibition
DESCRIPTION:Explore the juried exhibition of locally-made quilts ONLINE & ONSITE. Enjoy quilting demonstrations and activities for all.
URL:https://billingsfarm.org/event/35th-annual-quilt-exhibition-2021-08-16/
CATEGORIES:Featured
ATTACH;FMTTYPE=image/jpeg:https://billingsfarm.org/wp/wp-content/uploads/2021/01/fiber-arts.jpg
END:VEVENT
BEGIN:VEVENT
DTSTART;TZID=America/New_York:20210816T100000
DTEND;TZID=America/New_York:20210816T170000
DTSTAMP:20260422T183140
CREATED:20210516T125517Z
LAST-MODIFIED:20210719T165241Z
UID:10002927-1629108000-1629133200@billingsfarm.org
SUMMARY:Mindful Monday
DESCRIPTION:Heighten your senses in our relaxing farm landscape in a 20-minute instructor-led mindfulness activity offered at 10:30\, 11:00\, and 11:30 am. Sample herbal tea and Billings Farm cheese from 11 am – 4 pm. Find inner peace with a mission-focused mantra\, complete with instructions\, available at the Ticket Desk. \nMindful Monday programs are included with admission to Billings Farm & Museum.
URL:https://billingsfarm.org/event/mindful-monday/2021-08-16/
CATEGORIES:Featured
ATTACH;FMTTYPE=image/jpeg:https://billingsfarm.org/wp/wp-content/uploads/2021/07/IMG_0862_small-e1626526601821.jpg
END:VEVENT
BEGIN:VEVENT
DTSTART;TZID=America/New_York:20210817T100000
DTEND;TZID=America/New_York:20210817T170000
DTSTAMP:20260422T183140
CREATED:20210104T144641Z
LAST-MODIFIED:20210319T190605Z
UID:10002618-1629194400-1629219600@billingsfarm.org
SUMMARY:35th Annual Quilt Exhibition
DESCRIPTION:Explore the juried exhibition of locally-made quilts ONLINE & ONSITE. Enjoy quilting demonstrations and activities for all.
URL:https://billingsfarm.org/event/35th-annual-quilt-exhibition-2021-08-17/
CATEGORIES:Featured
ATTACH;FMTTYPE=image/jpeg:https://billingsfarm.org/wp/wp-content/uploads/2021/01/fiber-arts.jpg
END:VEVENT
BEGIN:VEVENT
DTSTART;TZID=America/New_York:20210818T100000
DTEND;TZID=America/New_York:20210818T170000
DTSTAMP:20260422T183140
CREATED:20210104T144641Z
LAST-MODIFIED:20210319T190719Z
UID:10002619-1629280800-1629306000@billingsfarm.org
SUMMARY:35th Annual Quilt Exhibition
DESCRIPTION:Explore the juried exhibition of locally-made quilts ONLINE & ONSITE. Enjoy quilting demonstrations and activities for all.
URL:https://billingsfarm.org/event/35th-annual-quilt-exhibition-2021-08-18/
CATEGORIES:Featured
ATTACH;FMTTYPE=image/jpeg:https://billingsfarm.org/wp/wp-content/uploads/2021/01/fiber-arts.jpg
END:VEVENT
BEGIN:VEVENT
DTSTART;TZID=America/New_York:20210819T100000
DTEND;TZID=America/New_York:20210819T170000
DTSTAMP:20260422T183140
CREATED:20210104T144641Z
LAST-MODIFIED:20210319T190810Z
UID:10002620-1629367200-1629392400@billingsfarm.org
SUMMARY:35th Annual Quilt Exhibition
DESCRIPTION:Explore the juried exhibition of locally-made quilts ONLINE & ONSITE. Enjoy quilting demonstrations and activities for all.
URL:https://billingsfarm.org/event/35th-annual-quilt-exhibition-2021-08-19/
CATEGORIES:Featured
ATTACH;FMTTYPE=image/jpeg:https://billingsfarm.org/wp/wp-content/uploads/2021/01/fiber-arts.jpg
END:VEVENT
BEGIN:VEVENT
DTSTART;TZID=America/New_York:20210820T100000
DTEND;TZID=America/New_York:20210820T170000
DTSTAMP:20260422T183140
CREATED:20210104T144641Z
LAST-MODIFIED:20210319T190843Z
UID:10002621-1629453600-1629478800@billingsfarm.org
SUMMARY:35th Annual Quilt Exhibition
DESCRIPTION:Explore the juried exhibition of locally-made quilts ONLINE & ONSITE. Enjoy quilting demonstrations and activities for all.
URL:https://billingsfarm.org/event/35th-annual-quilt-exhibition-2021-08-20/
CATEGORIES:Featured
ATTACH;FMTTYPE=image/jpeg:https://billingsfarm.org/wp/wp-content/uploads/2021/01/fiber-arts.jpg
END:VEVENT
BEGIN:VEVENT
DTSTART;TZID=America/New_York:20210821T100000
DTEND;TZID=America/New_York:20210821T113000
DTSTAMP:20260422T183140
CREATED:20210517T141951Z
LAST-MODIFIED:20210517T171522Z
UID:10002809-1629540000-1629545400@billingsfarm.org
SUMMARY:Billings Backyard: Putting Your Garden to Bed
DESCRIPTION:After a great season of gardening\, how can you set yourself up for success next year? Master Gardener Ben Pauly will show you all the best practices to end your season well by putting your gardens to bed. Ben will also discuss the joys of autumn gardening\, and making the most of the growing season. Find more information at Billings Backyard: Putting Your Garden to Bed. \nA Q&A period with the presenter may continue for up to 30 minutes past the scheduled end time. \nBillings Backyard is a series of workshops designed to teach sustainable living skills to adult participants and is underwritten by a generous grant from the SpringRiver Private Foundation Trust. Each workshop includes hands-on demonstrations and concrete steps for incorporating these skills into everyday life.
URL:https://billingsfarm.org/event/billings-backyard-putting-your-garden-to-bed/
CATEGORIES:Featured
ATTACH;FMTTYPE=image/jpeg:https://billingsfarm.org/wp/wp-content/uploads/2021/01/fall-gardening-billings-farm.jpg
END:VEVENT
BEGIN:VEVENT
DTSTART;TZID=America/New_York:20210821T100000
DTEND;TZID=America/New_York:20210821T170000
DTSTAMP:20260422T183140
CREATED:20210104T144641Z
LAST-MODIFIED:20210319T190916Z
UID:10002622-1629540000-1629565200@billingsfarm.org
SUMMARY:35th Annual Quilt Exhibition
DESCRIPTION:Explore the juried exhibition of locally-made quilts ONLINE & ONSITE. Enjoy quilting demonstrations and activities for all.
URL:https://billingsfarm.org/event/35th-annual-quilt-exhibition-2021-08-21/
CATEGORIES:Featured
ATTACH;FMTTYPE=image/jpeg:https://billingsfarm.org/wp/wp-content/uploads/2021/01/fiber-arts.jpg
END:VEVENT
BEGIN:VEVENT
DTSTART;TZID=America/New_York:20210822T100000
DTEND;TZID=America/New_York:20210822T170000
DTSTAMP:20260422T183140
CREATED:20210104T144641Z
LAST-MODIFIED:20210319T185334Z
UID:10002623-1629626400-1629651600@billingsfarm.org
SUMMARY:35th Annual Quilt Exhibition
DESCRIPTION:Explore the juried exhibition of locally-made quilts ONLINE & ONSITE. Enjoy quilting demonstrations and activities for all.
URL:https://billingsfarm.org/event/35th-annual-quilt-exhibition-2021-08-22/
CATEGORIES:Featured
ATTACH;FMTTYPE=image/jpeg:https://billingsfarm.org/wp/wp-content/uploads/2021/01/fiber-arts.jpg
END:VEVENT
BEGIN:VEVENT
DTSTART;TZID=America/New_York:20210823T100000
DTEND;TZID=America/New_York:20210823T170000
DTSTAMP:20260422T183140
CREATED:20210516T125517Z
LAST-MODIFIED:20210719T165241Z
UID:10002928-1629712800-1629738000@billingsfarm.org
SUMMARY:Mindful Monday
DESCRIPTION:Heighten your senses in our relaxing farm landscape in a 20-minute instructor-led mindfulness activity offered at 10:30\, 11:00\, and 11:30 am. Sample herbal tea and Billings Farm cheese from 11 am – 4 pm. Find inner peace with a mission-focused mantra\, complete with instructions\, available at the Ticket Desk. \nMindful Monday programs are included with admission to Billings Farm & Museum.
URL:https://billingsfarm.org/event/mindful-monday/2021-08-23/
CATEGORIES:Featured
ATTACH;FMTTYPE=image/jpeg:https://billingsfarm.org/wp/wp-content/uploads/2021/07/IMG_0862_small-e1626526601821.jpg
END:VEVENT
BEGIN:VEVENT
DTSTART;TZID=America/New_York:20210828T100000
DTEND;TZID=America/New_York:20210828T170000
DTSTAMP:20260422T183140
CREATED:20210104T150134Z
LAST-MODIFIED:20210819T155932Z
UID:10002626-1630144800-1630170000@billingsfarm.org
SUMMARY:Pollination Celebration
DESCRIPTION:Pollinators – the bees\, butterflies\, birds and moths we see zipping from flower to flower in the summer – are integral for growing close to 90% of our food supply. Billings Farm & Museum’s Pollination Celebration on August 28 & 29\, 2021 highlights this big contribution from such small creatures with hands-on activities and interactive programs for all ages\, from 10AM-5PM both days. \n\nMeet local beekeepers from Hall Apiaries and Vermont Beekeepers Association.\nExplore the Sunflower House in full bloom and watch pollinators in action. Take the #VTSunflower House #SunflowerSelfie Instagram Challenge and win Billings Farm cheese!\nTake in a Garden Talk to hear from the talented Woodstock Inn & Resort gardening team who created the Sunflower House\, and learn how it supports pollinators.\nKids can try the Honeybee Dance and craft a Honeybee Headband.\nPlay lawn games and learn the meanings of Victorian Flower Language.\nFind some peaceful moments by following the Self-guided Meditative Walk along the Ottauquechee River Walking Trail.\nCool off with the Pollinator Ice Cream Special at the Dairy Bar: two scoops of vanilla ice cream with a honey berry drizzle\, topped with whipped cream! Vanilla\, honey and berries are all produced thanks to pollinators!\nSample Herbal Tea or Corn and Tomato Salad made with ingredients pollinated in the Billings Farm gardens.\nTake home Pollinator Recipes\, including our collection of recipes for delicious cocktails and mocktails using pollinated ingredients.\n\nPollination Celebration Schedule \n10:30 Learn Victorian Flower Language\n11:00 Honeybee Dance\n11:30 Meet a Beekeeper!\n12:30 Garden Talk\n1:00 Do the Honeybee Dance\n1:30 Meet a Beekeeper!\n2:30 Garden Talk\n3:00 Do the Honeybee Dance\n3:30 Learn Victorian Flower Language \nThe Dairy Bar is open 11-5.
URL:https://billingsfarm.org/event/pollination-celebration-2/2021-08-28/
CATEGORIES:Featured
ATTACH;FMTTYPE=image/jpeg:https://billingsfarm.org/wp/wp-content/uploads/2021/01/bee-on-flower.jpg
END:VEVENT
BEGIN:VEVENT
DTSTART;TZID=America/New_York:20210829T100000
DTEND;TZID=America/New_York:20210829T170000
DTSTAMP:20260422T183140
CREATED:20210104T150134Z
LAST-MODIFIED:20210819T155932Z
UID:10002627-1630231200-1630256400@billingsfarm.org
SUMMARY:Pollination Celebration
DESCRIPTION:Pollinators – the bees\, butterflies\, birds and moths we see zipping from flower to flower in the summer – are integral for growing close to 90% of our food supply. Billings Farm & Museum’s Pollination Celebration on August 28 & 29\, 2021 highlights this big contribution from such small creatures with hands-on activities and interactive programs for all ages\, from 10AM-5PM both days. \n\nMeet local beekeepers from Hall Apiaries and Vermont Beekeepers Association.\nExplore the Sunflower House in full bloom and watch pollinators in action. Take the #VTSunflower House #SunflowerSelfie Instagram Challenge and win Billings Farm cheese!\nTake in a Garden Talk to hear from the talented Woodstock Inn & Resort gardening team who created the Sunflower House\, and learn how it supports pollinators.\nKids can try the Honeybee Dance and craft a Honeybee Headband.\nPlay lawn games and learn the meanings of Victorian Flower Language.\nFind some peaceful moments by following the Self-guided Meditative Walk along the Ottauquechee River Walking Trail.\nCool off with the Pollinator Ice Cream Special at the Dairy Bar: two scoops of vanilla ice cream with a honey berry drizzle\, topped with whipped cream! Vanilla\, honey and berries are all produced thanks to pollinators!\nSample Herbal Tea or Corn and Tomato Salad made with ingredients pollinated in the Billings Farm gardens.\nTake home Pollinator Recipes\, including our collection of recipes for delicious cocktails and mocktails using pollinated ingredients.\n\nPollination Celebration Schedule \n10:30 Learn Victorian Flower Language\n11:00 Honeybee Dance\n11:30 Meet a Beekeeper!\n12:30 Garden Talk\n1:00 Do the Honeybee Dance\n1:30 Meet a Beekeeper!\n2:30 Garden Talk\n3:00 Do the Honeybee Dance\n3:30 Learn Victorian Flower Language \nThe Dairy Bar is open 11-5.
URL:https://billingsfarm.org/event/pollination-celebration-2/2021-08-29/
CATEGORIES:Featured
ATTACH;FMTTYPE=image/jpeg:https://billingsfarm.org/wp/wp-content/uploads/2021/01/bee-on-flower.jpg
END:VEVENT
BEGIN:VEVENT
DTSTART;TZID=America/New_York:20210830T100000
DTEND;TZID=America/New_York:20210830T170000
DTSTAMP:20260422T183140
CREATED:20210516T125517Z
LAST-MODIFIED:20210719T165241Z
UID:10002929-1630317600-1630342800@billingsfarm.org
SUMMARY:Mindful Monday
DESCRIPTION:Heighten your senses in our relaxing farm landscape in a 20-minute instructor-led mindfulness activity offered at 10:30\, 11:00\, and 11:30 am. Sample herbal tea and Billings Farm cheese from 11 am – 4 pm. Find inner peace with a mission-focused mantra\, complete with instructions\, available at the Ticket Desk. \nMindful Monday programs are included with admission to Billings Farm & Museum.
URL:https://billingsfarm.org/event/mindful-monday/2021-08-30/
CATEGORIES:Featured
ATTACH;FMTTYPE=image/jpeg:https://billingsfarm.org/wp/wp-content/uploads/2021/07/IMG_0862_small-e1626526601821.jpg
END:VEVENT
BEGIN:VEVENT
DTSTART;TZID=America/New_York:20210911T100000
DTEND;TZID=America/New_York:20210911T113000
DTSTAMP:20260422T183140
CREATED:20210517T142907Z
LAST-MODIFIED:20210902T172735Z
UID:10002810-1631354400-1631359800@billingsfarm.org
SUMMARY:Billings Backyard: Making Jam with Chef Emery
DESCRIPTION:Don’t get in a jam with this year’s harvest! Learn how to turn your bounty into something delicious and new! \nJams can include many more ingredients than just fruits from the orchard or garden. Follow along as Chef Emery demonstrates how to make your own unique blend of sweet and savory jams. Recipes covered will include: \n\nTomato White Peach Jam\nCarrot Cake Jam\nMaple Bacon Jam\n\nDiscover how easy and fun it is to make your own jam and learn how to incorporate jam into your cooking in ways you might not have thought of before. \nThis presentation is offered at Billings Farm & Museum and is followed by a 30-minute Q&A period. The workshop costs $15/person; $10/BF&M Member. Space is limited! Reserve your spot before September 10th\, at www.billingsfarm.org/classes-workshops/ or call 802-457-2355. \nVisiting safely. For the continued safety of our staff and guests\, all guests over the age of 2 are required to wear a face covering in all indoor spaces. For outdoor spaces\, mask wearing is optional for fully-vaccinated persons; unvaccinated persons must wear masks when around people and unable to maintain 6’ physical distances. No entry is permitted without a face covering. Visit billingsfarm.org/safety for details. \nAbout Chef Emery. Emery Gray\, Farm to Table Manager at Billings Farm & Museum and former Pastry Chef de Partie at the Woodstock Inn and Resort\, had a passion for food at a very young age. Seeing the way that people connected through the growing\, sharing and cooking of food\, inspired her to make a career in the kitchen. She attended The Culinary Institute of America in Hyde Park\, NY\, earning her Associates Degree in Baking and Pastry Arts and her Bachelor’s in Business Management. Traveling the country and the world has translated into a deep appreciation for sustainability of local food systems\, and all types of outdoor pursuits year-round. \nBillings Backyard is a series of workshops designed to teach sustainable living skills to adult participants and is underwritten by a generous grant from the SpringRiver Private Foundation Trust. Each workshop includes hands-on demonstrations and concrete steps for incorporating these skills into everyday life. Upcoming workshops: \nNovember 13: Homemade Felted Soap with Fiber Artist\, Tiana St. James \nDecember 4: Holiday Gifts from the Kitchen with Billings Farm’s Chef Emery
URL:https://billingsfarm.org/event/billings-backyard-making-jam-with-chef-emery/
CATEGORIES:Featured
ATTACH;FMTTYPE=image/jpeg:https://billingsfarm.org/wp/wp-content/uploads/2021/08/Tomato-Peach-Jam.jpg
END:VEVENT
END:VCALENDAR