BEGIN:VCALENDAR
VERSION:2.0
PRODID:-//Billings Farm - ECPv6.15.15//NONSGML v1.0//EN
CALSCALE:GREGORIAN
METHOD:PUBLISH
X-WR-CALNAME:Billings Farm
X-ORIGINAL-URL:https://billingsfarm.org
X-WR-CALDESC:Events for Billings Farm
REFRESH-INTERVAL;VALUE=DURATION:PT1H
X-Robots-Tag:noindex
X-PUBLISHED-TTL:PT1H
BEGIN:VTIMEZONE
TZID:America/New_York
BEGIN:DAYLIGHT
TZOFFSETFROM:-0500
TZOFFSETTO:-0400
TZNAME:EDT
DTSTART:20210314T070000
END:DAYLIGHT
BEGIN:STANDARD
TZOFFSETFROM:-0400
TZOFFSETTO:-0500
TZNAME:EST
DTSTART:20211107T060000
END:STANDARD
BEGIN:DAYLIGHT
TZOFFSETFROM:-0500
TZOFFSETTO:-0400
TZNAME:EDT
DTSTART:20220313T070000
END:DAYLIGHT
BEGIN:STANDARD
TZOFFSETFROM:-0400
TZOFFSETTO:-0500
TZNAME:EST
DTSTART:20221106T060000
END:STANDARD
BEGIN:DAYLIGHT
TZOFFSETFROM:-0500
TZOFFSETTO:-0400
TZNAME:EDT
DTSTART:20230312T070000
END:DAYLIGHT
BEGIN:STANDARD
TZOFFSETFROM:-0400
TZOFFSETTO:-0500
TZNAME:EST
DTSTART:20231105T060000
END:STANDARD
END:VTIMEZONE
BEGIN:VEVENT
DTSTART;TZID=America/New_York:20220727T093000
DTEND;TZID=America/New_York:20220727T110000
DTSTAMP:20260421T155201
CREATED:20220610T133806Z
LAST-MODIFIED:20220610T210026Z
UID:10002937-1658914200-1658919600@billingsfarm.org
SUMMARY:Pre K Story Time
DESCRIPTION:Wednesdays during the month of July\nTime: 9:30AM – 11:00AM\nPer Session Price:  $12/child\, $10/member child \nRegister for July sessions today! \nThis program is designed for preschool aged children (3-5) and an adult companion. Each week will include a different theme that connects the stories with crafts and farm activities. A snack is included. View the weekly selection of books and activities \nOne adult admitted free with paid child. Adult attendance required. Guests who want to visit site after must purchase admission.
URL:https://billingsfarm.org/event/pre-k-storytime-2/2022-07-27/
CATEGORIES:Featured
ATTACH;FMTTYPE=image/jpeg:https://billingsfarm.org/wp/wp-content/uploads/2022/06/PreK-Story-Time.jpeg
END:VEVENT
BEGIN:VEVENT
DTSTART;VALUE=DATE:20220728
DTEND;VALUE=DATE:20220729
DTSTAMP:20260421T155201
CREATED:20220715T164052Z
LAST-MODIFIED:20220715T164053Z
UID:10000405-1658966400-1659052799@billingsfarm.org
SUMMARY:Today's Schedule: Thursday Threads
DESCRIPTION:
URL:https://billingsfarm.org/event/todays-schedule-thursday-threads-2/
LOCATION:Billings Farm and Museum\, 69 Old River Rd\, Woodstock\, VT\, 05091\, United States
CATEGORIES:Featured
ATTACH;FMTTYPE=image/jpeg:https://billingsfarm.org/wp/wp-content/uploads/2022/07/7-28.jpg
END:VEVENT
BEGIN:VEVENT
DTSTART;VALUE=DATE:20220729
DTEND;VALUE=DATE:20220730
DTSTAMP:20260421T155201
CREATED:20220715T164129Z
LAST-MODIFIED:20220715T164129Z
UID:10000406-1659052800-1659139199@billingsfarm.org
SUMMARY:Today's Schedule: Foodie Friday
DESCRIPTION:
URL:https://billingsfarm.org/event/todays-schedule-foodie-friday-2/
LOCATION:Billings Farm and Museum\, 69 Old River Rd\, Woodstock\, VT\, 05091\, United States
CATEGORIES:Featured
ATTACH;FMTTYPE=image/jpeg:https://billingsfarm.org/wp/wp-content/uploads/2022/07/7-29.jpg
END:VEVENT
BEGIN:VEVENT
DTSTART;VALUE=DATE:20220730
DTEND;VALUE=DATE:20220731
DTSTAMP:20260421T155201
CREATED:20220715T164159Z
LAST-MODIFIED:20220730T142213Z
UID:10000407-1659139200-1659225599@billingsfarm.org
SUMMARY:Today's Schedule
DESCRIPTION:
URL:https://billingsfarm.org/event/todays-schedule-4/
LOCATION:Billings Farm and Museum\, 69 Old River Rd\, Woodstock\, VT\, 05091\, United States
CATEGORIES:Featured
ATTACH;FMTTYPE=image/jpeg:https://billingsfarm.org/wp/wp-content/uploads/2022/07/7-30-scaled.jpg
END:VEVENT
BEGIN:VEVENT
DTSTART;TZID=America/New_York:20220730T140000
DTEND;TZID=America/New_York:20220730T153000
DTSTAMP:20260421T155201
CREATED:20220512T201235Z
LAST-MODIFIED:20220714T163858Z
UID:10002998-1659189600-1659195000@billingsfarm.org
SUMMARY:Yankee Brass Band
DESCRIPTION:Since 1987\, the Yankee Brass Band has both entertained audiences throughout New England and championed the cause of “historically informed performance” within the field of American band music. 2022 marks their 35th season. \nUsing rare and authentic period instruments\, and outfitted in appropriate uniforms\, the Yankee Brass Band presents the music of the “Golden Age of Bands” played in much the same manner as in the mid to late 19th century. \nEnjoy this lively performance from 2PM-3:30PM. Admission to Billings Farm & Museum required. \n 
URL:https://billingsfarm.org/event/yankee-brass-band/
CATEGORIES:Featured
ATTACH;FMTTYPE=image/jpeg:https://billingsfarm.org/wp/wp-content/uploads/2022/05/Yankee-Brass-Band.jpg
END:VEVENT
BEGIN:VEVENT
DTSTART;VALUE=DATE:20220731
DTEND;VALUE=DATE:20220801
DTSTAMP:20260421T155201
CREATED:20220715T164227Z
LAST-MODIFIED:20220719T170833Z
UID:10000408-1659225600-1659311999@billingsfarm.org
SUMMARY:Today's Schedule
DESCRIPTION:
URL:https://billingsfarm.org/event/todays-schedule-5/
LOCATION:Billings Farm and Museum\, 69 Old River Rd\, Woodstock\, VT\, 05091\, United States
CATEGORIES:Featured
END:VEVENT
BEGIN:VEVENT
DTSTART;VALUE=DATE:20220801
DTEND;VALUE=DATE:20220802
DTSTAMP:20260421T155201
CREATED:20220729T170631Z
LAST-MODIFIED:20220801T200011Z
UID:10000410-1659312000-1659398399@billingsfarm.org
SUMMARY:Today's Schedule: Mindful Monday
DESCRIPTION:
URL:https://billingsfarm.org/event/todays-schedule-mindful-monday-2/
LOCATION:Billings Farm and Museum\, 69 Old River Rd\, Woodstock\, VT\, 05091\, United States
CATEGORIES:Featured
ATTACH;FMTTYPE=image/jpeg:https://billingsfarm.org/wp/wp-content/uploads/2022/07/8-1-1.jpg
END:VEVENT
BEGIN:VEVENT
DTSTART;VALUE=DATE:20220802
DTEND;VALUE=DATE:20220803
DTSTAMP:20260421T155201
CREATED:20220729T170722Z
LAST-MODIFIED:20220801T195941Z
UID:10000411-1659398400-1659484799@billingsfarm.org
SUMMARY:Today's Schedule: Time Travel Tuesday
DESCRIPTION:
URL:https://billingsfarm.org/event/todays-schedule-time-travel-tuesday-3/
LOCATION:Billings Farm and Museum\, 69 Old River Rd\, Woodstock\, VT\, 05091\, United States
CATEGORIES:Featured
ATTACH;FMTTYPE=image/jpeg:https://billingsfarm.org/wp/wp-content/uploads/2022/07/8-2-1.jpg
END:VEVENT
BEGIN:VEVENT
DTSTART;TZID=America/New_York:20220803T080000
DTEND;TZID=America/New_York:20220803T170000
DTSTAMP:20260421T155201
CREATED:20220729T170822Z
LAST-MODIFIED:20220801T195859Z
UID:10000412-1659513600-1659546000@billingsfarm.org
SUMMARY:Today's Schedule: Wagon Ride Wednesday
DESCRIPTION:
URL:https://billingsfarm.org/event/todays-schedule-wagon-ride-wednesday-3/
LOCATION:Billings Farm and Museum\, 69 Old River Rd\, Woodstock\, VT\, 05091\, United States
CATEGORIES:Featured
ATTACH;FMTTYPE=image/jpeg:https://billingsfarm.org/wp/wp-content/uploads/2022/07/8-3-1.jpg
END:VEVENT
BEGIN:VEVENT
DTSTART;TZID=America/New_York:20220803T173000
DTEND;TZID=America/New_York:20220803T190000
DTSTAMP:20260421T155201
CREATED:20220708T150822Z
LAST-MODIFIED:20220714T163104Z
UID:10000391-1659547800-1659553200@billingsfarm.org
SUMMARY:Farm & Forest Book Club
DESCRIPTION:Find a welcoming atmosphere in which to gather and discuss texts about agriculture\, land stewardship\, and the notion of what makes a place a place in the Farm & Forest Book Club\, launched through a collaboration between Billings Farm & Museum and the Marsh-Billings-Rockefeller National Historical Park.  \nIn August we will gather to discuss “My Garden (Book)” by Jamaica Kincaid\, a Vermont author who talks about her childhood\, family\, and history through the realm of gardening. Tour the new Billings Farm Farmstead Gardens and sample fresh produce picked from the garden. \nLight refreshments will be served including Billings Farm Butter\, Smoked and Woodstock Reserve cheddar cheeses\, crackers\, and herbal tea. \nAges 14+ welcome. Each session is $5/person. \nRegister Today\nThe book club will continue with “Reading the Forested Landscape” by Tom Wessels on September 7 with a discussion led by Park Rangers at the National Historical Park. Additional meetings will take place on November 9\, and January 11.
URL:https://billingsfarm.org/event/farm-forest-book-club/
LOCATION:Billings Farm and Museum\, 69 Old River Rd\, Woodstock\, VT\, 05091\, United States
CATEGORIES:Featured
ATTACH;FMTTYPE=image/jpeg:https://billingsfarm.org/wp/wp-content/uploads/2022/07/My-Garden_Kincaid-copy.jpg
END:VEVENT
BEGIN:VEVENT
DTSTART;VALUE=DATE:20220804
DTEND;VALUE=DATE:20220805
DTSTAMP:20260421T155201
CREATED:20220729T170917Z
LAST-MODIFIED:20220801T195819Z
UID:10000413-1659571200-1659657599@billingsfarm.org
SUMMARY:Today's Schedule: Thursday Threads
DESCRIPTION:
URL:https://billingsfarm.org/event/todays-schedule-thursday-threads-3/
LOCATION:Billings Farm and Museum\, 69 Old River Rd\, Woodstock\, VT\, 05091\, United States
CATEGORIES:Featured
ATTACH;FMTTYPE=image/jpeg:https://billingsfarm.org/wp/wp-content/uploads/2022/07/8-4-1.jpg
END:VEVENT
BEGIN:VEVENT
DTSTART;VALUE=DATE:20220805
DTEND;VALUE=DATE:20220806
DTSTAMP:20260421T155201
CREATED:20220729T175725Z
LAST-MODIFIED:20220801T195741Z
UID:10000414-1659657600-1659743999@billingsfarm.org
SUMMARY:Today's Schedule: Foodie Friday
DESCRIPTION:
URL:https://billingsfarm.org/event/todays-schedule-foodie-friday-3/
LOCATION:Billings Farm and Museum\, 69 Old River Rd\, Woodstock\, VT\, 05091\, United States
CATEGORIES:Featured
ATTACH;FMTTYPE=image/jpeg:https://billingsfarm.org/wp/wp-content/uploads/2022/07/8-5-1.jpg
END:VEVENT
BEGIN:VEVENT
DTSTART;VALUE=DATE:20220806
DTEND;VALUE=DATE:20220807
DTSTAMP:20260421T155201
CREATED:20220729T175804Z
LAST-MODIFIED:20220801T195701Z
UID:10000415-1659744000-1659830399@billingsfarm.org
SUMMARY:Today's Schedule
DESCRIPTION:
URL:https://billingsfarm.org/event/todays-schedule-6/
LOCATION:Billings Farm and Museum\, 69 Old River Rd\, Woodstock\, VT\, 05091\, United States
CATEGORIES:Featured
ATTACH;FMTTYPE=image/jpeg:https://billingsfarm.org/wp/wp-content/uploads/2022/07/8-6-1.jpg
END:VEVENT
BEGIN:VEVENT
DTSTART;VALUE=DATE:20220807
DTEND;VALUE=DATE:20220808
DTSTAMP:20260421T155201
CREATED:20220729T175904Z
LAST-MODIFIED:20220729T175905Z
UID:10000416-1659830400-1659916799@billingsfarm.org
SUMMARY:Today's Schedule: Antique Tractor Day
DESCRIPTION:
URL:https://billingsfarm.org/event/todays-schedule-antique-tractor-day/
LOCATION:Billings Farm and Museum\, 69 Old River Rd\, Woodstock\, VT\, 05091\, United States
CATEGORIES:Featured
ATTACH;FMTTYPE=image/jpeg:https://billingsfarm.org/wp/wp-content/uploads/2022/07/8-7-Antique-Tractor-Day.jpg
END:VEVENT
BEGIN:VEVENT
DTSTART;VALUE=DATE:20220808
DTEND;VALUE=DATE:20220809
DTSTAMP:20260421T155201
CREATED:20220729T175951Z
LAST-MODIFIED:20220801T195534Z
UID:10000417-1659916800-1660003199@billingsfarm.org
SUMMARY:Today's Schedule: Mindful Monday
DESCRIPTION:
URL:https://billingsfarm.org/event/todays-schedule-mindful-monday-3/
LOCATION:Billings Farm and Museum\, 69 Old River Rd\, Woodstock\, VT\, 05091\, United States
CATEGORIES:Featured
ATTACH;FMTTYPE=image/jpeg:https://billingsfarm.org/wp/wp-content/uploads/2022/07/8-8-1.jpg
END:VEVENT
BEGIN:VEVENT
DTSTART;TZID=America/New_York:20220809T100000
DTEND;TZID=America/New_York:20220809T170000
DTSTAMP:20260421T155201
CREATED:20220729T180030Z
LAST-MODIFIED:20220809T165614Z
UID:10000418-1660039200-1660064400@billingsfarm.org
SUMMARY:Today's Schedule: Time Travel Tuesday
DESCRIPTION:
URL:https://billingsfarm.org/event/todays-schedule-time-travel-tuesday-4/
LOCATION:Billings Farm and Museum\, 69 Old River Rd\, Woodstock\, VT\, 05091\, United States
CATEGORIES:Featured
ATTACH;FMTTYPE=image/jpeg:https://billingsfarm.org/wp/wp-content/uploads/2022/07/8-9-1.jpg
END:VEVENT
BEGIN:VEVENT
DTSTART;TZID=America/New_York:20220810T100000
DTEND;TZID=America/New_York:20220810T170000
DTSTAMP:20260421T155201
CREATED:20220729T180122Z
LAST-MODIFIED:20220809T165652Z
UID:10000419-1660125600-1660150800@billingsfarm.org
SUMMARY:Today's Schedule: Wagon Ride Wednesday
DESCRIPTION:
URL:https://billingsfarm.org/event/todays-schedule-wagon-ride-wednesday-4/
LOCATION:Billings Farm and Museum\, 69 Old River Rd\, Woodstock\, VT\, 05091\, United States
CATEGORIES:Featured
ATTACH;FMTTYPE=image/jpeg:https://billingsfarm.org/wp/wp-content/uploads/2022/07/8-10-1.jpg
END:VEVENT
BEGIN:VEVENT
DTSTART;TZID=America/New_York:20220811T100000
DTEND;TZID=America/New_York:20220811T170000
DTSTAMP:20260421T155201
CREATED:20220729T180216Z
LAST-MODIFIED:20220809T165726Z
UID:10000420-1660212000-1660237200@billingsfarm.org
SUMMARY:Today's Schedule: Thursday Threads
DESCRIPTION:
URL:https://billingsfarm.org/event/todays-schedule-thursday-threads-4/
LOCATION:Billings Farm and Museum\, 69 Old River Rd\, Woodstock\, VT\, 05091\, United States
CATEGORIES:Featured
ATTACH;FMTTYPE=image/jpeg:https://billingsfarm.org/wp/wp-content/uploads/2022/07/8-11-1.jpg
END:VEVENT
BEGIN:VEVENT
DTSTART;TZID=America/New_York:20220812T100000
DTEND;TZID=America/New_York:20220812T170000
DTSTAMP:20260421T155201
CREATED:20220729T180308Z
LAST-MODIFIED:20220812T135722Z
UID:10000421-1660298400-1660323600@billingsfarm.org
SUMMARY:Today's Schedule: Foodie Friday
DESCRIPTION:
URL:https://billingsfarm.org/event/todays-schedule-foodie-friday-4/
LOCATION:Billings Farm and Museum\, 69 Old River Rd\, Woodstock\, VT\, 05091\, United States
CATEGORIES:Featured
ATTACH;FMTTYPE=image/jpeg:https://billingsfarm.org/wp/wp-content/uploads/2022/07/8-12-2-scaled-e1660312630828.jpg
END:VEVENT
BEGIN:VEVENT
DTSTART;TZID=America/New_York:20220812T170000
DTEND;TZID=America/New_York:20220812T193000
DTSTAMP:20260421T155201
CREATED:20220624T151613Z
LAST-MODIFIED:20220831T155319Z
UID:10000383-1660323600-1660332600@billingsfarm.org
SUMMARY:Moos & Brews & Cocktails Too!
DESCRIPTION:Join us as the farm comes alive with music\, food\, local craft brews\, cocktails and moos!  Get to know our famous Jersey Moos and enjoy tastings featuring Outer Limits Brewing and SILO Distillery. \nLocal musicians Em and Nat will entertain the crowd with their Classic Rock sound. Food options include traditional American BBQ for purchase from the Wicked Awesome BBQ Food Truck and delicious Vermont-made ice cream and Billings Snack Packs with cheese\, fruit\, crackers\, and other savory items at the Farmhouse Café. \nTake your picture with a cow\, get up close with an adorable calf\, and receive lots of loving cow kisses.  Learn Jersey cow fun facts and even details about our cows’ personalities. Try your hand at butter churning or giant bubble making with Billings Farm’s Artist-in-Residence Margaret Dwyer. \nStroll through the beautiful Farmstead Gardens and explore the living floral labyrinth made of hundreds of blooms in the Sunflower House. \n*Must be 21 or older to attend. Infants and children will not be admitted. Please bring a valid photo ID to enter the event. IDs will be checked at the Visitor Center Entrance. \n Purchase Tickets in advance!\n$25 person/$20 member. Includes two tasting tickets with additional libations available for purchase.\n \nTickets are non-refundable.
URL:https://billingsfarm.org/event/moos-brews/
LOCATION:Billings Farm and Museum\, 69 Old River Rd\, Woodstock\, VT\, 05091\, United States
CATEGORIES:Featured
ATTACH;FMTTYPE=image/jpeg:https://billingsfarm.org/wp/wp-content/uploads/2022/06/moos-and-brews-adult-programs-at-billings-farm-and-museum.jpg
END:VEVENT
BEGIN:VEVENT
DTSTART;TZID=America/New_York:20220813T100000
DTEND;TZID=America/New_York:20220813T170000
DTSTAMP:20260421T155201
CREATED:20220729T180343Z
LAST-MODIFIED:20220812T135816Z
UID:10000422-1660384800-1660410000@billingsfarm.org
SUMMARY:Today's Schedule
DESCRIPTION:
URL:https://billingsfarm.org/event/todays-schedule-7/
LOCATION:Billings Farm and Museum\, 69 Old River Rd\, Woodstock\, VT\, 05091\, United States
CATEGORIES:Featured
ATTACH;FMTTYPE=image/jpeg:https://billingsfarm.org/wp/wp-content/uploads/2022/07/8-13-1.jpg
END:VEVENT
BEGIN:VEVENT
DTSTART;TZID=America/New_York:20220814T100000
DTEND;TZID=America/New_York:20220814T170000
DTSTAMP:20260421T155201
CREATED:20220729T180416Z
LAST-MODIFIED:20220812T135920Z
UID:10000423-1660471200-1660496400@billingsfarm.org
SUMMARY:Today's Schedule
DESCRIPTION:
URL:https://billingsfarm.org/event/todays-schedule-8/
LOCATION:Billings Farm and Museum\, 69 Old River Rd\, Woodstock\, VT\, 05091\, United States
CATEGORIES:Featured
ATTACH;FMTTYPE=image/jpeg:https://billingsfarm.org/wp/wp-content/uploads/2022/07/8-13-1.jpg
END:VEVENT
BEGIN:VEVENT
DTSTART;TZID=America/New_York:20220815T100000
DTEND;TZID=America/New_York:20220815T170000
DTSTAMP:20260421T155201
CREATED:20220809T174725Z
LAST-MODIFIED:20220809T174726Z
UID:10000424-1660557600-1660582800@billingsfarm.org
SUMMARY:Today's Schedule: Mindful Monday
DESCRIPTION:
URL:https://billingsfarm.org/event/todays-schedule-mindful-monday-4/
LOCATION:Billings Farm and Museum\, 69 Old River Rd\, Woodstock\, VT\, 05091\, United States
CATEGORIES:Featured
ATTACH;FMTTYPE=image/jpeg:https://billingsfarm.org/wp/wp-content/uploads/2022/08/8-15.jpg
END:VEVENT
BEGIN:VEVENT
DTSTART;TZID=America/New_York:20220816T100000
DTEND;TZID=America/New_York:20220816T170000
DTSTAMP:20260421T155201
CREATED:20220809T174813Z
LAST-MODIFIED:20220809T174813Z
UID:10000425-1660644000-1660669200@billingsfarm.org
SUMMARY:Today's Schedule: Time Travel Tuesday
DESCRIPTION:
URL:https://billingsfarm.org/event/todays-schedule-time-travel-tuesday-5/
LOCATION:Billings Farm and Museum\, 69 Old River Rd\, Woodstock\, VT\, 05091\, United States
CATEGORIES:Featured
ATTACH;FMTTYPE=image/jpeg:https://billingsfarm.org/wp/wp-content/uploads/2022/08/8-16.jpg
END:VEVENT
BEGIN:VEVENT
DTSTART;TZID=America/New_York:20220817T100000
DTEND;TZID=America/New_York:20220817T170000
DTSTAMP:20260421T155201
CREATED:20220809T174853Z
LAST-MODIFIED:20220809T174854Z
UID:10000426-1660730400-1660755600@billingsfarm.org
SUMMARY:Today's Schedule: Wagon Ride Wednesday
DESCRIPTION:
URL:https://billingsfarm.org/event/todays-schedule-wagon-ride-wednesday-5/
LOCATION:Billings Farm and Museum\, 69 Old River Rd\, Woodstock\, VT\, 05091\, United States
CATEGORIES:Featured
ATTACH;FMTTYPE=image/jpeg:https://billingsfarm.org/wp/wp-content/uploads/2022/08/8-17.jpg
END:VEVENT
BEGIN:VEVENT
DTSTART;TZID=America/New_York:20220817T173000
DTEND;TZID=America/New_York:20220817T193000
DTSTAMP:20260421T155201
CREATED:20220624T153858Z
LAST-MODIFIED:20220707T175539Z
UID:10000385-1660757400-1660764600@billingsfarm.org
SUMMARY:Sunflower’s Splendor Watercolor Workshop
DESCRIPTION:Capture the sunflower’s magnificent blooms in watercolor as they reach their peak in the Billings Farm Sunflower House. This workshop\, led by Artist-in-Residence\, Margaret Dwyer\, is designed for painters of all levels. Sunflowers are the perfect subject for this medium because they are so bright and bold and the class will focus on the importance of brushwork and mark making. The most challenging aspect will be choosing a favorite bloom.  \nThis workshop is $65/person\, $60/members with materials included. Advanced registration is recommended. Register now! \nAbout the Artist: \nMargaret Dwyer earned her Master of Fine Art degree in Visual Arts in 2008 from Vermont College of Fine Arts. Her thesis work involved researching\, writing\, and creating art based on psychological themes such as trauma\, dreams\, and the unconscious. She works in 2-D and 3-D mediums\, though watercolor is her favorite. Her artwork has been recognized in numerous juried national and international exhibitions and has been published in fine art books and magazines. From 2019 to 2021\, Margaret was the Artist in Residence for Marsh Billings Rockefeller National Historical Park in Woodstock\, VT. As a mural artist\, she has created dozens of public and private murals throughout New England. Currently\, she teaches art at her studio in Winsor\, VT. To view her work\, visit MargaretDwyerArtist.com. \nSafety Policy: For the continued safety of our staff and guests\, wearing a face mask is encouraged and very much appreciated in our indoor spaces. If you have symptoms of a respiratory illness please wear a mask or consider visiting another time. \nCancellation Policy: There are often waitlists for our workshops\, so please let us know in advance if you are unable to attend. Refunds are available up to 7 days before the class is held. There are no refunds within 7 days.
URL:https://billingsfarm.org/event/sunflowers-splendor-watercolor-workshop/
LOCATION:Billings Farm and Museum\, 69 Old River Rd\, Woodstock\, VT\, 05091\, United States
CATEGORIES:Featured
ATTACH;FMTTYPE=image/jpeg:https://billingsfarm.org/wp/wp-content/uploads/2022/06/sunflowers-copy-1.jpg
END:VEVENT
BEGIN:VEVENT
DTSTART;TZID=America/New_York:20220818T100000
DTEND;TZID=America/New_York:20220818T170000
DTSTAMP:20260421T155201
CREATED:20220809T174935Z
LAST-MODIFIED:20220809T174936Z
UID:10000427-1660816800-1660842000@billingsfarm.org
SUMMARY:Today's Schedule: Thursday Threads
DESCRIPTION:
URL:https://billingsfarm.org/event/todays-schedule-thursday-threads-5/
LOCATION:Billings Farm and Museum\, 69 Old River Rd\, Woodstock\, VT\, 05091\, United States
CATEGORIES:Featured
ATTACH;FMTTYPE=image/jpeg:https://billingsfarm.org/wp/wp-content/uploads/2022/08/8-18.jpg
END:VEVENT
BEGIN:VEVENT
DTSTART;TZID=America/New_York:20220819T100000
DTEND;TZID=America/New_York:20220819T170000
DTSTAMP:20260421T155201
CREATED:20220809T175013Z
LAST-MODIFIED:20220809T175013Z
UID:10000428-1660903200-1660928400@billingsfarm.org
SUMMARY:Today's Schedule: Foodie Friday
DESCRIPTION:
URL:https://billingsfarm.org/event/todays-schedule-foodie-friday-5/
LOCATION:Billings Farm and Museum\, 69 Old River Rd\, Woodstock\, VT\, 05091\, United States
CATEGORIES:Featured
ATTACH;FMTTYPE=image/jpeg:https://billingsfarm.org/wp/wp-content/uploads/2022/08/8-19.jpg
END:VEVENT
BEGIN:VEVENT
DTSTART;TZID=America/New_York:20220820T100000
DTEND;TZID=America/New_York:20220820T113000
DTSTAMP:20260421T155201
CREATED:20210514T202217Z
LAST-MODIFIED:20220802T210722Z
UID:10002806-1660989600-1660995000@billingsfarm.org
SUMMARY:Late-Season Pollinator Care and Beekeeping
DESCRIPTION:Saturday\, August 20\, 10:00-11:30\n\nPrice:  $15 person/$10 member\nPresenter: Troy Hall\nLocation: On site at Billings Farm & Museum \nRegister Today!\nHall Apiaries founder Troy Hall returns to Billings Farm & Museum for this late season Beekeeping & Pollinator Care workshop. Learn how to support a late-season honey harvest\, how to winterize your hives\, and preserve late-season food sources. \nA Q&A period with the presenter may continue for up to 30 minutes past the scheduled end time. \nAbout Troy Hall \nWhat started as a hobby with no aspirations or desire to be anything more than that has turned into a full-time occupation and passion of mine. Growing up as a native to the Upper Valley Region of New Hampshire and Vermont\, I had no idea that one could make a peaceful living from working with bees. In time\, becoming more knowledgeable in the craft I befriended two commercial beekeepers from the Champlain Valley region of Vermont. Visiting their apiaries and working alongside them gave me insight into a world that I quickly fell in love with\, living and working alongside the honey bee. \nGleaning from what I had learned and experienced\, in 2010 I was driven and motivated to start down the path of growing my avocation with beekeeping into my vocation. It has been anything but easy. Lots of hard work with no pay\, often seeing and experiencing failure and setbacks for the first few years. Especially when I decided to wean the apiary off of ALL and ANY treatments for mites and other ailments. Being that from the beginning\, with the paradigm that I had chosen to run the apiary off of I was able to experience large colony mortality rates every winter\, and still be sustaining growth and profitability in the next season\, all from within the apiary itself. Looking back I am continually humbled by working alongside the honey bee. I often underestimate her vigor\, hard work and resilience to the environment that surrounds her. Looking forward I am hopeful and extremely blessed to have the opportunity to work alongside such a complex and amazing creature. \n\nBillings Backyard is a series of workshops designed to teach sustainable living skills to adult participants and is underwritten by a generous grant from the SpringRiver Private Foundation Trust. Each workshop includes hands-on demonstrations and concrete steps for incorporating these skills into everyday life. Find more Billings Backyard Series workshops \nSafety Policy: For the continued safety of our staff and guests\, wearing a face mask is encouraged and very much appreciated in our indoor spaces. If you have symptoms of a respiratory illness please wear a mask or consider visiting another time. \nCancellation Policy: There are often waitlists for our workshops\, so please let us know in advance if you are unable to attend. Refunds are available up to 14 days before the class is held. There are no refunds within 14 days.
URL:https://billingsfarm.org/event/late-season-pollinator-care-and-beekeeping/
LOCATION:Billings Farm and Museum\, 69 Old River Rd\, Woodstock\, VT\, 05091\, United States
CATEGORIES:Featured
ATTACH;FMTTYPE=image/jpeg:https://billingsfarm.org/wp/wp-content/uploads/2021/05/Troy-Hall-1.jpg
END:VEVENT
BEGIN:VEVENT
DTSTART;TZID=America/New_York:20220820T100000
DTEND;TZID=America/New_York:20220820T163000
DTSTAMP:20260421T155201
CREATED:20220809T175048Z
LAST-MODIFIED:20220819T204045Z
UID:10000429-1660989600-1661013000@billingsfarm.org
SUMMARY:Today's Schedule
DESCRIPTION:
URL:https://billingsfarm.org/event/todays-schedule-9/
LOCATION:Billings Farm and Museum\, 69 Old River Rd\, Woodstock\, VT\, 05091\, United States
CATEGORIES:Featured
ATTACH;FMTTYPE=image/jpeg:https://billingsfarm.org/wp/wp-content/uploads/2022/08/8-20-2-scaled-e1660941629681.jpg
END:VEVENT
END:VCALENDAR