BEGIN:VCALENDAR
VERSION:2.0
PRODID:-//Billings Farm - ECPv6.15.15//NONSGML v1.0//EN
CALSCALE:GREGORIAN
METHOD:PUBLISH
X-WR-CALNAME:Billings Farm
X-ORIGINAL-URL:https://billingsfarm.org
X-WR-CALDESC:Events for Billings Farm
REFRESH-INTERVAL;VALUE=DURATION:PT1H
X-Robots-Tag:noindex
X-PUBLISHED-TTL:PT1H
BEGIN:VTIMEZONE
TZID:America/New_York
BEGIN:DAYLIGHT
TZOFFSETFROM:-0500
TZOFFSETTO:-0400
TZNAME:EDT
DTSTART:20230312T070000
END:DAYLIGHT
BEGIN:STANDARD
TZOFFSETFROM:-0400
TZOFFSETTO:-0500
TZNAME:EST
DTSTART:20231105T060000
END:STANDARD
BEGIN:DAYLIGHT
TZOFFSETFROM:-0500
TZOFFSETTO:-0400
TZNAME:EDT
DTSTART:20240310T070000
END:DAYLIGHT
BEGIN:STANDARD
TZOFFSETFROM:-0400
TZOFFSETTO:-0500
TZNAME:EST
DTSTART:20241103T060000
END:STANDARD
BEGIN:DAYLIGHT
TZOFFSETFROM:-0500
TZOFFSETTO:-0400
TZNAME:EDT
DTSTART:20250309T070000
END:DAYLIGHT
BEGIN:STANDARD
TZOFFSETFROM:-0400
TZOFFSETTO:-0500
TZNAME:EST
DTSTART:20251102T060000
END:STANDARD
END:VTIMEZONE
BEGIN:VEVENT
DTSTART;TZID=America/New_York:20240415T100000
DTEND;TZID=America/New_York:20240415T160000
DTSTAMP:20260422T180315
CREATED:20240325T170730Z
LAST-MODIFIED:20240325T170730Z
UID:10001364-1713175200-1713196800@billingsfarm.org
SUMMARY:Today's Schedule
DESCRIPTION:
URL:https://billingsfarm.org/event/todays-schedule-324/
LOCATION:Billings Farm and Museum\, 69 Old River Rd\, Woodstock\, VT\, 05091\, United States
CATEGORIES:Featured
ATTACH;FMTTYPE=image/jpeg:https://billingsfarm.org/wp/wp-content/uploads/2024/03/April-515181922252629.jpg
END:VEVENT
BEGIN:VEVENT
DTSTART;VALUE=DATE:20240416
DTEND;VALUE=DATE:20240417
DTSTAMP:20260422T180315
CREATED:20240228T210142Z
LAST-MODIFIED:20240228T210142Z
UID:10000953-1713225600-1713311999@billingsfarm.org
SUMMARY:CLOSED
DESCRIPTION:
URL:https://billingsfarm.org/event/closed-38/
LOCATION:Billings Farm and Museum\, 69 Old River Rd\, Woodstock\, VT\, 05091\, United States
CATEGORIES:Featured
END:VEVENT
BEGIN:VEVENT
DTSTART;VALUE=DATE:20240417
DTEND;VALUE=DATE:20240418
DTSTAMP:20260422T180315
CREATED:20240228T210206Z
LAST-MODIFIED:20240228T210206Z
UID:10000954-1713312000-1713398399@billingsfarm.org
SUMMARY:CLOSED
DESCRIPTION:
URL:https://billingsfarm.org/event/closed-39/
LOCATION:Billings Farm and Museum\, 69 Old River Rd\, Woodstock\, VT\, 05091\, United States
CATEGORIES:Featured
END:VEVENT
BEGIN:VEVENT
DTSTART;TZID=America/New_York:20240418T100000
DTEND;TZID=America/New_York:20240418T160000
DTSTAMP:20260422T180315
CREATED:20240325T170805Z
LAST-MODIFIED:20240325T170805Z
UID:10001365-1713434400-1713456000@billingsfarm.org
SUMMARY:Today's Schedule
DESCRIPTION:
URL:https://billingsfarm.org/event/todays-schedule-325/
LOCATION:Billings Farm and Museum\, 69 Old River Rd\, Woodstock\, VT\, 05091\, United States
CATEGORIES:Featured
ATTACH;FMTTYPE=image/jpeg:https://billingsfarm.org/wp/wp-content/uploads/2024/03/April-515181922252629.jpg
END:VEVENT
BEGIN:VEVENT
DTSTART;TZID=America/New_York:20240419T100000
DTEND;TZID=America/New_York:20240419T160000
DTSTAMP:20260422T180315
CREATED:20240325T170833Z
LAST-MODIFIED:20240325T170833Z
UID:10001366-1713520800-1713542400@billingsfarm.org
SUMMARY:Today's Schedule
DESCRIPTION:
URL:https://billingsfarm.org/event/todays-schedule-326/
LOCATION:Billings Farm and Museum\, 69 Old River Rd\, Woodstock\, VT\, 05091\, United States
CATEGORIES:Featured
ATTACH;FMTTYPE=image/jpeg:https://billingsfarm.org/wp/wp-content/uploads/2024/03/April-515181922252629.jpg
END:VEVENT
BEGIN:VEVENT
DTSTART;TZID=America/New_York:20240420T100000
DTEND;TZID=America/New_York:20240420T160000
DTSTAMP:20260422T180315
CREATED:20240325T170543Z
LAST-MODIFIED:20240325T170543Z
UID:10001362-1713607200-1713628800@billingsfarm.org
SUMMARY:Today's Schedule
DESCRIPTION:
URL:https://billingsfarm.org/event/todays-schedule-321/
LOCATION:Billings Farm and Museum\, 69 Old River Rd\, Woodstock\, VT\, 05091\, United States
CATEGORIES:Featured
ATTACH;FMTTYPE=image/jpeg:https://billingsfarm.org/wp/wp-content/uploads/2024/03/April-67-1314-2021-copy.jpg
END:VEVENT
BEGIN:VEVENT
DTSTART;TZID=America/New_York:20240421T100000
DTEND;TZID=America/New_York:20240421T160000
DTSTAMP:20260422T180315
CREATED:20240412T153421Z
LAST-MODIFIED:20240419T202704Z
UID:10003310-1713693600-1713715200@billingsfarm.org
SUMMARY:April Free Community Day
DESCRIPTION:Sunday\, April 21\, 10:00AM – 4:00PM \nBillings Farm will be open free of charge to all visitors on this special day for our community. Enjoy the farm\, visit our animals\, and learn about our history. Explore  “Portraits of Resilience:  Farming in a Changing Climate\,” an art exhibition in collaboration with Vital Communities that highlights the resiliency\, creativity\, and problem-solving abilities of farmers in the Upper Valley of Vermont and New Hampshire. Tour the Barn Quilts adorning our historic barns and buildings.  Sample Billings Farm cheddar cheeses\, make butter\, see the daily milking\, and enjoy a children’s storytime. \nCalling all volunteers!\nWe will hold a meet and greet for those interested in volunteer opportunities from 11:00AM – 1:00PM. Meet other volunteers and meet Billings Farm staff who have volunteer openings. Sign up for shifts\, learn about volunteer benefits and more. More details about volunteering \nNot yet a member? Join on April 21 and receive a thank you gift!\nDon’t miss a day of the upcoming season\, including Baby Farm Animal Celebration on April 27 & 28. As a member you receive unlimited free admission for one full year and an invitation to this year’s after-hours members events\, the Member Family Picnic on May 16 and the Member Garden Party on August 29. More details about membership
URL:https://billingsfarm.org/event/april-free-community-day/
LOCATION:Billings Farm and Museum\, 69 Old River Rd\, Woodstock\, VT\, 05091\, United States
CATEGORIES:Featured
ATTACH;FMTTYPE=image/jpeg:https://billingsfarm.org/wp/wp-content/uploads/2024/04/Community-Day-2024_April.jpg
END:VEVENT
BEGIN:VEVENT
DTSTART;TZID=America/New_York:20240421T100000
DTEND;TZID=America/New_York:20240421T160000
DTSTAMP:20260422T180315
CREATED:20240325T170612Z
LAST-MODIFIED:20240325T170612Z
UID:10001363-1713693600-1713715200@billingsfarm.org
SUMMARY:Today's Schedule
DESCRIPTION:
URL:https://billingsfarm.org/event/todays-schedule-322/
LOCATION:Billings Farm and Museum\, 69 Old River Rd\, Woodstock\, VT\, 05091\, United States
CATEGORIES:Featured
ATTACH;FMTTYPE=image/jpeg:https://billingsfarm.org/wp/wp-content/uploads/2024/03/April-67-1314-2021-copy.jpg
END:VEVENT
BEGIN:VEVENT
DTSTART;TZID=America/New_York:20240422T100000
DTEND;TZID=America/New_York:20240422T160000
DTSTAMP:20260422T180315
CREATED:20240325T170913Z
LAST-MODIFIED:20240325T170914Z
UID:10001367-1713780000-1713801600@billingsfarm.org
SUMMARY:Today's Schedule
DESCRIPTION:
URL:https://billingsfarm.org/event/todays-schedule-327/
LOCATION:Billings Farm and Museum\, 69 Old River Rd\, Woodstock\, VT\, 05091\, United States
CATEGORIES:Featured
ATTACH;FMTTYPE=image/jpeg:https://billingsfarm.org/wp/wp-content/uploads/2024/03/April-515181922252629.jpg
END:VEVENT
BEGIN:VEVENT
DTSTART;VALUE=DATE:20240423
DTEND;VALUE=DATE:20240424
DTSTAMP:20260422T180315
CREATED:20240228T210244Z
LAST-MODIFIED:20240228T210245Z
UID:10000955-1713830400-1713916799@billingsfarm.org
SUMMARY:CLOSED
DESCRIPTION:
URL:https://billingsfarm.org/event/closed-44/
LOCATION:Billings Farm and Museum\, 69 Old River Rd\, Woodstock\, VT\, 05091\, United States
CATEGORIES:Featured
END:VEVENT
BEGIN:VEVENT
DTSTART;VALUE=DATE:20240424
DTEND;VALUE=DATE:20240425
DTSTAMP:20260422T180315
CREATED:20240228T210305Z
LAST-MODIFIED:20240228T210305Z
UID:10000956-1713916800-1714003199@billingsfarm.org
SUMMARY:CLOSED
DESCRIPTION:
URL:https://billingsfarm.org/event/closed-45/
LOCATION:Billings Farm and Museum\, 69 Old River Rd\, Woodstock\, VT\, 05091\, United States
CATEGORIES:Featured
END:VEVENT
BEGIN:VEVENT
DTSTART;TZID=America/New_York:20240425T100000
DTEND;TZID=America/New_York:20240425T160000
DTSTAMP:20260422T180315
CREATED:20240325T170944Z
LAST-MODIFIED:20240325T170945Z
UID:10001368-1714039200-1714060800@billingsfarm.org
SUMMARY:Today's Schedule
DESCRIPTION:
URL:https://billingsfarm.org/event/todays-schedule-328/
LOCATION:Billings Farm and Museum\, 69 Old River Rd\, Woodstock\, VT\, 05091\, United States
CATEGORIES:Featured
ATTACH;FMTTYPE=image/jpeg:https://billingsfarm.org/wp/wp-content/uploads/2024/03/April-515181922252629.jpg
END:VEVENT
BEGIN:VEVENT
DTSTART;TZID=America/New_York:20240426T100000
DTEND;TZID=America/New_York:20240426T160000
DTSTAMP:20260422T180315
CREATED:20240325T171009Z
LAST-MODIFIED:20240325T171010Z
UID:10001369-1714125600-1714147200@billingsfarm.org
SUMMARY:Today's Schedule
DESCRIPTION:
URL:https://billingsfarm.org/event/todays-schedule-329/
LOCATION:Billings Farm and Museum\, 69 Old River Rd\, Woodstock\, VT\, 05091\, United States
CATEGORIES:Featured
ATTACH;FMTTYPE=image/jpeg:https://billingsfarm.org/wp/wp-content/uploads/2024/03/April-515181922252629.jpg
END:VEVENT
BEGIN:VEVENT
DTSTART;TZID=America/New_York:20240427T100000
DTEND;TZID=America/New_York:20240427T170000
DTSTAMP:20260422T180315
CREATED:20240304T154159Z
LAST-MODIFIED:20240318T143637Z
UID:10001256-1714212000-1714237200@billingsfarm.org
SUMMARY:Barn Quilt Exhibition
DESCRIPTION:Billings Farm & Museum is bringing the rural artistry of barn quilts to our scenic site from April 4 – December 1.  Barn quilting recreates the concept of quilt squares on durable mediums such as plywood. These squares\, starting at 4 feet by 4 feet and up\, feature striking colors and simple geometric designs.  \nCollaborating with Vermont artists as well as artisans from the Chelsea Barn Quilt Project and Barn Quilts of Northern Vermont who have been working to highlight barn quilting in Vermont\, each space will host a uniquely crafted piece inspired by nature\, math\, agriculture\, and the history of the Billings Farm site. Guests can wander through the picturesque farm and take in the boldly painted patterns that will adorn historic barns and buildings. \nThis exhibition is included with admission.
URL:https://billingsfarm.org/event/barn-quilt-exhibition-2024-04-27/
LOCATION:Billings Farm and Museum\, 69 Old River Rd\, Woodstock\, VT\, 05091\, United States
CATEGORIES:Featured
ATTACH;FMTTYPE=image/png:https://billingsfarm.org/wp/wp-content/uploads/2024/03/quilt-exhibition.png
END:VEVENT
BEGIN:VEVENT
DTSTART;TZID=America/New_York:20240427T100000
DTEND;TZID=America/New_York:20240427T170000
DTSTAMP:20260422T180315
CREATED:20240228T135654Z
LAST-MODIFIED:20240318T143922Z
UID:10000345-1714212000-1714237200@billingsfarm.org
SUMMARY:Portraits of Resilience
DESCRIPTION:This thought-provoking exhibition of 26 original artworks from the Vital Communities “Climate Farmers Stories” project will be displayed in Billings Farm’s Historic Barn from April 4 – June 23. \nThrough portraits in paint\, print\, fiber\, and digital media\, the works highlight the resiliency\, creativity\, and problem-solving abilities of farmers in the Upper Valley of Vermont and New Hampshire. Each portrait is intentionally crafted by local artists to connect viewers with climate farmers.  The artwork\, along with educational panels and quotes from artists and farmers\, help convey both the problems and solutions that climate change presents and provides an important platform for raising awareness. \nThe exhibition will continue outdoors where guests will find examples of approaches to improve climate resiliency at Billings Farm.  A few of the methods include rotational grazing of the dairy herd\, solar panel usage\, low or no-till fields with organic-only fertilizers. \nThis collaboration between Vital Communities and Billings Farm & Museum provides accessible ways for individuals to take meaningful action to help farms address climate change. \nTo learn more about the Vital Communities Climate Farmers Stories Project\, visit vitalcommunities.org/climate-farmer-stories.
URL:https://billingsfarm.org/event/portraits-of-resilience-2024-04-27/
LOCATION:Billings Farm and Museum\, 69 Old River Rd\, Woodstock\, VT\, 05091\, United States
CATEGORIES:Featured
ATTACH;FMTTYPE=image/jpeg:https://billingsfarm.org/wp/wp-content/uploads/2024/01/spring-harvest.jpg
END:VEVENT
BEGIN:VEVENT
DTSTART;TZID=America/New_York:20240427T100000
DTEND;TZID=America/New_York:20240427T170000
DTSTAMP:20260422T180315
CREATED:20240328T105907Z
LAST-MODIFIED:20240328T105908Z
UID:10001375-1714212000-1714237200@billingsfarm.org
SUMMARY:Today's Schedule
DESCRIPTION:
URL:https://billingsfarm.org/event/todays-schedule-335/
LOCATION:Billings Farm and Museum\, 69 Old River Rd\, Woodstock\, VT\, 05091\, United States
CATEGORIES:Featured
ATTACH;FMTTYPE=image/jpeg:https://billingsfarm.org/wp/wp-content/uploads/2024/03/BFAC-2024-April-27-28.jpg
END:VEVENT
BEGIN:VEVENT
DTSTART;TZID=America/New_York:20240428T100000
DTEND;TZID=America/New_York:20240428T170000
DTSTAMP:20260422T180315
CREATED:20240304T154159Z
LAST-MODIFIED:20240318T143732Z
UID:10001255-1714298400-1714323600@billingsfarm.org
SUMMARY:Barn Quilt Exhibition
DESCRIPTION:Billings Farm & Museum is bringing the rural artistry of barn quilts to our scenic site from April 4 – December 1.  Barn quilting recreates the concept of quilt squares on durable mediums such as plywood. These squares\, starting at 4 feet by 4 feet and up\, feature striking colors and simple geometric designs.  \nCollaborating with Vermont artists as well as artisans from the Chelsea Barn Quilt Project and Barn Quilts of Northern Vermont who have been working to highlight barn quilting in Vermont\, each space will host a uniquely crafted piece inspired by nature\, math\, agriculture\, and the history of the Billings Farm site. Guests can wander through the picturesque farm and take in the boldly painted patterns that will adorn historic barns and buildings. \nThis exhibition is included with admission.
URL:https://billingsfarm.org/event/barn-quilt-exhibition-2024-04-28/
LOCATION:Billings Farm and Museum\, 69 Old River Rd\, Woodstock\, VT\, 05091\, United States
CATEGORIES:Featured
ATTACH;FMTTYPE=image/png:https://billingsfarm.org/wp/wp-content/uploads/2024/03/quilt-exhibition.png
END:VEVENT
BEGIN:VEVENT
DTSTART;TZID=America/New_York:20240428T100000
DTEND;TZID=America/New_York:20240428T170000
DTSTAMP:20260422T180315
CREATED:20240228T135654Z
LAST-MODIFIED:20240318T143847Z
UID:10000952-1714298400-1714323600@billingsfarm.org
SUMMARY:Portraits of Resilience
DESCRIPTION:This thought-provoking exhibition of 26 original artworks from the Vital Communities “Climate Farmers Stories” project will be displayed in Billings Farm’s Historic Barn from April 4 – June 23. \nThrough portraits in paint\, print\, fiber\, and digital media\, the works highlight the resiliency\, creativity\, and problem-solving abilities of farmers in the Upper Valley of Vermont and New Hampshire. Each portrait is intentionally crafted by local artists to connect viewers with climate farmers.  The artwork\, along with educational panels and quotes from artists and farmers\, help convey both the problems and solutions that climate change presents and provides an important platform for raising awareness. \nThe exhibition will continue outdoors where guests will find examples of approaches to improve climate resiliency at Billings Farm.  A few of the methods include rotational grazing of the dairy herd\, solar panel usage\, low or no-till fields with organic-only fertilizers. \nThis collaboration between Vital Communities and Billings Farm & Museum provides accessible ways for individuals to take meaningful action to help farms address climate change. \nTo learn more about the Vital Communities Climate Farmers Stories Project\, visit vitalcommunities.org/climate-farmer-stories.
URL:https://billingsfarm.org/event/portraits-of-resilience-2024-04-28/
LOCATION:Billings Farm and Museum\, 69 Old River Rd\, Woodstock\, VT\, 05091\, United States
CATEGORIES:Featured
ATTACH;FMTTYPE=image/jpeg:https://billingsfarm.org/wp/wp-content/uploads/2024/01/spring-harvest.jpg
END:VEVENT
BEGIN:VEVENT
DTSTART;TZID=America/New_York:20240428T100000
DTEND;TZID=America/New_York:20240428T170000
DTSTAMP:20260422T180315
CREATED:20240328T105936Z
LAST-MODIFIED:20240328T105936Z
UID:10001376-1714298400-1714323600@billingsfarm.org
SUMMARY:Today's Schedule
DESCRIPTION:
URL:https://billingsfarm.org/event/todays-schedule-336/
LOCATION:Billings Farm and Museum\, 69 Old River Rd\, Woodstock\, VT\, 05091\, United States
CATEGORIES:Featured
ATTACH;FMTTYPE=image/jpeg:https://billingsfarm.org/wp/wp-content/uploads/2024/03/BFAC-2024-April-27-28.jpg
END:VEVENT
BEGIN:VEVENT
DTSTART;TZID=America/New_York:20240429T100000
DTEND;TZID=America/New_York:20240429T160000
DTSTAMP:20260422T180315
CREATED:20240325T171037Z
LAST-MODIFIED:20240325T171037Z
UID:10001370-1714384800-1714406400@billingsfarm.org
SUMMARY:Today's Schedule
DESCRIPTION:
URL:https://billingsfarm.org/event/todays-schedule-330/
LOCATION:Billings Farm and Museum\, 69 Old River Rd\, Woodstock\, VT\, 05091\, United States
CATEGORIES:Featured
ATTACH;FMTTYPE=image/jpeg:https://billingsfarm.org/wp/wp-content/uploads/2024/03/April-515181922252629.jpg
END:VEVENT
BEGIN:VEVENT
DTSTART;VALUE=DATE:20240430
DTEND;VALUE=DATE:20240501
DTSTAMP:20260422T180315
CREATED:20240228T210341Z
LAST-MODIFIED:20240228T210343Z
UID:10000957-1714435200-1714521599@billingsfarm.org
SUMMARY:CLOSED
DESCRIPTION:
URL:https://billingsfarm.org/event/closed-49/
LOCATION:Billings Farm and Museum\, 69 Old River Rd\, Woodstock\, VT\, 05091\, United States
CATEGORIES:Featured
END:VEVENT
BEGIN:VEVENT
DTSTART;VALUE=DATE:20240501
DTEND;VALUE=DATE:20240502
DTSTAMP:20260422T180315
CREATED:20240228T210401Z
LAST-MODIFIED:20240228T210402Z
UID:10000958-1714521600-1714607999@billingsfarm.org
SUMMARY:CLOSED
DESCRIPTION:
URL:https://billingsfarm.org/event/closed-50/
LOCATION:Billings Farm and Museum\, 69 Old River Rd\, Woodstock\, VT\, 05091\, United States
CATEGORIES:Featured
END:VEVENT
BEGIN:VEVENT
DTSTART;TZID=America/New_York:20240502T100000
DTEND;TZID=America/New_York:20240502T160000
DTSTAMP:20260422T180315
CREATED:20240429T131119Z
LAST-MODIFIED:20240429T131119Z
UID:10001566-1714644000-1714665600@billingsfarm.org
SUMMARY:Today's Schedule
DESCRIPTION:
URL:https://billingsfarm.org/event/todays-schedule-340/2024-05-02/
LOCATION:Billings Farm and Museum\, 69 Old River Rd\, Woodstock\, VT\, 05091\, United States
CATEGORIES:Featured
ATTACH;FMTTYPE=image/png:https://billingsfarm.org/wp/wp-content/uploads/2024/04/May-2-3-6-9-10-13-16-17-20-23-24-.png
END:VEVENT
BEGIN:VEVENT
DTSTART;TZID=America/New_York:20240504T100000
DTEND;TZID=America/New_York:20240504T160000
DTSTAMP:20260422T180315
CREATED:20240429T130209Z
LAST-MODIFIED:20240429T130733Z
UID:10001542-1714816800-1714838400@billingsfarm.org
SUMMARY:Today's Schedule
DESCRIPTION:
URL:https://billingsfarm.org/event/todays-schedule-339/2024-05-04/
LOCATION:Billings Farm and Museum\, 69 Old River Rd\, Woodstock\, VT\, 05091\, United States
CATEGORIES:Featured
ATTACH;FMTTYPE=image/png:https://billingsfarm.org/wp/wp-content/uploads/2024/04/2024-May-4-5-11-12-18-19.png
END:VEVENT
BEGIN:VEVENT
DTSTART;VALUE=DATE:20240507
DTEND;VALUE=DATE:20240508
DTSTAMP:20260422T180315
CREATED:20240228T210455Z
LAST-MODIFIED:20240228T210456Z
UID:10000959-1715040000-1715126399@billingsfarm.org
SUMMARY:CLOSED
DESCRIPTION:
URL:https://billingsfarm.org/event/closed-66/
LOCATION:Billings Farm and Museum\, 69 Old River Rd\, Woodstock\, VT\, 05091\, United States
CATEGORIES:Featured
END:VEVENT
BEGIN:VEVENT
DTSTART;VALUE=DATE:20240508
DTEND;VALUE=DATE:20240509
DTSTAMP:20260422T180315
CREATED:20240228T210515Z
LAST-MODIFIED:20240228T210516Z
UID:10000960-1715126400-1715212799@billingsfarm.org
SUMMARY:CLOSED
DESCRIPTION:
URL:https://billingsfarm.org/event/closed-67/
LOCATION:Billings Farm and Museum\, 69 Old River Rd\, Woodstock\, VT\, 05091\, United States
CATEGORIES:Featured
END:VEVENT
BEGIN:VEVENT
DTSTART;TZID=America/New_York:20240508T093000
DTEND;TZID=America/New_York:20240508T110000
DTSTAMP:20260422T180315
CREATED:20240305T193738Z
LAST-MODIFIED:20240318T160722Z
UID:10001259-1715160600-1715166000@billingsfarm.org
SUMMARY:Pre-k Story Time
DESCRIPTION:And Then it’s Spring\n\nby Julie Fogliano \nThis story brings the anticipation of spring as a young boy and his dog eagerly plant a garden after a long winter. They dig\, they plant\, they play\, they wait…and wait for the first signs of spring. Following the story\, there will be a visit to the Farmstead Gardens to plant seeds and enjoy a snack of carrots with hummus.
URL:https://billingsfarm.org/event/pre-k-story-time-7/
LOCATION:Billings Farm and Museum\, 69 Old River Rd\, Woodstock\, VT\, 05091\, United States
CATEGORIES:Featured
ATTACH;FMTTYPE=image/png:https://billingsfarm.org/wp/wp-content/uploads/2024/03/and-then-its-spring.png
END:VEVENT
BEGIN:VEVENT
DTSTART;TZID=America/New_York:20240511T100000
DTEND;TZID=America/New_York:20240511T113000
DTSTAMP:20260422T180315
CREATED:20240422T200602Z
LAST-MODIFIED:20240423T194557Z
UID:10001381-1715421600-1715427000@billingsfarm.org
SUMMARY:Billings Backyard: Vermont Vineyards
DESCRIPTION:Price:  $15/person\, $10/Billings Farm member\nPresenter: Sharen Connor\nFor Ages: 16+ \nFor those curious about starting a vineyard or looking for creative ways to use grapes\, this workshop will explore the evolving landscape of grape growing in Vermont. Guided by viticulturist Sharen Conner\, this class will delve into key considerations for cultivating a thriving vineyard site\, covering aspects such as sun exposure\, soil depth and composition\, and irrigation methods.  Participants will be introduced to optimal grape varieties suited to Vermont’s unique climate and topography.  The class will include an introduction to making verjus\, an unfermented juice derived from unripe grapes\, with a chance to savor a dish prepared in class.  Whether you are interested in making homegrown wine or simply curious about the steps to fulfilling that Vermont Vineyard dream\, this introductory workshop will get you started. \nThe session will be followed by a 30-minute Q&A. \nAbout the Presenter \nSharen Conner is the viticulturist and verjus entrepreneur for Lincoln Bridge Farms. She formerly worked 40 years in education as a learning specialist for special needs students. Her family planted a one-acre vineyard (600 vines) in 2009. In 2016 and 2017\, she learned to make wine in a commercially conventional manner and in 2018 and 2019\, she experimented with “wild fermentation” using an ancient technique called “pied de cuve” or foot of the barrel. In 2020\, Sharen turned her focus to verjus and produced some for the farm stand and again the next year. In 2022\, she obtained a food producers license and began to sell to restaurants and retail outlets. Sharen is committed to caring for the environment through employing organic methods and providing experiential education to her “farm stay” guests and wwoofers (wwoof.org) who come to help and learn these aspects of agriculture firsthand. \nCancellation Policy: There are often waitlists for our courses\, so please let us know in advance if you are unable to attend. Refunds are available up to 7 days before the class is held. There are no refunds within 7 days. \nContact info@billingsfarm.org with questions.
URL:https://billingsfarm.org/event/billings-backyard-vermont-vineyards/
LOCATION:Billings Farm and Museum\, 69 Old River Rd\, Woodstock\, VT\, 05091\, United States
CATEGORIES:Featured
ATTACH;FMTTYPE=image/png:https://billingsfarm.org/wp/wp-content/uploads/2024/04/BBY-Vermont-Vineyards.png
END:VEVENT
BEGIN:VEVENT
DTSTART;VALUE=DATE:20240514
DTEND;VALUE=DATE:20240515
DTSTAMP:20260422T180315
CREATED:20240228T210538Z
LAST-MODIFIED:20240228T210539Z
UID:10000961-1715644800-1715731199@billingsfarm.org
SUMMARY:CLOSED
DESCRIPTION:
URL:https://billingsfarm.org/event/closed-77/
LOCATION:Billings Farm and Museum\, 69 Old River Rd\, Woodstock\, VT\, 05091\, United States
CATEGORIES:Featured
END:VEVENT
BEGIN:VEVENT
DTSTART;VALUE=DATE:20240515
DTEND;VALUE=DATE:20240516
DTSTAMP:20260422T180315
CREATED:20240228T210557Z
LAST-MODIFIED:20240228T210558Z
UID:10000962-1715731200-1715817599@billingsfarm.org
SUMMARY:CLOSED
DESCRIPTION:
URL:https://billingsfarm.org/event/closed-78/
LOCATION:Billings Farm and Museum\, 69 Old River Rd\, Woodstock\, VT\, 05091\, United States
CATEGORIES:Featured
END:VEVENT
END:VCALENDAR