BEGIN:VCALENDAR
VERSION:2.0
PRODID:-//Billings Farm - ECPv6.15.15//NONSGML v1.0//EN
CALSCALE:GREGORIAN
METHOD:PUBLISH
X-WR-CALNAME:Billings Farm
X-ORIGINAL-URL:https://billingsfarm.org
X-WR-CALDESC:Events for Billings Farm
REFRESH-INTERVAL;VALUE=DURATION:PT1H
X-Robots-Tag:noindex
X-PUBLISHED-TTL:PT1H
BEGIN:VTIMEZONE
TZID:America/New_York
BEGIN:DAYLIGHT
TZOFFSETFROM:-0500
TZOFFSETTO:-0400
TZNAME:EDT
DTSTART:20200308T070000
END:DAYLIGHT
BEGIN:STANDARD
TZOFFSETFROM:-0400
TZOFFSETTO:-0500
TZNAME:EST
DTSTART:20201101T060000
END:STANDARD
BEGIN:DAYLIGHT
TZOFFSETFROM:-0500
TZOFFSETTO:-0400
TZNAME:EDT
DTSTART:20210314T070000
END:DAYLIGHT
BEGIN:STANDARD
TZOFFSETFROM:-0400
TZOFFSETTO:-0500
TZNAME:EST
DTSTART:20211107T060000
END:STANDARD
BEGIN:DAYLIGHT
TZOFFSETFROM:-0500
TZOFFSETTO:-0400
TZNAME:EDT
DTSTART:20220313T070000
END:DAYLIGHT
BEGIN:STANDARD
TZOFFSETFROM:-0400
TZOFFSETTO:-0500
TZNAME:EST
DTSTART:20221106T060000
END:STANDARD
END:VTIMEZONE
BEGIN:VEVENT
DTSTART;VALUE=DATE:20210815
DTEND;VALUE=DATE:20210816
DTSTAMP:20260422T183014
CREATED:20210629T192028Z
LAST-MODIFIED:20210629T192045Z
UID:10002896-1628985600-1629071999@billingsfarm.org
SUMMARY:Check Out the Chickens Week!
DESCRIPTION:Each week in July and August\, Billings Farm & Museum will highlight a different farm animal with daily up-close programs\, displays and explorations and a “themed” food recipe. \nMeet these farm animals with daily programs at 11 am\, 1 pm and 3 pm: \nCheck Out the Chickens: August 9-15 \nGentle Jersey Cows: August 16-22 \nGiddy Goats: August 23-27 \nLearn more about the featured farm animal and their role on the farm. Enjoy a “featured animal” scavenger hunt in the Farm Life Exhibits and pick up a themed recipe from the Learning Kitchen. \nPrograms take place daily\, except on Special Event Days: (August 1\, 28 & 29).
URL:https://billingsfarm.org/event/check-out-the-chickens-week-2/2021-08-15/
END:VEVENT
BEGIN:VEVENT
DTSTART;TZID=America/New_York:20210815T100000
DTEND;TZID=America/New_York:20210815T170000
DTSTAMP:20260422T183014
CREATED:20210104T144641Z
LAST-MODIFIED:20210319T190431Z
UID:10002616-1629021600-1629046800@billingsfarm.org
SUMMARY:35th Annual Quilt Exhibition
DESCRIPTION:Explore the juried exhibition of locally-made quilts ONLINE & ONSITE. Enjoy quilting demonstrations and activities for all.
URL:https://billingsfarm.org/event/35th-annual-quilt-exhibition-2021-08-15/
CATEGORIES:Featured
ATTACH;FMTTYPE=image/jpeg:https://billingsfarm.org/wp/wp-content/uploads/2021/01/fiber-arts.jpg
END:VEVENT
BEGIN:VEVENT
DTSTART;VALUE=DATE:20210816
DTEND;VALUE=DATE:20210817
DTSTAMP:20260422T183014
CREATED:20210629T192137Z
LAST-MODIFIED:20210629T192137Z
UID:10002897-1629072000-1629158399@billingsfarm.org
SUMMARY:Gentle Jersey Cows Week!
DESCRIPTION:Each week in July and August\, Billings Farm & Museum will highlight a different farm animal with daily up-close programs\, displays and explorations and a “themed” food recipe. \nMeet these farm animals with daily programs at 11 am\, 1 pm and 3 pm: \nGentle Jersey Cows: August 16-22 \nGiddy Goats: August 23-27 \nLearn more about the featured farm animal and their role on the farm. Enjoy a “featured animal” scavenger hunt in the Farm Life Exhibits and pick up a themed recipe from the Learning Kitchen. \nPrograms take place daily\, except on Special Event Days: (August 1\, 28 & 29).
URL:https://billingsfarm.org/event/gentle-jersey-cows-week-2/2021-08-16/
END:VEVENT
BEGIN:VEVENT
DTSTART;TZID=America/New_York:20210816T100000
DTEND;TZID=America/New_York:20210816T113000
DTSTAMP:20260422T183014
CREATED:20210517T171150Z
LAST-MODIFIED:20210517T171150Z
UID:10002818-1629108000-1629113400@billingsfarm.org
SUMMARY:Billings Bookworms Week 6: How Chipmunk Got His Stripes
DESCRIPTION:Join the Billings Bookworms! From July 12 through August 16\, kids ages 6-8 are invited to Billings Farm & Museum each week to read about and explore a farm-themed topic. This is not just a book club! There are activities and crafts each week and Bookworms get to experience all the site has to offer. \nBillings Bookworms Week 6: How Chipmunk Got His Stripes \n10-10:30 Book reading and exploration. This week we’ll begin by reading How the Chipmunk Got His Stripes by Joseph Bruchac and James Bruchac\, a Native American folktale. Each Bookworm will then pick a passage that stands out to them and write or draw about it. Everyone will have the chance to share what they’ve written or drawn about the story. \n10:30-10:45 Snack time. Snack will be provided by Billings Farm & Museum. During snack we will complete the final chapter of Good Dog: Herd You Loud and Clear by Cam Higgins and Ariel Landy. Each week we will continue reading from this chapter book until it is finished on the last day of the club. The book is called Good Dog: Herd You Loud and Clear and is about a young herding dog working to bring in the sheep.  \n10:45-11:30 Activity time. Today our Bookworms will set out on the Billings Farm & Museum walking trail to identify native plants and learn about the indigenous concept of Seven Generations.  \nLearn more about Billings Bookworms and complete the application form. \nBillings Bookworms is for kids ages 6-8 \nOne session: $25 per participant/$20 per BF&M member\n6-week Series: $125 per participant/$100 per BF&M member. \nSpaces are limited!
URL:https://billingsfarm.org/event/billings-bookworms-week-6-how-chipmunk-got-his-stripes/
CATEGORIES:Featured
ATTACH;FMTTYPE=image/jpeg:https://billingsfarm.org/wp/wp-content/uploads/2021/05/how-chipmunk-got-his-stripes.jpg
END:VEVENT
BEGIN:VEVENT
DTSTART;TZID=America/New_York:20210816T100000
DTEND;TZID=America/New_York:20210816T170000
DTSTAMP:20260422T183014
CREATED:20210104T144641Z
LAST-MODIFIED:20210319T190518Z
UID:10002617-1629108000-1629133200@billingsfarm.org
SUMMARY:35th Annual Quilt Exhibition
DESCRIPTION:Explore the juried exhibition of locally-made quilts ONLINE & ONSITE. Enjoy quilting demonstrations and activities for all.
URL:https://billingsfarm.org/event/35th-annual-quilt-exhibition-2021-08-16/
CATEGORIES:Featured
ATTACH;FMTTYPE=image/jpeg:https://billingsfarm.org/wp/wp-content/uploads/2021/01/fiber-arts.jpg
END:VEVENT
BEGIN:VEVENT
DTSTART;TZID=America/New_York:20210816T100000
DTEND;TZID=America/New_York:20210816T170000
DTSTAMP:20260422T183014
CREATED:20210516T125517Z
LAST-MODIFIED:20210719T165241Z
UID:10002927-1629108000-1629133200@billingsfarm.org
SUMMARY:Mindful Monday
DESCRIPTION:Heighten your senses in our relaxing farm landscape in a 20-minute instructor-led mindfulness activity offered at 10:30\, 11:00\, and 11:30 am. Sample herbal tea and Billings Farm cheese from 11 am – 4 pm. Find inner peace with a mission-focused mantra\, complete with instructions\, available at the Ticket Desk. \nMindful Monday programs are included with admission to Billings Farm & Museum.
URL:https://billingsfarm.org/event/mindful-monday/2021-08-16/
CATEGORIES:Featured
ATTACH;FMTTYPE=image/jpeg:https://billingsfarm.org/wp/wp-content/uploads/2021/07/IMG_0862_small-e1626526601821.jpg
END:VEVENT
BEGIN:VEVENT
DTSTART;VALUE=DATE:20210817
DTEND;VALUE=DATE:20210818
DTSTAMP:20260422T183014
CREATED:20210629T192137Z
LAST-MODIFIED:20210629T192137Z
UID:10002898-1629158400-1629244799@billingsfarm.org
SUMMARY:Gentle Jersey Cows Week!
DESCRIPTION:Each week in July and August\, Billings Farm & Museum will highlight a different farm animal with daily up-close programs\, displays and explorations and a “themed” food recipe. \nMeet these farm animals with daily programs at 11 am\, 1 pm and 3 pm: \nGentle Jersey Cows: August 16-22 \nGiddy Goats: August 23-27 \nLearn more about the featured farm animal and their role on the farm. Enjoy a “featured animal” scavenger hunt in the Farm Life Exhibits and pick up a themed recipe from the Learning Kitchen. \nPrograms take place daily\, except on Special Event Days: (August 1\, 28 & 29).
URL:https://billingsfarm.org/event/gentle-jersey-cows-week-2/2021-08-17/
END:VEVENT
BEGIN:VEVENT
DTSTART;TZID=America/New_York:20210817T100000
DTEND;TZID=America/New_York:20210817T170000
DTSTAMP:20260422T183014
CREATED:20210104T144641Z
LAST-MODIFIED:20210319T190605Z
UID:10002618-1629194400-1629219600@billingsfarm.org
SUMMARY:35th Annual Quilt Exhibition
DESCRIPTION:Explore the juried exhibition of locally-made quilts ONLINE & ONSITE. Enjoy quilting demonstrations and activities for all.
URL:https://billingsfarm.org/event/35th-annual-quilt-exhibition-2021-08-17/
CATEGORIES:Featured
ATTACH;FMTTYPE=image/jpeg:https://billingsfarm.org/wp/wp-content/uploads/2021/01/fiber-arts.jpg
END:VEVENT
BEGIN:VEVENT
DTSTART;TZID=America/New_York:20210817T100000
DTEND;TZID=America/New_York:20210817T170000
DTSTAMP:20260422T183014
CREATED:20210428T200318Z
LAST-MODIFIED:20210701T165425Z
UID:10002680-1629194400-1629219600@billingsfarm.org
SUMMARY:Time Travel Tuesdays
DESCRIPTION: Travel back in time with 1890 farm activities! Guess the artifact\, butter making\, hands-on crafts and games. \n\n10:30 & 4:00 Garden Programs  \n11:00-4:00 Historic Recipes in the Learning Kitchen \n11:00-3:00 Guess the Artifact in the exhibits \n12:00 & 2:00 Butter Making Program on the Farmhouse Terrace \nTime Travel Activity near the Garden Shed \nCroquet on the front lawn of the 1890 Farm Manager’s House 
URL:https://billingsfarm.org/event/time-travel-tuesdays-2/2021-08-17/
ATTACH;FMTTYPE=image/jpeg:https://billingsfarm.org/wp/wp-content/uploads/2021/04/TTT-laundry.jpg
END:VEVENT
BEGIN:VEVENT
DTSTART;VALUE=DATE:20210818
DTEND;VALUE=DATE:20210819
DTSTAMP:20260422T183014
CREATED:20210629T192137Z
LAST-MODIFIED:20210629T192137Z
UID:10002899-1629244800-1629331199@billingsfarm.org
SUMMARY:Gentle Jersey Cows Week!
DESCRIPTION:Each week in July and August\, Billings Farm & Museum will highlight a different farm animal with daily up-close programs\, displays and explorations and a “themed” food recipe. \nMeet these farm animals with daily programs at 11 am\, 1 pm and 3 pm: \nGentle Jersey Cows: August 16-22 \nGiddy Goats: August 23-27 \nLearn more about the featured farm animal and their role on the farm. Enjoy a “featured animal” scavenger hunt in the Farm Life Exhibits and pick up a themed recipe from the Learning Kitchen. \nPrograms take place daily\, except on Special Event Days: (August 1\, 28 & 29).
URL:https://billingsfarm.org/event/gentle-jersey-cows-week-2/2021-08-18/
END:VEVENT
BEGIN:VEVENT
DTSTART;TZID=America/New_York:20210818T100000
DTEND;TZID=America/New_York:20210818T170000
DTSTAMP:20260422T183014
CREATED:20210104T144641Z
LAST-MODIFIED:20210319T190719Z
UID:10002619-1629280800-1629306000@billingsfarm.org
SUMMARY:35th Annual Quilt Exhibition
DESCRIPTION:Explore the juried exhibition of locally-made quilts ONLINE & ONSITE. Enjoy quilting demonstrations and activities for all.
URL:https://billingsfarm.org/event/35th-annual-quilt-exhibition-2021-08-18/
CATEGORIES:Featured
ATTACH;FMTTYPE=image/jpeg:https://billingsfarm.org/wp/wp-content/uploads/2021/01/fiber-arts.jpg
END:VEVENT
BEGIN:VEVENT
DTSTART;TZID=America/New_York:20210818T110000
DTEND;TZID=America/New_York:20210818T140000
DTSTAMP:20260422T183014
CREATED:20210428T195658Z
LAST-MODIFIED:20210706T195242Z
UID:10002672-1629284400-1629295200@billingsfarm.org
SUMMARY:Wagon Ride Wednesdays
DESCRIPTION:Enjoy a wagon ride around the farm offered from 11:00 – 2:00. \n(conditions permitting)
URL:https://billingsfarm.org/event/wagon-ride-wednesdays-2/2021-08-18/
ATTACH;FMTTYPE=image/jpeg:https://billingsfarm.org/wp/wp-content/uploads/2021/04/wagon.jpg
END:VEVENT
BEGIN:VEVENT
DTSTART;VALUE=DATE:20210819
DTEND;VALUE=DATE:20210820
DTSTAMP:20260422T183014
CREATED:20210629T192137Z
LAST-MODIFIED:20210629T192137Z
UID:10002900-1629331200-1629417599@billingsfarm.org
SUMMARY:Gentle Jersey Cows Week!
DESCRIPTION:Each week in July and August\, Billings Farm & Museum will highlight a different farm animal with daily up-close programs\, displays and explorations and a “themed” food recipe. \nMeet these farm animals with daily programs at 11 am\, 1 pm and 3 pm: \nGentle Jersey Cows: August 16-22 \nGiddy Goats: August 23-27 \nLearn more about the featured farm animal and their role on the farm. Enjoy a “featured animal” scavenger hunt in the Farm Life Exhibits and pick up a themed recipe from the Learning Kitchen. \nPrograms take place daily\, except on Special Event Days: (August 1\, 28 & 29).
URL:https://billingsfarm.org/event/gentle-jersey-cows-week-2/2021-08-19/
END:VEVENT
BEGIN:VEVENT
DTSTART;TZID=America/New_York:20210819T100000
DTEND;TZID=America/New_York:20210819T170000
DTSTAMP:20260422T183014
CREATED:20210104T144641Z
LAST-MODIFIED:20210319T190810Z
UID:10002620-1629367200-1629392400@billingsfarm.org
SUMMARY:35th Annual Quilt Exhibition
DESCRIPTION:Explore the juried exhibition of locally-made quilts ONLINE & ONSITE. Enjoy quilting demonstrations and activities for all.
URL:https://billingsfarm.org/event/35th-annual-quilt-exhibition-2021-08-19/
CATEGORIES:Featured
ATTACH;FMTTYPE=image/jpeg:https://billingsfarm.org/wp/wp-content/uploads/2021/01/fiber-arts.jpg
END:VEVENT
BEGIN:VEVENT
DTSTART;TZID=America/New_York:20210819T100000
DTEND;TZID=America/New_York:20210819T170000
DTSTAMP:20260422T183014
CREATED:20210428T194034Z
LAST-MODIFIED:20210428T194034Z
UID:10002665-1629367200-1629392400@billingsfarm.org
SUMMARY:Thursday Threads
DESCRIPTION:Celebrate the fiber arts with ongoing demonstrations of textile-related crafts such as weaving\, knitting\, spinning\, felting or dyeing\, and create a craft to take home.
URL:https://billingsfarm.org/event/thursday-threads-3/2021-08-19/
ATTACH;FMTTYPE=image/jpeg:https://billingsfarm.org/wp/wp-content/uploads/2021/04/spinning-e1619638794206.jpg
END:VEVENT
BEGIN:VEVENT
DTSTART;VALUE=DATE:20210820
DTEND;VALUE=DATE:20210821
DTSTAMP:20260422T183014
CREATED:20210629T192137Z
LAST-MODIFIED:20210629T192137Z
UID:10002901-1629417600-1629503999@billingsfarm.org
SUMMARY:Gentle Jersey Cows Week!
DESCRIPTION:Each week in July and August\, Billings Farm & Museum will highlight a different farm animal with daily up-close programs\, displays and explorations and a “themed” food recipe. \nMeet these farm animals with daily programs at 11 am\, 1 pm and 3 pm: \nGentle Jersey Cows: August 16-22 \nGiddy Goats: August 23-27 \nLearn more about the featured farm animal and their role on the farm. Enjoy a “featured animal” scavenger hunt in the Farm Life Exhibits and pick up a themed recipe from the Learning Kitchen. \nPrograms take place daily\, except on Special Event Days: (August 1\, 28 & 29).
URL:https://billingsfarm.org/event/gentle-jersey-cows-week-2/2021-08-20/
END:VEVENT
BEGIN:VEVENT
DTSTART;TZID=America/New_York:20210820T100000
DTEND;TZID=America/New_York:20210820T170000
DTSTAMP:20260422T183014
CREATED:20210701T170550Z
LAST-MODIFIED:20210701T170550Z
UID:10002912-1629453600-1629478800@billingsfarm.org
SUMMARY:"Foodie" Fridays
DESCRIPTION:Discover how we use seasonal ingredients from our farm and gardens to make delicious recipes. Culinary demonstrations and interactive garden programs.
URL:https://billingsfarm.org/event/foodie-fridays-4/2021-08-20/
END:VEVENT
BEGIN:VEVENT
DTSTART;TZID=America/New_York:20210820T100000
DTEND;TZID=America/New_York:20210820T170000
DTSTAMP:20260422T183014
CREATED:20210104T144641Z
LAST-MODIFIED:20210319T190843Z
UID:10002621-1629453600-1629478800@billingsfarm.org
SUMMARY:35th Annual Quilt Exhibition
DESCRIPTION:Explore the juried exhibition of locally-made quilts ONLINE & ONSITE. Enjoy quilting demonstrations and activities for all.
URL:https://billingsfarm.org/event/35th-annual-quilt-exhibition-2021-08-20/
CATEGORIES:Featured
ATTACH;FMTTYPE=image/jpeg:https://billingsfarm.org/wp/wp-content/uploads/2021/01/fiber-arts.jpg
END:VEVENT
BEGIN:VEVENT
DTSTART;VALUE=DATE:20210821
DTEND;VALUE=DATE:20210822
DTSTAMP:20260422T183014
CREATED:20210629T192137Z
LAST-MODIFIED:20210629T192137Z
UID:10002902-1629504000-1629590399@billingsfarm.org
SUMMARY:Gentle Jersey Cows Week!
DESCRIPTION:Each week in July and August\, Billings Farm & Museum will highlight a different farm animal with daily up-close programs\, displays and explorations and a “themed” food recipe. \nMeet these farm animals with daily programs at 11 am\, 1 pm and 3 pm: \nGentle Jersey Cows: August 16-22 \nGiddy Goats: August 23-27 \nLearn more about the featured farm animal and their role on the farm. Enjoy a “featured animal” scavenger hunt in the Farm Life Exhibits and pick up a themed recipe from the Learning Kitchen. \nPrograms take place daily\, except on Special Event Days: (August 1\, 28 & 29).
URL:https://billingsfarm.org/event/gentle-jersey-cows-week-2/2021-08-21/
END:VEVENT
BEGIN:VEVENT
DTSTART;TZID=America/New_York:20210821T100000
DTEND;TZID=America/New_York:20210821T113000
DTSTAMP:20260422T183014
CREATED:20210517T141951Z
LAST-MODIFIED:20210517T171522Z
UID:10002809-1629540000-1629545400@billingsfarm.org
SUMMARY:Billings Backyard: Putting Your Garden to Bed
DESCRIPTION:After a great season of gardening\, how can you set yourself up for success next year? Master Gardener Ben Pauly will show you all the best practices to end your season well by putting your gardens to bed. Ben will also discuss the joys of autumn gardening\, and making the most of the growing season. Find more information at Billings Backyard: Putting Your Garden to Bed. \nA Q&A period with the presenter may continue for up to 30 minutes past the scheduled end time. \nBillings Backyard is a series of workshops designed to teach sustainable living skills to adult participants and is underwritten by a generous grant from the SpringRiver Private Foundation Trust. Each workshop includes hands-on demonstrations and concrete steps for incorporating these skills into everyday life.
URL:https://billingsfarm.org/event/billings-backyard-putting-your-garden-to-bed/
CATEGORIES:Featured
ATTACH;FMTTYPE=image/jpeg:https://billingsfarm.org/wp/wp-content/uploads/2021/01/fall-gardening-billings-farm.jpg
END:VEVENT
BEGIN:VEVENT
DTSTART;TZID=America/New_York:20210821T100000
DTEND;TZID=America/New_York:20210821T170000
DTSTAMP:20260422T183014
CREATED:20210104T144641Z
LAST-MODIFIED:20210319T190916Z
UID:10002622-1629540000-1629565200@billingsfarm.org
SUMMARY:35th Annual Quilt Exhibition
DESCRIPTION:Explore the juried exhibition of locally-made quilts ONLINE & ONSITE. Enjoy quilting demonstrations and activities for all.
URL:https://billingsfarm.org/event/35th-annual-quilt-exhibition-2021-08-21/
CATEGORIES:Featured
ATTACH;FMTTYPE=image/jpeg:https://billingsfarm.org/wp/wp-content/uploads/2021/01/fiber-arts.jpg
END:VEVENT
BEGIN:VEVENT
DTSTART;VALUE=DATE:20210822
DTEND;VALUE=DATE:20210823
DTSTAMP:20260422T183014
CREATED:20210629T192137Z
LAST-MODIFIED:20210629T192137Z
UID:10002903-1629590400-1629676799@billingsfarm.org
SUMMARY:Gentle Jersey Cows Week!
DESCRIPTION:Each week in July and August\, Billings Farm & Museum will highlight a different farm animal with daily up-close programs\, displays and explorations and a “themed” food recipe. \nMeet these farm animals with daily programs at 11 am\, 1 pm and 3 pm: \nGentle Jersey Cows: August 16-22 \nGiddy Goats: August 23-27 \nLearn more about the featured farm animal and their role on the farm. Enjoy a “featured animal” scavenger hunt in the Farm Life Exhibits and pick up a themed recipe from the Learning Kitchen. \nPrograms take place daily\, except on Special Event Days: (August 1\, 28 & 29).
URL:https://billingsfarm.org/event/gentle-jersey-cows-week-2/2021-08-22/
END:VEVENT
BEGIN:VEVENT
DTSTART;TZID=America/New_York:20210822T090000
DTEND;TZID=America/New_York:20210822T094500
DTSTAMP:20260422T183014
CREATED:20210728T200542Z
LAST-MODIFIED:20210818T183719Z
UID:10002805-1629622800-1629625500@billingsfarm.org
SUMMARY:Sunflower Sunday
DESCRIPTION:Join us at 9AM for a FREE guided 45-minute meditation walk leading guests through mindful moments while surrounded by the radiant sunflowers. \nAfter meditating and yoga stretching\, enjoy herbal tea infused with herbs grown on the farm. \nEnter between 8:45 and 9AM at the Billings Farm exit gate and you will be directed where to meet the guide. No entry after 9AM. \nNo pre-registration is necessary. \nWe encourage you to bring a mat or a towel for the program. Some mats will be available to borrow on a first come\, first served basis. \nThis walk takes place before the Billings Farm & Museum site opens. To enjoy the site after 10AM\, you must purchase admission. \nContact info@billingsfarm.org for more details. \nLearn more about the 2021 Sunflower House
URL:https://billingsfarm.org/event/sunflower-sunday/
ATTACH;FMTTYPE=image/jpeg:https://billingsfarm.org/wp/wp-content/uploads/2021/07/sunflower-reduced-scaled.jpg
END:VEVENT
BEGIN:VEVENT
DTSTART;TZID=America/New_York:20210822T100000
DTEND;TZID=America/New_York:20210822T170000
DTSTAMP:20260422T183014
CREATED:20210104T144641Z
LAST-MODIFIED:20210319T185334Z
UID:10002623-1629626400-1629651600@billingsfarm.org
SUMMARY:35th Annual Quilt Exhibition
DESCRIPTION:Explore the juried exhibition of locally-made quilts ONLINE & ONSITE. Enjoy quilting demonstrations and activities for all.
URL:https://billingsfarm.org/event/35th-annual-quilt-exhibition-2021-08-22/
CATEGORIES:Featured
ATTACH;FMTTYPE=image/jpeg:https://billingsfarm.org/wp/wp-content/uploads/2021/01/fiber-arts.jpg
END:VEVENT
BEGIN:VEVENT
DTSTART;VALUE=DATE:20210823
DTEND;VALUE=DATE:20210824
DTSTAMP:20260422T183014
CREATED:20210629T192222Z
LAST-MODIFIED:20210629T192222Z
UID:10002904-1629676800-1629763199@billingsfarm.org
SUMMARY:Giddy Goats Week!
DESCRIPTION:Each week in July and August\, Billings Farm & Museum will highlight a different farm animal with daily up-close programs\, displays and explorations and a “themed” food recipe. \nMeet these farm animals with daily programs at 11 am\, 1 pm and 3 pm: \nGiddy Goats: August 23-27 \nLearn more about the featured farm animal and their role on the farm. Enjoy a “featured animal” scavenger hunt in the Farm Life Exhibits and pick up a themed recipe from the Learning Kitchen. \nPrograms take place daily\, except on Special Event Days: (August 1\, 28 & 29).
URL:https://billingsfarm.org/event/giddy-goats-week-2/2021-08-23/
END:VEVENT
BEGIN:VEVENT
DTSTART;TZID=America/New_York:20210823T100000
DTEND;TZID=America/New_York:20210823T170000
DTSTAMP:20260422T183014
CREATED:20210516T125517Z
LAST-MODIFIED:20210719T165241Z
UID:10002928-1629712800-1629738000@billingsfarm.org
SUMMARY:Mindful Monday
DESCRIPTION:Heighten your senses in our relaxing farm landscape in a 20-minute instructor-led mindfulness activity offered at 10:30\, 11:00\, and 11:30 am. Sample herbal tea and Billings Farm cheese from 11 am – 4 pm. Find inner peace with a mission-focused mantra\, complete with instructions\, available at the Ticket Desk. \nMindful Monday programs are included with admission to Billings Farm & Museum.
URL:https://billingsfarm.org/event/mindful-monday/2021-08-23/
CATEGORIES:Featured
ATTACH;FMTTYPE=image/jpeg:https://billingsfarm.org/wp/wp-content/uploads/2021/07/IMG_0862_small-e1626526601821.jpg
END:VEVENT
BEGIN:VEVENT
DTSTART;VALUE=DATE:20210824
DTEND;VALUE=DATE:20210825
DTSTAMP:20260422T183014
CREATED:20210629T192222Z
LAST-MODIFIED:20210629T192222Z
UID:10002905-1629763200-1629849599@billingsfarm.org
SUMMARY:Giddy Goats Week!
DESCRIPTION:Each week in July and August\, Billings Farm & Museum will highlight a different farm animal with daily up-close programs\, displays and explorations and a “themed” food recipe. \nMeet these farm animals with daily programs at 11 am\, 1 pm and 3 pm: \nGiddy Goats: August 23-27 \nLearn more about the featured farm animal and their role on the farm. Enjoy a “featured animal” scavenger hunt in the Farm Life Exhibits and pick up a themed recipe from the Learning Kitchen. \nPrograms take place daily\, except on Special Event Days: (August 1\, 28 & 29).
URL:https://billingsfarm.org/event/giddy-goats-week-2/2021-08-24/
END:VEVENT
BEGIN:VEVENT
DTSTART;TZID=America/New_York:20210824T100000
DTEND;TZID=America/New_York:20210824T170000
DTSTAMP:20260422T183014
CREATED:20210428T200318Z
LAST-MODIFIED:20210701T165425Z
UID:10002681-1629799200-1629824400@billingsfarm.org
SUMMARY:Time Travel Tuesdays
DESCRIPTION: Travel back in time with 1890 farm activities! Guess the artifact\, butter making\, hands-on crafts and games. \n\n10:30 & 4:00 Garden Programs  \n11:00-4:00 Historic Recipes in the Learning Kitchen \n11:00-3:00 Guess the Artifact in the exhibits \n12:00 & 2:00 Butter Making Program on the Farmhouse Terrace \nTime Travel Activity near the Garden Shed \nCroquet on the front lawn of the 1890 Farm Manager’s House 
URL:https://billingsfarm.org/event/time-travel-tuesdays-2/2021-08-24/
ATTACH;FMTTYPE=image/jpeg:https://billingsfarm.org/wp/wp-content/uploads/2021/04/TTT-laundry.jpg
END:VEVENT
BEGIN:VEVENT
DTSTART;VALUE=DATE:20210825
DTEND;VALUE=DATE:20210826
DTSTAMP:20260422T183014
CREATED:20210629T192222Z
LAST-MODIFIED:20210629T192222Z
UID:10002906-1629849600-1629935999@billingsfarm.org
SUMMARY:Giddy Goats Week!
DESCRIPTION:Each week in July and August\, Billings Farm & Museum will highlight a different farm animal with daily up-close programs\, displays and explorations and a “themed” food recipe. \nMeet these farm animals with daily programs at 11 am\, 1 pm and 3 pm: \nGiddy Goats: August 23-27 \nLearn more about the featured farm animal and their role on the farm. Enjoy a “featured animal” scavenger hunt in the Farm Life Exhibits and pick up a themed recipe from the Learning Kitchen. \nPrograms take place daily\, except on Special Event Days: (August 1\, 28 & 29).
URL:https://billingsfarm.org/event/giddy-goats-week-2/2021-08-25/
END:VEVENT
BEGIN:VEVENT
DTSTART;TZID=America/New_York:20210825T110000
DTEND;TZID=America/New_York:20210825T140000
DTSTAMP:20260422T183014
CREATED:20210428T195658Z
LAST-MODIFIED:20210706T195242Z
UID:10002673-1629889200-1629900000@billingsfarm.org
SUMMARY:Wagon Ride Wednesdays
DESCRIPTION:Enjoy a wagon ride around the farm offered from 11:00 – 2:00. \n(conditions permitting)
URL:https://billingsfarm.org/event/wagon-ride-wednesdays-2/2021-08-25/
ATTACH;FMTTYPE=image/jpeg:https://billingsfarm.org/wp/wp-content/uploads/2021/04/wagon.jpg
END:VEVENT
END:VCALENDAR