BEGIN:VCALENDAR
VERSION:2.0
PRODID:-//Billings Farm - ECPv6.15.15//NONSGML v1.0//EN
CALSCALE:GREGORIAN
METHOD:PUBLISH
X-WR-CALNAME:Billings Farm
X-ORIGINAL-URL:https://billingsfarm.org
X-WR-CALDESC:Events for Billings Farm
REFRESH-INTERVAL;VALUE=DURATION:PT1H
X-Robots-Tag:noindex
X-PUBLISHED-TTL:PT1H
BEGIN:VTIMEZONE
TZID:America/New_York
BEGIN:DAYLIGHT
TZOFFSETFROM:-0500
TZOFFSETTO:-0400
TZNAME:EDT
DTSTART:20230312T070000
END:DAYLIGHT
BEGIN:STANDARD
TZOFFSETFROM:-0400
TZOFFSETTO:-0500
TZNAME:EST
DTSTART:20231105T060000
END:STANDARD
BEGIN:DAYLIGHT
TZOFFSETFROM:-0500
TZOFFSETTO:-0400
TZNAME:EDT
DTSTART:20240310T070000
END:DAYLIGHT
BEGIN:STANDARD
TZOFFSETFROM:-0400
TZOFFSETTO:-0500
TZNAME:EST
DTSTART:20241103T060000
END:STANDARD
BEGIN:DAYLIGHT
TZOFFSETFROM:-0500
TZOFFSETTO:-0400
TZNAME:EDT
DTSTART:20250309T070000
END:DAYLIGHT
BEGIN:STANDARD
TZOFFSETFROM:-0400
TZOFFSETTO:-0500
TZNAME:EST
DTSTART:20251102T060000
END:STANDARD
END:VTIMEZONE
BEGIN:VEVENT
DTSTART;TZID=America/New_York:20240603T100000
DTEND;TZID=America/New_York:20240603T170000
DTSTAMP:20260422T223259
CREATED:20240523T183929Z
LAST-MODIFIED:20240523T184505Z
UID:10001612-1717408800-1717434000@billingsfarm.org
SUMMARY:Today's Schedule
DESCRIPTION:
URL:https://billingsfarm.org/event/todays-schedule-346/2024-06-03/
LOCATION:Billings Farm and Museum\, 69 Old River Rd\, Woodstock\, VT\, 05091\, United States
CATEGORIES:Featured
ATTACH;FMTTYPE=image/jpeg:https://billingsfarm.org/wp/wp-content/uploads/2024/05/June-3-7-10-14-1.jpg
END:VEVENT
BEGIN:VEVENT
DTSTART;TZID=America/New_York:20240603T171500
DTEND;TZID=America/New_York:20240603T183000
DTSTAMP:20260422T223259
CREATED:20240529T191943Z
LAST-MODIFIED:20240916T172052Z
UID:10003312-1717434900-1717439400@billingsfarm.org
SUMMARY:Farm & Forest Yoga Flow
DESCRIPTION:Farm & Forest Yoga Flow\nMondays\, June – September (There will be no class Mon\, Sept 16)\nTime: 5:15PM-6:30PM\nThis event is complimentary \nStretch in the beautiful pastures of Billings Farm! Free yoga sessions will be held on Monday evenings from June 3 through September 30\, from 5:15 PM to 6:30 PM. \nThis weekly Farm & Forest Yoga Flow is designed to help you connect with the land\, yourself\, and the community through movement\, meditation\, and shared experiences\, led by Jen Jackson\, a Marsh-Billings-Rockefeller Historical National Park Ranger\, and certified yoga teacher. It is suitable for participants of all experience levels\, including beginners. \nBring a mat and check in at the Billings Farm Visitor Center at 5:15PM for a tea service with herbs from the Farmstead Garden. Practice begins at 5:30PM.
URL:https://billingsfarm.org/event/farm-forest-yoga-flow/2024-06-03/
LOCATION:Billings Farm and Museum\, 69 Old River Rd\, Woodstock\, VT\, 05091\, United States
ATTACH;FMTTYPE=image/jpeg:https://billingsfarm.org/wp/wp-content/uploads/2024/05/Meditate_Social_600px.jpg
END:VEVENT
BEGIN:VEVENT
DTSTART;TZID=America/New_York:20240612T093000
DTEND;TZID=America/New_York:20240612T110000
DTSTAMP:20260422T223259
CREATED:20240305T194057Z
LAST-MODIFIED:20240318T160652Z
UID:10001260-1718184600-1718190000@billingsfarm.org
SUMMARY:Pre-k Story Time
DESCRIPTION:Goat’s Coat\n\nby Tom Percival & Christine Pym \nThis is a story about Alfonzo the goat\, his prized coat\, and his journey to finding that helping others is more important than his treasured possession. Before diving into the tale\, children will craft a goat coat puzzle. As this story about kindness unfolds\, children will remove a puzzle piece of the coat each time Alfonzo helps a friend. Following the story\, children will meet the Billings Farm goats and enjoy a snack.
URL:https://billingsfarm.org/event/pre-k-story-time-8/
LOCATION:Billings Farm and Museum\, 69 Old River Rd\, Woodstock\, VT\, 05091\, United States
CATEGORIES:Featured
ATTACH;FMTTYPE=image/png:https://billingsfarm.org/wp/wp-content/uploads/2024/03/goats-coat.png
END:VEVENT
BEGIN:VEVENT
DTSTART;TZID=America/New_York:20240615T100000
DTEND;TZID=America/New_York:20240615T170000
DTSTAMP:20260422T223259
CREATED:20240523T184028Z
LAST-MODIFIED:20240528T183959Z
UID:10001622-1718445600-1718470800@billingsfarm.org
SUMMARY:Today's Schedule
DESCRIPTION:
URL:https://billingsfarm.org/event/todays-schedule-347/2024-06-15/
LOCATION:Billings Farm and Museum\, 69 Old River Rd\, Woodstock\, VT\, 05091\, United States
CATEGORIES:Featured
ATTACH;FMTTYPE=image/jpeg:https://billingsfarm.org/wp/wp-content/uploads/2024/05/June-152223-1.jpg
END:VEVENT
BEGIN:VEVENT
DTSTART;TZID=America/New_York:20240616T100000
DTEND;TZID=America/New_York:20240616T170000
DTSTAMP:20260422T223259
CREATED:20240523T184149Z
LAST-MODIFIED:20240523T184150Z
UID:10001627-1718532000-1718557200@billingsfarm.org
SUMMARY:Today's Schedule
DESCRIPTION:
URL:https://billingsfarm.org/event/todays-schedule-349/
LOCATION:Billings Farm and Museum\, 69 Old River Rd\, Woodstock\, VT\, 05091\, United States
CATEGORIES:Featured
ATTACH;FMTTYPE=image/jpeg:https://billingsfarm.org/wp/wp-content/uploads/2024/05/Fathers-Day-6-16.jpg
END:VEVENT
BEGIN:VEVENT
DTSTART;TZID=America/New_York:20240617T100000
DTEND;TZID=America/New_York:20240617T170000
DTSTAMP:20260422T223259
CREATED:20240523T183545Z
LAST-MODIFIED:20240523T183546Z
UID:10001604-1718618400-1718643600@billingsfarm.org
SUMMARY:Today's Schedule
DESCRIPTION:
URL:https://billingsfarm.org/event/todays-schedule-343/2024-06-17/
LOCATION:Billings Farm and Museum\, 69 Old River Rd\, Woodstock\, VT\, 05091\, United States
CATEGORIES:Featured
ATTACH;FMTTYPE=image/jpeg:https://billingsfarm.org/wp/wp-content/uploads/2024/05/June-17-21.jpg
END:VEVENT
BEGIN:VEVENT
DTSTART;TZID=America/New_York:20240624T100000
DTEND;TZID=America/New_York:20240624T170000
DTSTAMP:20260422T223259
CREATED:20240523T183429Z
LAST-MODIFIED:20240523T183430Z
UID:10001601-1719223200-1719248400@billingsfarm.org
SUMMARY:Today's Schedule
DESCRIPTION:
URL:https://billingsfarm.org/event/todays-schedule-342/2024-06-24/
LOCATION:Billings Farm and Museum\, 69 Old River Rd\, Woodstock\, VT\, 05091\, United States
CATEGORIES:Featured
ATTACH;FMTTYPE=image/jpeg:https://billingsfarm.org/wp/wp-content/uploads/2024/05/June-24-26.jpg
END:VEVENT
BEGIN:VEVENT
DTSTART;TZID=America/New_York:20240627T100000
DTEND;TZID=America/New_York:20240627T170000
DTSTAMP:20260422T223259
CREATED:20240523T183650Z
LAST-MODIFIED:20240523T183651Z
UID:10001609-1719482400-1719507600@billingsfarm.org
SUMMARY:Today's Schedule
DESCRIPTION:
URL:https://billingsfarm.org/event/todays-schedule-344/2024-06-27/
LOCATION:Billings Farm and Museum\, 69 Old River Rd\, Woodstock\, VT\, 05091\, United States
CATEGORIES:Featured
ATTACH;FMTTYPE=image/jpeg:https://billingsfarm.org/wp/wp-content/uploads/2024/05/June-2728.jpg
END:VEVENT
BEGIN:VEVENT
DTSTART;TZID=America/New_York:20240629T100000
DTEND;TZID=America/New_York:20240629T170000
DTSTAMP:20260422T223259
CREATED:20240228T211824Z
LAST-MODIFIED:20240624T170047Z
UID:10000967-1719655200-1719680400@billingsfarm.org
SUMMARY:A Vermont Quilt Sampler 2024
DESCRIPTION:The Vermont Quilt Sampler Exhibition will be displayed in the Billings Farm Historic Barn gallery from June 29 – September 2\, 2024. For the first time\, this annual juried quilt exhibition includes quilts submitted from throughout Vermont—from 13 out of 14 counties in fact! \nThe display features 56 quilts showcasing a sampler of skills and techniques\, while also highlighting the stories of their makers. Interpretive panels and gallery labels guide visitors through themes including inspiration\, current events\, teaching and learning\, fabric as a memory\, humor\, and joy. These themes explore the creative process and celebrate the emotional connections that quilts can provide. \nAwards include Juror’s Choice and Staff Choice. Vote for your favorite quilt to be selected for the People’s Choice Award\, which will be announced on July 27. Ballots are available in the exhibition hall \nVisitors are invited to try engaging\, hands-on activities\, including scavenger hunts\, a quilt piecing game\, and a quilt “anatomy” display with touchable fabrics to show all the pieces that go into quilt making. Find quilt-related books for all ages in the exhibition space and create your own quilt square for a large signature quilt. \nOn select weekends\, local quilting guilds will demonstrate quilting techniques\, present quilts by guild members\, and answer questions about quilting. \n\nJuly 13: Milk and Honey Quilters Guild of Middlebury\, VT\nJuly 20: Maple Leaf Quilters of Rutland\, VT\nJuly 27: Champlain Valley Quilt Guild of Essex Junction\, VT\nAugust 10: Heart of the Land Quilters of Hartland\, VT\nAugust 24: Delectable Mountain Quilters of Barnard\, VT\n\n  \nThe exhibition is included with admission to Billings Farm & Museum
URL:https://billingsfarm.org/event/a-vermont-quilt-sampler-2024/2024-06-29/
LOCATION:Billings Farm and Museum\, 69 Old River Rd\, Woodstock\, VT\, 05091\, United States
CATEGORIES:Featured
ATTACH;FMTTYPE=image/png:https://billingsfarm.org/wp/wp-content/uploads/2024/01/Vermont-Quilt-Sampler-Billings-Farm-woodstock-Vermont.png
END:VEVENT
BEGIN:VEVENT
DTSTART;TZID=America/New_York:20240629T100000
DTEND;TZID=America/New_York:20240629T170000
DTSTAMP:20260422T223259
CREATED:20240523T184110Z
LAST-MODIFIED:20240523T184110Z
UID:10001625-1719655200-1719680400@billingsfarm.org
SUMMARY:Today's Schedule
DESCRIPTION:
URL:https://billingsfarm.org/event/todays-schedule-348/2024-06-29/
LOCATION:Billings Farm and Museum\, 69 Old River Rd\, Woodstock\, VT\, 05091\, United States
CATEGORIES:Featured
ATTACH;FMTTYPE=image/jpeg:https://billingsfarm.org/wp/wp-content/uploads/2024/05/June-2930.jpg
END:VEVENT
BEGIN:VEVENT
DTSTART;TZID=America/New_York:20240701T100000
DTEND;TZID=America/New_York:20240701T170000
DTSTAMP:20260422T223259
CREATED:20240620T173550Z
LAST-MODIFIED:20240620T173552Z
UID:10001641-1719828000-1719853200@billingsfarm.org
SUMMARY:Today's Schedule
DESCRIPTION:
URL:https://billingsfarm.org/event/todays-schedule-355/2024-07-01/
LOCATION:Billings Farm and Museum\, 69 Old River Rd\, Woodstock\, VT\, 05091\, United States
CATEGORIES:Featured
ATTACH;FMTTYPE=image/jpeg:https://billingsfarm.org/wp/wp-content/uploads/2024/06/Sun-7142128-Mon-18152229-Thurs-111825-Fri-5121926-Sat-6.jpg
END:VEVENT
BEGIN:VEVENT
DTSTART;TZID=America/New_York:20240702T100000
DTEND;TZID=America/New_York:20240702T170000
DTSTAMP:20260422T223259
CREATED:20240620T173219Z
LAST-MODIFIED:20240620T173219Z
UID:10001636-1719914400-1719939600@billingsfarm.org
SUMMARY:Today's Schedule
DESCRIPTION:
URL:https://billingsfarm.org/event/todays-schedule-354/2024-07-02/
LOCATION:Billings Farm and Museum\, 69 Old River Rd\, Woodstock\, VT\, 05091\, United States
CATEGORIES:Featured
ATTACH;FMTTYPE=image/jpeg:https://billingsfarm.org/wp/wp-content/uploads/2024/06/Time-Travel-Tuesdays-in-July-29162330.jpg
END:VEVENT
BEGIN:VEVENT
DTSTART;TZID=America/New_York:20240703T100000
DTEND;TZID=America/New_York:20240703T170000
DTSTAMP:20260422T223259
CREATED:20240620T172904Z
LAST-MODIFIED:20240620T172904Z
UID:10001630-1720000800-1720026000@billingsfarm.org
SUMMARY:Today's Schedule
DESCRIPTION:
URL:https://billingsfarm.org/event/todays-schedule-352/2024-07-03/
LOCATION:Billings Farm and Museum\, 69 Old River Rd\, Woodstock\, VT\, 05091\, United States
CATEGORIES:Featured
ATTACH;FMTTYPE=image/jpeg:https://billingsfarm.org/wp/wp-content/uploads/2024/06/Wagon-Ride-Wednesdays-in-July-310172431.jpg
END:VEVENT
BEGIN:VEVENT
DTSTART;TZID=America/New_York:20240705T100000
DTEND;TZID=America/New_York:20240705T170000
DTSTAMP:20260422T223259
CREATED:20240620T174119Z
LAST-MODIFIED:20240620T174119Z
UID:10001653-1720173600-1720198800@billingsfarm.org
SUMMARY:Today's Schedule
DESCRIPTION:
URL:https://billingsfarm.org/event/todays-schedule-356/2024-07-05/
LOCATION:Billings Farm and Museum\, 69 Old River Rd\, Woodstock\, VT\, 05091\, United States
CATEGORIES:Featured
ATTACH;FMTTYPE=image/jpeg:https://billingsfarm.org/wp/wp-content/uploads/2024/06/Sun-7142128-Mon-18152229-Thurs-111825-Fri-5121926-Sat-6.jpg
END:VEVENT
BEGIN:VEVENT
DTSTART;TZID=America/New_York:20240710T093000
DTEND;TZID=America/New_York:20240710T110000
DTSTAMP:20260422T223259
CREATED:20240305T194503Z
LAST-MODIFIED:20240318T160617Z
UID:10001261-1720603800-1720609200@billingsfarm.org
SUMMARY:Pre-k Story Time
DESCRIPTION:Flowers are Calling\n\nby Rita Gra \nFlowers are calling to all the animals of the forest\, “Drink me!”—but it’s the pollinators who feast on their nectar. This beautifully illustrated tale explores the interconnectedness of nature and the cooperation between plants\, animals\, and insects. Following the story\, children will visit the Farmstead Gardens\, make a paper plate flower\, and enjoy a snack of apples slices and honey.
URL:https://billingsfarm.org/event/pre-k-story-time-9/
LOCATION:Billings Farm and Museum\, 69 Old River Rd\, Woodstock\, VT\, 05091\, United States
CATEGORIES:Featured
ATTACH;FMTTYPE=image/png:https://billingsfarm.org/wp/wp-content/uploads/2024/03/flowers-are-calling.png
END:VEVENT
BEGIN:VEVENT
DTSTART;TZID=America/New_York:20240713T100000
DTEND;TZID=America/New_York:20240713T170000
DTSTAMP:20260422T223259
CREATED:20240620T172656Z
LAST-MODIFIED:20240620T172657Z
UID:10001629-1720864800-1720890000@billingsfarm.org
SUMMARY:Today's Schedule
DESCRIPTION:
URL:https://billingsfarm.org/event/todays-schedule-351/
LOCATION:Billings Farm and Museum\, 69 Old River Rd\, Woodstock\, VT\, 05091\, United States
CATEGORIES:Featured
ATTACH;FMTTYPE=image/jpeg:https://billingsfarm.org/wp/wp-content/uploads/2024/06/Saturday-July-13.jpg
END:VEVENT
BEGIN:VEVENT
DTSTART;TZID=America/New_York:20240720T100000
DTEND;TZID=America/New_York:20240720T113000
DTSTAMP:20260422T223259
CREATED:20240422T201215Z
LAST-MODIFIED:20240423T210840Z
UID:10001383-1721469600-1721475000@billingsfarm.org
SUMMARY:Billings Backyard: Raising Poultry for Meat
DESCRIPTION:Price:  $15/person\, $10/Billings Farm member\nPresenters: Tim & Emily Fox of Highlow Farm\nFor Ages: 16+ \nBecome a steward of your own healthy food source.  This workshop will include a comprehensive lecture covering poultry-raising topics such as breed selection\, chick sourcing\, brooding\, housing\, and optimizing feed for a thriving flock.  To ensure the well-being of the birds\, participants will gain insights into predator protection strategies and ways to troubleshoot common health issues.  The workshop will cover processing and post-processing techniques to safely and humanely harvest meat birds. \nThe session will be followed by a 30-minute Q&A. \nContact info@billingsfarm.org with questions.
URL:https://billingsfarm.org/event/billings-backyard-raising-poultry-for-meat/
LOCATION:Billings Farm and Museum\, 69 Old River Rd\, Woodstock\, VT\, 05091\, United States
CATEGORIES:Featured
ATTACH;FMTTYPE=image/png:https://billingsfarm.org/wp/wp-content/uploads/2024/04/BB-Meat-Poultry.png
END:VEVENT
BEGIN:VEVENT
DTSTART;TZID=America/New_York:20240720T100000
DTEND;TZID=America/New_York:20240720T170000
DTSTAMP:20260422T223259
CREATED:20240620T173016Z
LAST-MODIFIED:20240620T173016Z
UID:10001635-1721469600-1721494800@billingsfarm.org
SUMMARY:Today's Schedule
DESCRIPTION:
URL:https://billingsfarm.org/event/todays-schedule-353/
LOCATION:Billings Farm and Museum\, 69 Old River Rd\, Woodstock\, VT\, 05091\, United States
CATEGORIES:Featured
ATTACH;FMTTYPE=image/jpeg:https://billingsfarm.org/wp/wp-content/uploads/2024/06/Saturday-July-20.jpg
END:VEVENT
BEGIN:VEVENT
DTSTART;TZID=America/New_York:20240726T170000
DTEND;TZID=America/New_York:20240726T193000
DTSTAMP:20260422T223259
CREATED:20240607T151430Z
LAST-MODIFIED:20240724T183612Z
UID:10003330-1722013200-1722022200@billingsfarm.org
SUMMARY:Moos & Brews & Cocktails Too!
DESCRIPTION: 
URL:https://billingsfarm.org/event/moos-brews-cocktails-too-4/
LOCATION:Billings Farm and Museum\, 69 Old River Rd\, Woodstock\, VT\, 05091\, United States
CATEGORIES:Featured
ATTACH;FMTTYPE=image/jpeg:https://billingsfarm.org/wp/wp-content/uploads/2024/06/Moos-and-Brews-July-600px.jpg
END:VEVENT
BEGIN:VEVENT
DTSTART;TZID=America/New_York:20240727T100000
DTEND;TZID=America/New_York:20240727T170000
DTSTAMP:20260422T223259
CREATED:20240620T172533Z
LAST-MODIFIED:20240620T172533Z
UID:10001628-1722074400-1722099600@billingsfarm.org
SUMMARY:Today's Schedule
DESCRIPTION:
URL:https://billingsfarm.org/event/todays-schedule-350/
LOCATION:Billings Farm and Museum\, 69 Old River Rd\, Woodstock\, VT\, 05091\, United States
CATEGORIES:Featured
ATTACH;FMTTYPE=image/jpeg:https://billingsfarm.org/wp/wp-content/uploads/2024/06/Saturday-July-27.jpg
END:VEVENT
BEGIN:VEVENT
DTSTART;TZID=America/New_York:20240801T100000
DTEND;TZID=America/New_York:20240801T170000
DTSTAMP:20260422T223259
CREATED:20240725T182954Z
LAST-MODIFIED:20240725T182955Z
UID:10000348-1722506400-1722531600@billingsfarm.org
SUMMARY:Today's Schedule
DESCRIPTION:
URL:https://billingsfarm.org/event/todays-schedule-357/
LOCATION:Billings Farm and Museum\, 69 Old River Rd\, Woodstock\, VT\, 05091\, United States
CATEGORIES:Featured
ATTACH;FMTTYPE=image/jpeg:https://billingsfarm.org/wp/wp-content/uploads/2024/07/Thursday-Threads-August-1-Quilting-copy.jpg
END:VEVENT
BEGIN:VEVENT
DTSTART;TZID=America/New_York:20240802T100000
DTEND;TZID=America/New_York:20240802T170000
DTSTAMP:20260422T223259
CREATED:20240725T193205Z
LAST-MODIFIED:20240725T193207Z
UID:10000357-1722592800-1722618000@billingsfarm.org
SUMMARY:Today's Schedule
DESCRIPTION:
URL:https://billingsfarm.org/event/todays-schedule-363/2024-08-02/
LOCATION:Billings Farm and Museum\, 69 Old River Rd\, Woodstock\, VT\, 05091\, United States
CATEGORIES:Featured
ATTACH;FMTTYPE=image/jpeg:https://billingsfarm.org/wp/wp-content/uploads/2024/07/August-2356911-131618-202325-273031.jpg
END:VEVENT
BEGIN:VEVENT
DTSTART;TZID=America/New_York:20240807T100000
DTEND;TZID=America/New_York:20240807T170000
DTSTAMP:20260422T223259
CREATED:20240725T192852Z
LAST-MODIFIED:20240725T192852Z
UID:10000353-1723024800-1723050000@billingsfarm.org
SUMMARY:Today's Schedule
DESCRIPTION:
URL:https://billingsfarm.org/event/todays-schedule-362/2024-08-07/
LOCATION:Billings Farm and Museum\, 69 Old River Rd\, Woodstock\, VT\, 05091\, United States
CATEGORIES:Featured
ATTACH;FMTTYPE=image/jpeg:https://billingsfarm.org/wp/wp-content/uploads/2024/07/Wagon-Ride-Wednesdays-in-August-7-14-21-28.jpg
END:VEVENT
BEGIN:VEVENT
DTSTART;TZID=America/New_York:20240808T100000
DTEND;TZID=America/New_York:20240808T170000
DTSTAMP:20260422T223259
CREATED:20240725T183211Z
LAST-MODIFIED:20240725T183212Z
UID:10000349-1723111200-1723136400@billingsfarm.org
SUMMARY:Today's Schedule
DESCRIPTION:
URL:https://billingsfarm.org/event/todays-schedule-358/
LOCATION:Billings Farm and Museum\, 69 Old River Rd\, Woodstock\, VT\, 05091\, United States
CATEGORIES:Featured
ATTACH;FMTTYPE=image/jpeg:https://billingsfarm.org/wp/wp-content/uploads/2024/07/Thursday-Threads-August-8-Knit-Crochet.jpg
END:VEVENT
BEGIN:VEVENT
DTSTART;TZID=America/New_York:20240810T100000
DTEND;TZID=America/New_York:20240810T170000
DTSTAMP:20260422T223259
CREATED:20240725T193332Z
LAST-MODIFIED:20240725T193332Z
UID:10001659-1723284000-1723309200@billingsfarm.org
SUMMARY:Today's Schedule
DESCRIPTION:
URL:https://billingsfarm.org/event/todays-schedule-365/
LOCATION:Billings Farm and Museum\, 69 Old River Rd\, Woodstock\, VT\, 05091\, United States
CATEGORIES:Featured
ATTACH;FMTTYPE=image/jpeg:https://billingsfarm.org/wp/wp-content/uploads/2024/07/Saturday-Aug-10-Heart-of-the-Land-Guild.jpg
END:VEVENT
BEGIN:VEVENT
DTSTART;TZID=America/New_York:20240814T093000
DTEND;TZID=America/New_York:20240814T110000
DTSTAMP:20260422T223259
CREATED:20240305T194556Z
LAST-MODIFIED:20240318T160523Z
UID:10001262-1723627800-1723633200@billingsfarm.org
SUMMARY:Pre-k Story Time
DESCRIPTION:The Scarecrow’s Hat\n\nby Ken Brown \nChicken really admires Scarecrow’s straw hat. Scarecrow would gladly trade his hat for a walking stick to rest his tired arms. Chicken doesn’t have a walking stick to trade—but she knows someone who does.  Following the tale’s themes of friendship\, bartering\, and problem-solving\, children will embark on a scavenger around the farm\, trading items with the animals.  Each exchange will bring participants closer to a scarecrow-themed gift to take home.  This will include a snack of garden veggies and homemade ranch dip.
URL:https://billingsfarm.org/event/pre-k-story-time-10/
LOCATION:Billings Farm and Museum\, 69 Old River Rd\, Woodstock\, VT\, 05091\, United States
CATEGORIES:Featured
ATTACH;FMTTYPE=image/png:https://billingsfarm.org/wp/wp-content/uploads/2024/03/The-Scarecrows-Hat.png
END:VEVENT
BEGIN:VEVENT
DTSTART;TZID=America/New_York:20240815T100000
DTEND;TZID=America/New_York:20240815T170000
DTSTAMP:20260422T223259
CREATED:20240725T192625Z
LAST-MODIFIED:20240725T192625Z
UID:10000350-1723716000-1723741200@billingsfarm.org
SUMMARY:Today's Schedule
DESCRIPTION:
URL:https://billingsfarm.org/event/todays-schedule-359/
LOCATION:Billings Farm and Museum\, 69 Old River Rd\, Woodstock\, VT\, 05091\, United States
CATEGORIES:Featured
ATTACH;FMTTYPE=image/jpeg:https://billingsfarm.org/wp/wp-content/uploads/2024/07/Thursday-Threads-August-15-Weaving.jpg
END:VEVENT
BEGIN:VEVENT
DTSTART;TZID=America/New_York:20240822T100000
DTEND;TZID=America/New_York:20240822T170000
DTSTAMP:20260422T223259
CREATED:20240725T192702Z
LAST-MODIFIED:20240725T192702Z
UID:10000351-1724320800-1724346000@billingsfarm.org
SUMMARY:Today's Schedule
DESCRIPTION:
URL:https://billingsfarm.org/event/todays-schedule-360/
LOCATION:Billings Farm and Museum\, 69 Old River Rd\, Woodstock\, VT\, 05091\, United States
CATEGORIES:Featured
ATTACH;FMTTYPE=image/jpeg:https://billingsfarm.org/wp/wp-content/uploads/2024/07/Thursday-Threads-August-22-Embroidery.jpg
END:VEVENT
BEGIN:VEVENT
DTSTART;TZID=America/New_York:20240824T100000
DTEND;TZID=America/New_York:20240824T170000
DTSTAMP:20260422T223259
CREATED:20240725T193255Z
LAST-MODIFIED:20240725T193255Z
UID:10001658-1724493600-1724518800@billingsfarm.org
SUMMARY:Today's Schedule
DESCRIPTION:
URL:https://billingsfarm.org/event/todays-schedule-364/
LOCATION:Billings Farm and Museum\, 69 Old River Rd\, Woodstock\, VT\, 05091\, United States
CATEGORIES:Featured
ATTACH;FMTTYPE=image/jpeg:https://billingsfarm.org/wp/wp-content/uploads/2024/07/Saturday-Aug-24-Delectable-Mountain-Guild.jpg
END:VEVENT
BEGIN:VEVENT
DTSTART;TZID=America/New_York:20240829T100000
DTEND;TZID=America/New_York:20240829T170000
DTSTAMP:20260422T223259
CREATED:20240725T192739Z
LAST-MODIFIED:20240725T192739Z
UID:10000352-1724925600-1724950800@billingsfarm.org
SUMMARY:Today's Schedule
DESCRIPTION:
URL:https://billingsfarm.org/event/todays-schedule-361/
LOCATION:Billings Farm and Museum\, 69 Old River Rd\, Woodstock\, VT\, 05091\, United States
CATEGORIES:Featured
ATTACH;FMTTYPE=image/jpeg:https://billingsfarm.org/wp/wp-content/uploads/2024/07/Thursday-Threads-August-29-Spinning-copy.jpg
END:VEVENT
END:VCALENDAR