BEGIN:VCALENDAR
VERSION:2.0
PRODID:-//Billings Farm - ECPv6.15.15//NONSGML v1.0//EN
CALSCALE:GREGORIAN
METHOD:PUBLISH
X-WR-CALNAME:Billings Farm
X-ORIGINAL-URL:https://billingsfarm.org
X-WR-CALDESC:Events for Billings Farm
REFRESH-INTERVAL;VALUE=DURATION:PT1H
X-Robots-Tag:noindex
X-PUBLISHED-TTL:PT1H
BEGIN:VTIMEZONE
TZID:America/New_York
BEGIN:DAYLIGHT
TZOFFSETFROM:-0500
TZOFFSETTO:-0400
TZNAME:EDT
DTSTART:20190310T070000
END:DAYLIGHT
BEGIN:STANDARD
TZOFFSETFROM:-0400
TZOFFSETTO:-0500
TZNAME:EST
DTSTART:20191103T060000
END:STANDARD
BEGIN:DAYLIGHT
TZOFFSETFROM:-0500
TZOFFSETTO:-0400
TZNAME:EDT
DTSTART:20200308T070000
END:DAYLIGHT
BEGIN:STANDARD
TZOFFSETFROM:-0400
TZOFFSETTO:-0500
TZNAME:EST
DTSTART:20201101T060000
END:STANDARD
BEGIN:DAYLIGHT
TZOFFSETFROM:-0500
TZOFFSETTO:-0400
TZNAME:EDT
DTSTART:20210314T070000
END:DAYLIGHT
BEGIN:STANDARD
TZOFFSETFROM:-0400
TZOFFSETTO:-0500
TZNAME:EST
DTSTART:20211107T060000
END:STANDARD
END:VTIMEZONE
BEGIN:VEVENT
DTSTART;TZID=America/New_York:20200424T100000
DTEND;TZID=America/New_York:20200424T160000
DTSTAMP:20260423T040445
CREATED:20171019T172250Z
LAST-MODIFIED:20200730T135851Z
UID:10000018-1587722400-1587744000@billingsfarm.org
SUMMARY:Foodie Fridays - An Online Program
DESCRIPTION:Visit Billings Farm at Home and discover how we use seasonal ingredients from our farm and gardens to make delicious recipes.  
URL:https://billingsfarm.org/event/foodie-fridays-2/2020-04-24/
CATEGORIES:Featured
END:VEVENT
BEGIN:VEVENT
DTSTART;TZID=America/New_York:20200417T100000
DTEND;TZID=America/New_York:20200417T160000
DTSTAMP:20260423T040445
CREATED:20171019T172250Z
LAST-MODIFIED:20200730T135851Z
UID:10000017-1587117600-1587139200@billingsfarm.org
SUMMARY:Foodie Fridays - An Online Program
DESCRIPTION:Visit Billings Farm at Home and discover how we use seasonal ingredients from our farm and gardens to make delicious recipes.  
URL:https://billingsfarm.org/event/foodie-fridays-2/2020-04-17/
CATEGORIES:Featured
END:VEVENT
BEGIN:VEVENT
DTSTART;TZID=America/New_York:20200410T100000
DTEND;TZID=America/New_York:20200410T160000
DTSTAMP:20260423T040445
CREATED:20171019T172250Z
LAST-MODIFIED:20200730T135851Z
UID:10000016-1586512800-1586534400@billingsfarm.org
SUMMARY:Foodie Fridays - An Online Program
DESCRIPTION:Visit Billings Farm at Home and discover how we use seasonal ingredients from our farm and gardens to make delicious recipes.  
URL:https://billingsfarm.org/event/foodie-fridays-2/2020-04-10/
CATEGORIES:Featured
END:VEVENT
BEGIN:VEVENT
DTSTART;TZID=America/New_York:20200403T100000
DTEND;TZID=America/New_York:20200403T160000
DTSTAMP:20260423T040445
CREATED:20171019T172250Z
LAST-MODIFIED:20200730T135851Z
UID:10000015-1585908000-1585929600@billingsfarm.org
SUMMARY:Foodie Fridays - An Online Program
DESCRIPTION:Visit Billings Farm at Home and discover how we use seasonal ingredients from our farm and gardens to make delicious recipes.  
URL:https://billingsfarm.org/event/foodie-fridays-2/2020-04-03/
CATEGORIES:Featured
END:VEVENT
BEGIN:VEVENT
DTSTART;TZID=America/New_York:20200327T100000
DTEND;TZID=America/New_York:20200327T160000
DTSTAMP:20260423T040445
CREATED:20171019T172250Z
LAST-MODIFIED:20200730T135851Z
UID:10000014-1585303200-1585324800@billingsfarm.org
SUMMARY:Foodie Fridays - An Online Program
DESCRIPTION:Visit Billings Farm at Home and discover how we use seasonal ingredients from our farm and gardens to make delicious recipes.  
URL:https://billingsfarm.org/event/foodie-fridays-2/2020-03-27/
CATEGORIES:Featured
END:VEVENT
END:VCALENDAR