BEGIN:VCALENDAR
VERSION:2.0
PRODID:-//Billings Farm - ECPv6.15.15//NONSGML v1.0//EN
CALSCALE:GREGORIAN
METHOD:PUBLISH
X-WR-CALNAME:Billings Farm
X-ORIGINAL-URL:https://billingsfarm.org
X-WR-CALDESC:Events for Billings Farm
REFRESH-INTERVAL;VALUE=DURATION:PT1H
X-Robots-Tag:noindex
X-PUBLISHED-TTL:PT1H
BEGIN:VTIMEZONE
TZID:America/New_York
BEGIN:DAYLIGHT
TZOFFSETFROM:-0500
TZOFFSETTO:-0400
TZNAME:EDT
DTSTART:20190310T070000
END:DAYLIGHT
BEGIN:STANDARD
TZOFFSETFROM:-0400
TZOFFSETTO:-0500
TZNAME:EST
DTSTART:20191103T060000
END:STANDARD
BEGIN:DAYLIGHT
TZOFFSETFROM:-0500
TZOFFSETTO:-0400
TZNAME:EDT
DTSTART:20200308T070000
END:DAYLIGHT
BEGIN:STANDARD
TZOFFSETFROM:-0400
TZOFFSETTO:-0500
TZNAME:EST
DTSTART:20201101T060000
END:STANDARD
BEGIN:DAYLIGHT
TZOFFSETFROM:-0500
TZOFFSETTO:-0400
TZNAME:EDT
DTSTART:20210314T070000
END:DAYLIGHT
BEGIN:STANDARD
TZOFFSETFROM:-0400
TZOFFSETTO:-0500
TZNAME:EST
DTSTART:20211107T060000
END:STANDARD
END:VTIMEZONE
BEGIN:VTIMEZONE
TZID:America/New_York
BEGIN:DAYLIGHT
TZOFFSETFROM:-0500
TZOFFSETTO:-0400
TZNAME:EDT
DTSTART:20190310T070000
END:DAYLIGHT
BEGIN:STANDARD
TZOFFSETFROM:-0400
TZOFFSETTO:-0500
TZNAME:EST
DTSTART:20191103T060000
END:STANDARD
BEGIN:DAYLIGHT
TZOFFSETFROM:-0500
TZOFFSETTO:-0400
TZNAME:EDT
DTSTART:20200308T070000
END:DAYLIGHT
BEGIN:STANDARD
TZOFFSETFROM:-0400
TZOFFSETTO:-0500
TZNAME:EST
DTSTART:20201101T060000
END:STANDARD
BEGIN:DAYLIGHT
TZOFFSETFROM:-0500
TZOFFSETTO:-0400
TZNAME:EDT
DTSTART:20210314T070000
END:DAYLIGHT
BEGIN:STANDARD
TZOFFSETFROM:-0400
TZOFFSETTO:-0500
TZNAME:EST
DTSTART:20211107T060000
END:STANDARD
END:VTIMEZONE
BEGIN:VEVENT
DTSTART;TZID=America/New_York:20200707T100000
DTEND;TZID=America/New_York:20200707T160000
DTSTAMP:20260423T052658
CREATED:20171019T180157Z
LAST-MODIFIED:20200707T203517Z
UID:10000033-1594116000-1594137600@billingsfarm.org
SUMMARY:Time Travel Tuesdays - An Online Program
DESCRIPTION: Travel back in time online at Billings Farm at Home to learn about the history of farm and daily life at Billings Farm and in Vermont.
URL:https://billingsfarm.org/event/time-travel-tuesdays-2019/2020-07-07/
LOCATION:– An Online Program
CATEGORIES:Featured
ATTACH;FMTTYPE=:
END:VEVENT
BEGIN:VEVENT
DTSTART;TZID=America/New_York:20200710T100000
DTEND;TZID=America/New_York:20200710T160000
DTSTAMP:20260423T052658
CREATED:20171019T172250Z
LAST-MODIFIED:20200730T135851Z
UID:10000029-1594375200-1594396800@billingsfarm.org
SUMMARY:Foodie Fridays - An Online Program
DESCRIPTION:Visit Billings Farm at Home and discover how we use seasonal ingredients from our farm and gardens to make delicious recipes.  
URL:https://billingsfarm.org/event/foodie-fridays-2/2020-07-10/
CATEGORIES:Featured
END:VEVENT
BEGIN:VEVENT
DTSTART;TZID=America/New_York:20200714T100000
DTEND;TZID=America/New_York:20200714T160000
DTSTAMP:20260423T052658
CREATED:20171019T180157Z
LAST-MODIFIED:20200707T203517Z
UID:10000034-1594720800-1594742400@billingsfarm.org
SUMMARY:Time Travel Tuesdays - An Online Program
DESCRIPTION: Travel back in time online at Billings Farm at Home to learn about the history of farm and daily life at Billings Farm and in Vermont.
URL:https://billingsfarm.org/event/time-travel-tuesdays-2019/2020-07-14/
LOCATION:– An Online Program
CATEGORIES:Featured
ATTACH;FMTTYPE=:
END:VEVENT
BEGIN:VEVENT
DTSTART;TZID=America/New_York:20200717T100000
DTEND;TZID=America/New_York:20200717T160000
DTSTAMP:20260423T052658
CREATED:20171019T172250Z
LAST-MODIFIED:20200730T135851Z
UID:10000030-1594980000-1595001600@billingsfarm.org
SUMMARY:Foodie Fridays - An Online Program
DESCRIPTION:Visit Billings Farm at Home and discover how we use seasonal ingredients from our farm and gardens to make delicious recipes.  
URL:https://billingsfarm.org/event/foodie-fridays-2/2020-07-17/
CATEGORIES:Featured
END:VEVENT
BEGIN:VEVENT
DTSTART;TZID=America/New_York:20200718T100000
DTEND;TZID=America/New_York:20200718T160000
DTSTAMP:20260423T052658
CREATED:20171019T172342Z
LAST-MODIFIED:20200814T100436Z
UID:10000043-1595066400-1595088000@billingsfarm.org
SUMMARY:34th Annual Quilt Exhibition
DESCRIPTION:Explore the juried exhibition of locally-made quilts. Enjoy quilting demonstrations and activities for children and adults.
URL:https://billingsfarm.org/event/34th-annual-quilt-exhibition/2020-07-18/
CATEGORIES:Featured
ATTACH;FMTTYPE=:
END:VEVENT
BEGIN:VEVENT
DTSTART;TZID=America/New_York:20200719T100000
DTEND;TZID=America/New_York:20200719T160000
DTSTAMP:20260423T052658
CREATED:20171019T172342Z
LAST-MODIFIED:20200814T100436Z
UID:10000044-1595152800-1595174400@billingsfarm.org
SUMMARY:34th Annual Quilt Exhibition
DESCRIPTION:Explore the juried exhibition of locally-made quilts. Enjoy quilting demonstrations and activities for children and adults.
URL:https://billingsfarm.org/event/34th-annual-quilt-exhibition/2020-07-19/
CATEGORIES:Featured
ATTACH;FMTTYPE=:
END:VEVENT
BEGIN:VEVENT
DTSTART;TZID=America/New_York:20200720T100000
DTEND;TZID=America/New_York:20200720T160000
DTSTAMP:20260423T052658
CREATED:20171019T172342Z
LAST-MODIFIED:20200814T100436Z
UID:10000045-1595239200-1595260800@billingsfarm.org
SUMMARY:34th Annual Quilt Exhibition
DESCRIPTION:Explore the juried exhibition of locally-made quilts. Enjoy quilting demonstrations and activities for children and adults.
URL:https://billingsfarm.org/event/34th-annual-quilt-exhibition/2020-07-20/
CATEGORIES:Featured
ATTACH;FMTTYPE=:
END:VEVENT
BEGIN:VEVENT
DTSTART;TZID=America/New_York:20200721T100000
DTEND;TZID=America/New_York:20200721T160000
DTSTAMP:20260423T052658
CREATED:20171019T180157Z
LAST-MODIFIED:20200707T203517Z
UID:10000035-1595325600-1595347200@billingsfarm.org
SUMMARY:Time Travel Tuesdays - An Online Program
DESCRIPTION: Travel back in time online at Billings Farm at Home to learn about the history of farm and daily life at Billings Farm and in Vermont.
URL:https://billingsfarm.org/event/time-travel-tuesdays-2019/2020-07-21/
LOCATION:– An Online Program
CATEGORIES:Featured
ATTACH;FMTTYPE=:
END:VEVENT
BEGIN:VEVENT
DTSTART;TZID=America/New_York:20200723T100000
DTEND;TZID=America/New_York:20200723T160000
DTSTAMP:20260423T052658
CREATED:20171019T172342Z
LAST-MODIFIED:20200814T100436Z
UID:10000046-1595498400-1595520000@billingsfarm.org
SUMMARY:34th Annual Quilt Exhibition
DESCRIPTION:Explore the juried exhibition of locally-made quilts. Enjoy quilting demonstrations and activities for children and adults.
URL:https://billingsfarm.org/event/34th-annual-quilt-exhibition/2020-07-23/
CATEGORIES:Featured
ATTACH;FMTTYPE=:
END:VEVENT
BEGIN:VEVENT
DTSTART;TZID=America/New_York:20200723T100000
DTEND;TZID=America/New_York:20200723T160000
DTSTAMP:20260423T052658
CREATED:20200123T160845Z
LAST-MODIFIED:20200707T203652Z
UID:10000190-1595498400-1595520000@billingsfarm.org
SUMMARY:Thursday Threads - An Online Program
DESCRIPTION:Keep your hands and minds busy with weekly fiber crafts and facts about wool and other fabric fibers on Thursdays during the Quilt Exhibition\, beginning July 23 at Billings Farm at Home.
URL:https://billingsfarm.org/event/thursday-threads-2/2020-07-23/
ATTACH;FMTTYPE=:
END:VEVENT
BEGIN:VEVENT
DTSTART;TZID=America/New_York:20200724T100000
DTEND;TZID=America/New_York:20200724T160000
DTSTAMP:20260423T052658
CREATED:20171019T172342Z
LAST-MODIFIED:20200814T100436Z
UID:10000047-1595584800-1595606400@billingsfarm.org
SUMMARY:34th Annual Quilt Exhibition
DESCRIPTION:Explore the juried exhibition of locally-made quilts. Enjoy quilting demonstrations and activities for children and adults.
URL:https://billingsfarm.org/event/34th-annual-quilt-exhibition/2020-07-24/
CATEGORIES:Featured
ATTACH;FMTTYPE=:
END:VEVENT
BEGIN:VEVENT
DTSTART;TZID=America/New_York:20200725T090000
DTEND;TZID=America/New_York:20200725T120000
DTSTAMP:20260423T052658
CREATED:20200723T183208Z
LAST-MODIFIED:20200723T183246Z
UID:10002698-1595667600-1595678400@billingsfarm.org
SUMMARY:Billings Backyard Series: Composting Workshop
DESCRIPTION:Grow Compost would like to share our love of compost with you in a workshop to be held at Billings Farm & Museum on Saturday\, July 25 from 9AM to 12PM. \nVermont now prohibits food scraps from going to landfill. Lucky for us\, these scraps are full of nutrients that can benefit our soils\, help us to grow organic food and keep dangerous greenhouse gases from entering the atmosphere. \nDiscover the benefits of “closing the loop” with your own household food scraps in this interactive\, hands-on demonstration of a healthy compost and digesting system. \nSpend a few hours with us outdoors and learn: \nHow to contain your backyard compost\nWhere to locate your pile or bin\nWhat to put into your compost pile (and what to avoid!)\nHow to manage your compost pile\nTroubleshooting\nHarvesting your compost\nAlternatives to a backyard bin (pick up service\, or drop-off composting)\nAs well as these important details: \nHow to avoid issues with wildlife\nHow to use your compost after harvest\nVisiting Billings Farm Safely: This workshop will be held outdoors; social distancing and face coverings are required (safety details). \nRegistration for this event is non-refundable. Call 802-457-2355 for more details. Register here>
URL:https://billingsfarm.org/event/billings-backyard-series-composting-workshop/
ATTACH;FMTTYPE=image/jpeg:https://billingsfarm.org/wp/wp-content/uploads/2020/07/composting-workshop-home-page.jpg
END:VEVENT
BEGIN:VEVENT
DTSTART;TZID=America/New_York:20200725T100000
DTEND;TZID=America/New_York:20200725T160000
DTSTAMP:20260423T052658
CREATED:20171019T172342Z
LAST-MODIFIED:20200814T100436Z
UID:10000048-1595671200-1595692800@billingsfarm.org
SUMMARY:34th Annual Quilt Exhibition
DESCRIPTION:Explore the juried exhibition of locally-made quilts. Enjoy quilting demonstrations and activities for children and adults.
URL:https://billingsfarm.org/event/34th-annual-quilt-exhibition/2020-07-25/
CATEGORIES:Featured
ATTACH;FMTTYPE=:
END:VEVENT
BEGIN:VEVENT
DTSTART;TZID=America/New_York:20200726T100000
DTEND;TZID=America/New_York:20200726T160000
DTSTAMP:20260423T052658
CREATED:20171019T172342Z
LAST-MODIFIED:20200814T100436Z
UID:10000049-1595757600-1595779200@billingsfarm.org
SUMMARY:34th Annual Quilt Exhibition
DESCRIPTION:Explore the juried exhibition of locally-made quilts. Enjoy quilting demonstrations and activities for children and adults.
URL:https://billingsfarm.org/event/34th-annual-quilt-exhibition/2020-07-26/
CATEGORIES:Featured
ATTACH;FMTTYPE=:
END:VEVENT
BEGIN:VEVENT
DTSTART;TZID=America/New_York:20200727T100000
DTEND;TZID=America/New_York:20200727T160000
DTSTAMP:20260423T052658
CREATED:20171019T172342Z
LAST-MODIFIED:20200814T100436Z
UID:10000050-1595844000-1595865600@billingsfarm.org
SUMMARY:34th Annual Quilt Exhibition
DESCRIPTION:Explore the juried exhibition of locally-made quilts. Enjoy quilting demonstrations and activities for children and adults.
URL:https://billingsfarm.org/event/34th-annual-quilt-exhibition/2020-07-27/
CATEGORIES:Featured
ATTACH;FMTTYPE=:
END:VEVENT
BEGIN:VEVENT
DTSTART;TZID=America/New_York:20200728T100000
DTEND;TZID=America/New_York:20200728T160000
DTSTAMP:20260423T052658
CREATED:20171019T180157Z
LAST-MODIFIED:20200707T203517Z
UID:10000036-1595930400-1595952000@billingsfarm.org
SUMMARY:Time Travel Tuesdays - An Online Program
DESCRIPTION: Travel back in time online at Billings Farm at Home to learn about the history of farm and daily life at Billings Farm and in Vermont.
URL:https://billingsfarm.org/event/time-travel-tuesdays-2019/2020-07-28/
LOCATION:– An Online Program
CATEGORIES:Featured
ATTACH;FMTTYPE=:
END:VEVENT
BEGIN:VEVENT
DTSTART;TZID=America/New_York:20200730T100000
DTEND;TZID=America/New_York:20200730T160000
DTSTAMP:20260423T052658
CREATED:20171019T172342Z
LAST-MODIFIED:20200814T100436Z
UID:10000051-1596103200-1596124800@billingsfarm.org
SUMMARY:34th Annual Quilt Exhibition
DESCRIPTION:Explore the juried exhibition of locally-made quilts. Enjoy quilting demonstrations and activities for children and adults.
URL:https://billingsfarm.org/event/34th-annual-quilt-exhibition/2020-07-30/
CATEGORIES:Featured
ATTACH;FMTTYPE=:
END:VEVENT
BEGIN:VEVENT
DTSTART;TZID=America/New_York:20200730T100000
DTEND;TZID=America/New_York:20200730T160000
DTSTAMP:20260423T052658
CREATED:20200123T160845Z
LAST-MODIFIED:20200707T203652Z
UID:10000191-1596103200-1596124800@billingsfarm.org
SUMMARY:Thursday Threads - An Online Program
DESCRIPTION:Keep your hands and minds busy with weekly fiber crafts and facts about wool and other fabric fibers on Thursdays during the Quilt Exhibition\, beginning July 23 at Billings Farm at Home.
URL:https://billingsfarm.org/event/thursday-threads-2/2020-07-30/
ATTACH;FMTTYPE=:
END:VEVENT
BEGIN:VEVENT
DTSTART;TZID=America/New_York:20200731T100000
DTEND;TZID=America/New_York:20200731T160000
DTSTAMP:20260423T052658
CREATED:20171019T172342Z
LAST-MODIFIED:20200814T100436Z
UID:10000052-1596189600-1596211200@billingsfarm.org
SUMMARY:34th Annual Quilt Exhibition
DESCRIPTION:Explore the juried exhibition of locally-made quilts. Enjoy quilting demonstrations and activities for children and adults.
URL:https://billingsfarm.org/event/34th-annual-quilt-exhibition/2020-07-31/
CATEGORIES:Featured
ATTACH;FMTTYPE=:
END:VEVENT
BEGIN:VEVENT
DTSTART;TZID=America/New_York:20200801T100000
DTEND;TZID=America/New_York:20200801T160000
DTSTAMP:20260423T052658
CREATED:20171019T172342Z
LAST-MODIFIED:20200814T100436Z
UID:10000053-1596276000-1596297600@billingsfarm.org
SUMMARY:34th Annual Quilt Exhibition
DESCRIPTION:Explore the juried exhibition of locally-made quilts. Enjoy quilting demonstrations and activities for children and adults.
URL:https://billingsfarm.org/event/34th-annual-quilt-exhibition/2020-08-01/
CATEGORIES:Featured
ATTACH;FMTTYPE=:
END:VEVENT
BEGIN:VEVENT
DTSTART;TZID=America/New_York:20200801T100000
DTEND;TZID=America/New_York:20200801T160000
DTSTAMP:20260423T052658
CREATED:20200123T143004Z
LAST-MODIFIED:20200803T141411Z
UID:10000099-1596276000-1596297600@billingsfarm.org
SUMMARY:Tractor Days
DESCRIPTION:Saturday\, August 1 will feature tractor-drawn wagon rides from 11 AM – 3 PM (riders will be limited by social distancing). \nThe fun continues Sunday\, August 2 with the 20th Annual Antique Tractor Day. \nWatch the tractor parade at 11:00 AM and again at 3:00 PM and cheer on your favorite tractor in the “Slow Race” at 1:00 PM. Meet the tractor exhibitors and hear about the historical background and restoration of each tractor. \n(Note: All tractor exhibitors have pre-registered and met requirements to participate in this event. If you are interested in exhibiting in future events\, call 802-457-2355.) \nBoth days: Kids can have fun making bubbles and riding pedal tractors! Pedal tractors will be available each day from 11AM-3PM. Take a tractor-themed Story Walk. Bring a picnic and enjoy the scenic pastures\, see our farm animals\, visit the gardens and learn about Vermont’s rural history. The Dairy Bar opens at 11AM and serves Vermont ice cream and other Billings Farm dairy products. Billings Farm’s award-winning cheeses will be available for purchase at the Dairy Bar and in our outdoor Gift Shop. \nOn Monday\, August 3 watch the parade and learn more about antique tractors ONLINE and on our Facebook and Instagram pages. \nNote: As of July 1\, the Billings Farm & Museum site will be limited to a maximum capacity of 225 people at one time\, per State of Vermont guidance\, and face coverings must be worn by all guests over the age of 2 everywhere on the site\, including the outdoors. Learn more about visiting Billings Farm safely and find a full list of what to visit at Billings Farm here.
URL:https://billingsfarm.org/event/tractor-days-2020/
CATEGORIES:Featured
ATTACH;FMTTYPE=image/jpeg:https://billingsfarm.org/wp/wp-content/uploads/2020/06/anitque-tractor-day-2020.jpg
END:VEVENT
BEGIN:VEVENT
DTSTART;TZID=America/New_York:20200802T100000
DTEND;TZID=America/New_York:20200802T160000
DTSTAMP:20260423T052658
CREATED:20171019T172342Z
LAST-MODIFIED:20200814T100436Z
UID:10000054-1596362400-1596384000@billingsfarm.org
SUMMARY:34th Annual Quilt Exhibition
DESCRIPTION:Explore the juried exhibition of locally-made quilts. Enjoy quilting demonstrations and activities for children and adults.
URL:https://billingsfarm.org/event/34th-annual-quilt-exhibition/2020-08-02/
CATEGORIES:Featured
ATTACH;FMTTYPE=:
END:VEVENT
BEGIN:VEVENT
DTSTART;TZID=America/New_York:20200802T100000
DTEND;TZID=America/New_York:20200802T160000
DTSTAMP:20260423T052658
CREATED:20200123T143004Z
LAST-MODIFIED:20200803T141616Z
UID:10000225-1596362400-1596384000@billingsfarm.org
SUMMARY:Tractor Days
DESCRIPTION:Tractor Days fun continues Sunday\, August 2 with the 20th Annual Antique Tractor Day. \nWatch the tractor parade at 11:00 AM and again at 3:00 PM and cheer on your favorite tractor in the “Slow Race” at 1:00 PM. Meet the tractor exhibitors and hear about the historical background and restoration of each tractor. \n(Note: All tractor exhibitors have pre-registered and met requirements to participate in this event. If you are interested in exhibiting in future events\, call 802-457-2355.) \nKids can have fun making bubbles and riding pedal tractors! Pedal tractors will be available each day from 11AM-3PM. Take a tractor-themed Story Walk. Bring a picnic and enjoy the scenic pastures\, see our farm animals\, visit the gardens and learn about Vermont’s rural history. The Dairy Bar opens at 11AM and serves Vermont ice cream and other Billings Farm dairy products. Billings Farm’s award-winning cheeses will be available for purchase at the Dairy Bar and in our outdoor Gift Shop. \nOn Monday\, August 3 watch the parade and learn more about antique tractors ONLINE and on our Facebook and Instagram pages. \nNote: As of July 1\, the Billings Farm & Museum site will be limited to a maximum capacity of 225 people at one time\, per State of Vermont guidance\, and face coverings must be worn by all guests over the age of 2 everywhere on the site\, including the outdoors. Learn more about visiting Billings Farm safely and find a full list of what to visit at Billings Farm here.
URL:https://billingsfarm.org/event/tractor-days-2020-2020-08-02/
CATEGORIES:Featured
ATTACH;FMTTYPE=image/jpeg:https://billingsfarm.org/wp/wp-content/uploads/2020/06/anitque-tractor-day-2020.jpg
END:VEVENT
BEGIN:VEVENT
DTSTART;TZID=America/New_York:20200803T100000
DTEND;TZID=America/New_York:20200803T160000
DTSTAMP:20260423T052658
CREATED:20171019T172342Z
LAST-MODIFIED:20200814T100436Z
UID:10000055-1596448800-1596470400@billingsfarm.org
SUMMARY:34th Annual Quilt Exhibition
DESCRIPTION:Explore the juried exhibition of locally-made quilts. Enjoy quilting demonstrations and activities for children and adults.
URL:https://billingsfarm.org/event/34th-annual-quilt-exhibition/2020-08-03/
CATEGORIES:Featured
ATTACH;FMTTYPE=:
END:VEVENT
BEGIN:VEVENT
DTSTART;TZID=America/New_York:20200803T100000
DTEND;TZID=America/New_York:20200803T160000
DTSTAMP:20260423T052658
CREATED:20200803T130210Z
LAST-MODIFIED:20200803T130327Z
UID:10002488-1596448800-1596470400@billingsfarm.org
SUMMARY:Sunflower House Opens Today
DESCRIPTION:Explore and bask in the beauty of thousands of sunflowers and over 50 different varieties ranging from 18 inches to 14 feet in height form the rooms and hallways in a maze-like structure.   \n“With recent rains and hot summer days the sunflowers are popping up quite nicely\,” says Benjamin Pauly\, Master Gardener at the Woodstock Inn & Resort and creator and designer of this unique garden. This year’s design is a one-way flow that allows for social distancing and safe enjoyment. In addition to its beauty\, the Sunflower House serves as a food source for birds\, bees and butterflies.  \nThe Sunflower House is expected to be in full bloom mid-August until mid-September.
URL:https://billingsfarm.org/event/sunflower-house-opens-today/
END:VEVENT
BEGIN:VEVENT
DTSTART;TZID=America/New_York:20200804T100000
DTEND;TZID=America/New_York:20200804T160000
DTSTAMP:20260423T052658
CREATED:20171019T180157Z
LAST-MODIFIED:20200707T203517Z
UID:10000037-1596535200-1596556800@billingsfarm.org
SUMMARY:Time Travel Tuesdays - An Online Program
DESCRIPTION: Travel back in time online at Billings Farm at Home to learn about the history of farm and daily life at Billings Farm and in Vermont.
URL:https://billingsfarm.org/event/time-travel-tuesdays-2019/2020-08-04/
LOCATION:– An Online Program
CATEGORIES:Featured
ATTACH;FMTTYPE=:
END:VEVENT
BEGIN:VEVENT
DTSTART;TZID=America/New_York:20200806T100000
DTEND;TZID=America/New_York:20200806T160000
DTSTAMP:20260423T052658
CREATED:20171019T172342Z
LAST-MODIFIED:20200814T100436Z
UID:10000056-1596708000-1596729600@billingsfarm.org
SUMMARY:34th Annual Quilt Exhibition
DESCRIPTION:Explore the juried exhibition of locally-made quilts. Enjoy quilting demonstrations and activities for children and adults.
URL:https://billingsfarm.org/event/34th-annual-quilt-exhibition/2020-08-06/
CATEGORIES:Featured
ATTACH;FMTTYPE=:
END:VEVENT
BEGIN:VEVENT
DTSTART;TZID=America/New_York:20200806T100000
DTEND;TZID=America/New_York:20200806T160000
DTSTAMP:20260423T052658
CREATED:20200123T160845Z
LAST-MODIFIED:20200707T203652Z
UID:10000192-1596708000-1596729600@billingsfarm.org
SUMMARY:Thursday Threads - An Online Program
DESCRIPTION:Keep your hands and minds busy with weekly fiber crafts and facts about wool and other fabric fibers on Thursdays during the Quilt Exhibition\, beginning July 23 at Billings Farm at Home.
URL:https://billingsfarm.org/event/thursday-threads-2/2020-08-06/
ATTACH;FMTTYPE=:
END:VEVENT
BEGIN:VEVENT
DTSTART;TZID=America/New_York:20200807T100000
DTEND;TZID=America/New_York:20200807T160000
DTSTAMP:20260423T052658
CREATED:20171019T172342Z
LAST-MODIFIED:20200814T100436Z
UID:10000057-1596794400-1596816000@billingsfarm.org
SUMMARY:34th Annual Quilt Exhibition
DESCRIPTION:Explore the juried exhibition of locally-made quilts. Enjoy quilting demonstrations and activities for children and adults.
URL:https://billingsfarm.org/event/34th-annual-quilt-exhibition/2020-08-07/
CATEGORIES:Featured
ATTACH;FMTTYPE=:
END:VEVENT
BEGIN:VEVENT
DTSTART;TZID=America/New_York:20200808T100000
DTEND;TZID=America/New_York:20200808T160000
DTSTAMP:20260423T052658
CREATED:20171019T172342Z
LAST-MODIFIED:20200814T100436Z
UID:10000058-1596880800-1596902400@billingsfarm.org
SUMMARY:34th Annual Quilt Exhibition
DESCRIPTION:Explore the juried exhibition of locally-made quilts. Enjoy quilting demonstrations and activities for children and adults.
URL:https://billingsfarm.org/event/34th-annual-quilt-exhibition/2020-08-08/
CATEGORIES:Featured
ATTACH;FMTTYPE=:
END:VEVENT
END:VCALENDAR