BEGIN:VCALENDAR
VERSION:2.0
PRODID:-//Billings Farm - ECPv6.15.15//NONSGML v1.0//EN
CALSCALE:GREGORIAN
METHOD:PUBLISH
X-WR-CALNAME:Billings Farm
X-ORIGINAL-URL:https://billingsfarm.org
X-WR-CALDESC:Events for Billings Farm
REFRESH-INTERVAL;VALUE=DURATION:PT1H
X-Robots-Tag:noindex
X-PUBLISHED-TTL:PT1H
BEGIN:VTIMEZONE
TZID:America/New_York
BEGIN:DAYLIGHT
TZOFFSETFROM:-0500
TZOFFSETTO:-0400
TZNAME:EDT
DTSTART:20230312T070000
END:DAYLIGHT
BEGIN:STANDARD
TZOFFSETFROM:-0400
TZOFFSETTO:-0500
TZNAME:EST
DTSTART:20231105T060000
END:STANDARD
BEGIN:DAYLIGHT
TZOFFSETFROM:-0500
TZOFFSETTO:-0400
TZNAME:EDT
DTSTART:20240310T070000
END:DAYLIGHT
BEGIN:STANDARD
TZOFFSETFROM:-0400
TZOFFSETTO:-0500
TZNAME:EST
DTSTART:20241103T060000
END:STANDARD
BEGIN:DAYLIGHT
TZOFFSETFROM:-0500
TZOFFSETTO:-0400
TZNAME:EDT
DTSTART:20250309T070000
END:DAYLIGHT
BEGIN:STANDARD
TZOFFSETFROM:-0400
TZOFFSETTO:-0500
TZNAME:EST
DTSTART:20251102T060000
END:STANDARD
END:VTIMEZONE
BEGIN:VEVENT
DTSTART;TZID=America/New_York:20240405T100000
DTEND;TZID=America/New_York:20240405T160000
DTSTAMP:20260424T014606
CREATED:20240325T170151Z
LAST-MODIFIED:20240403T153115Z
UID:10001356-1712311200-1712332800@billingsfarm.org
SUMMARY:Today's Schedule
DESCRIPTION:
URL:https://billingsfarm.org/event/todays-schedule-315/
LOCATION:Billings Farm and Museum\, 69 Old River Rd\, Woodstock\, VT\, 05091\, United States
CATEGORIES:Featured
ATTACH;FMTTYPE=image/jpeg:https://billingsfarm.org/wp/wp-content/uploads/2024/03/2024-Opening-Day.jpg
END:VEVENT
BEGIN:VEVENT
DTSTART;VALUE=DATE:20240331
DTEND;VALUE=DATE:20240401
DTSTAMP:20260424T014606
CREATED:20231204T180059Z
LAST-MODIFIED:20231204T180059Z
UID:10000901-1711843200-1711929599@billingsfarm.org
SUMMARY:Closed
DESCRIPTION:
URL:https://billingsfarm.org/event/closed-76/2024-03-31/
LOCATION:Billings Farm and Museum\, 69 Old River Rd\, Woodstock\, VT\, 05091\, United States
CATEGORIES:Featured
END:VEVENT
BEGIN:VEVENT
DTSTART;VALUE=DATE:20240330
DTEND;VALUE=DATE:20240331
DTSTAMP:20260424T014606
CREATED:20231204T180059Z
LAST-MODIFIED:20231204T180059Z
UID:10000900-1711756800-1711843199@billingsfarm.org
SUMMARY:Closed
DESCRIPTION:
URL:https://billingsfarm.org/event/closed-76/2024-03-30/
LOCATION:Billings Farm and Museum\, 69 Old River Rd\, Woodstock\, VT\, 05091\, United States
CATEGORIES:Featured
END:VEVENT
BEGIN:VEVENT
DTSTART;VALUE=DATE:20240329
DTEND;VALUE=DATE:20240330
DTSTAMP:20260424T014606
CREATED:20231204T180059Z
LAST-MODIFIED:20231204T180059Z
UID:10000899-1711670400-1711756799@billingsfarm.org
SUMMARY:Closed
DESCRIPTION:
URL:https://billingsfarm.org/event/closed-76/2024-03-29/
LOCATION:Billings Farm and Museum\, 69 Old River Rd\, Woodstock\, VT\, 05091\, United States
CATEGORIES:Featured
END:VEVENT
BEGIN:VEVENT
DTSTART;VALUE=DATE:20240328
DTEND;VALUE=DATE:20240329
DTSTAMP:20260424T014606
CREATED:20231204T180059Z
LAST-MODIFIED:20231204T180059Z
UID:10000898-1711584000-1711670399@billingsfarm.org
SUMMARY:Closed
DESCRIPTION:
URL:https://billingsfarm.org/event/closed-76/2024-03-28/
LOCATION:Billings Farm and Museum\, 69 Old River Rd\, Woodstock\, VT\, 05091\, United States
CATEGORIES:Featured
END:VEVENT
BEGIN:VEVENT
DTSTART;VALUE=DATE:20240327
DTEND;VALUE=DATE:20240328
DTSTAMP:20260424T014606
CREATED:20231204T180059Z
LAST-MODIFIED:20231204T180059Z
UID:10000897-1711497600-1711583999@billingsfarm.org
SUMMARY:Closed
DESCRIPTION:
URL:https://billingsfarm.org/event/closed-76/2024-03-27/
LOCATION:Billings Farm and Museum\, 69 Old River Rd\, Woodstock\, VT\, 05091\, United States
CATEGORIES:Featured
END:VEVENT
BEGIN:VEVENT
DTSTART;VALUE=DATE:20240326
DTEND;VALUE=DATE:20240327
DTSTAMP:20260424T014606
CREATED:20231204T180059Z
LAST-MODIFIED:20231204T180059Z
UID:10000896-1711411200-1711497599@billingsfarm.org
SUMMARY:Closed
DESCRIPTION:
URL:https://billingsfarm.org/event/closed-76/2024-03-26/
LOCATION:Billings Farm and Museum\, 69 Old River Rd\, Woodstock\, VT\, 05091\, United States
CATEGORIES:Featured
END:VEVENT
BEGIN:VEVENT
DTSTART;VALUE=DATE:20240325
DTEND;VALUE=DATE:20240326
DTSTAMP:20260424T014606
CREATED:20231204T180059Z
LAST-MODIFIED:20231204T180059Z
UID:10000895-1711324800-1711411199@billingsfarm.org
SUMMARY:Closed
DESCRIPTION:
URL:https://billingsfarm.org/event/closed-76/2024-03-25/
LOCATION:Billings Farm and Museum\, 69 Old River Rd\, Woodstock\, VT\, 05091\, United States
CATEGORIES:Featured
END:VEVENT
BEGIN:VEVENT
DTSTART;VALUE=DATE:20240324
DTEND;VALUE=DATE:20240325
DTSTAMP:20260424T014606
CREATED:20231204T180059Z
LAST-MODIFIED:20231204T180059Z
UID:10000894-1711238400-1711324799@billingsfarm.org
SUMMARY:Closed
DESCRIPTION:
URL:https://billingsfarm.org/event/closed-76/2024-03-24/
LOCATION:Billings Farm and Museum\, 69 Old River Rd\, Woodstock\, VT\, 05091\, United States
CATEGORIES:Featured
END:VEVENT
BEGIN:VEVENT
DTSTART;VALUE=DATE:20240323
DTEND;VALUE=DATE:20240324
DTSTAMP:20260424T014606
CREATED:20231204T180059Z
LAST-MODIFIED:20231204T180059Z
UID:10000893-1711152000-1711238399@billingsfarm.org
SUMMARY:Closed
DESCRIPTION:
URL:https://billingsfarm.org/event/closed-76/2024-03-23/
LOCATION:Billings Farm and Museum\, 69 Old River Rd\, Woodstock\, VT\, 05091\, United States
CATEGORIES:Featured
END:VEVENT
BEGIN:VEVENT
DTSTART;VALUE=DATE:20240322
DTEND;VALUE=DATE:20240323
DTSTAMP:20260424T014606
CREATED:20231204T180059Z
LAST-MODIFIED:20231204T180059Z
UID:10000892-1711065600-1711151999@billingsfarm.org
SUMMARY:Closed
DESCRIPTION:
URL:https://billingsfarm.org/event/closed-76/2024-03-22/
LOCATION:Billings Farm and Museum\, 69 Old River Rd\, Woodstock\, VT\, 05091\, United States
CATEGORIES:Featured
END:VEVENT
BEGIN:VEVENT
DTSTART;VALUE=DATE:20240321
DTEND;VALUE=DATE:20240322
DTSTAMP:20260424T014606
CREATED:20231204T180059Z
LAST-MODIFIED:20231204T180059Z
UID:10000891-1710979200-1711065599@billingsfarm.org
SUMMARY:Closed
DESCRIPTION:
URL:https://billingsfarm.org/event/closed-76/2024-03-21/
LOCATION:Billings Farm and Museum\, 69 Old River Rd\, Woodstock\, VT\, 05091\, United States
CATEGORIES:Featured
END:VEVENT
BEGIN:VEVENT
DTSTART;VALUE=DATE:20240320
DTEND;VALUE=DATE:20240321
DTSTAMP:20260424T014606
CREATED:20231204T180059Z
LAST-MODIFIED:20231204T180059Z
UID:10000890-1710892800-1710979199@billingsfarm.org
SUMMARY:Closed
DESCRIPTION:
URL:https://billingsfarm.org/event/closed-76/2024-03-20/
LOCATION:Billings Farm and Museum\, 69 Old River Rd\, Woodstock\, VT\, 05091\, United States
CATEGORIES:Featured
END:VEVENT
BEGIN:VEVENT
DTSTART;VALUE=DATE:20240319
DTEND;VALUE=DATE:20240320
DTSTAMP:20260424T014606
CREATED:20231204T180059Z
LAST-MODIFIED:20231204T180059Z
UID:10000889-1710806400-1710892799@billingsfarm.org
SUMMARY:Closed
DESCRIPTION:
URL:https://billingsfarm.org/event/closed-76/2024-03-19/
LOCATION:Billings Farm and Museum\, 69 Old River Rd\, Woodstock\, VT\, 05091\, United States
CATEGORIES:Featured
END:VEVENT
BEGIN:VEVENT
DTSTART;VALUE=DATE:20240318
DTEND;VALUE=DATE:20240319
DTSTAMP:20260424T014606
CREATED:20231204T180059Z
LAST-MODIFIED:20231204T180059Z
UID:10000888-1710720000-1710806399@billingsfarm.org
SUMMARY:Closed
DESCRIPTION:
URL:https://billingsfarm.org/event/closed-76/2024-03-18/
LOCATION:Billings Farm and Museum\, 69 Old River Rd\, Woodstock\, VT\, 05091\, United States
CATEGORIES:Featured
END:VEVENT
BEGIN:VEVENT
DTSTART;VALUE=DATE:20240317
DTEND;VALUE=DATE:20240318
DTSTAMP:20260424T014606
CREATED:20231204T180059Z
LAST-MODIFIED:20231204T180059Z
UID:10000887-1710633600-1710719999@billingsfarm.org
SUMMARY:Closed
DESCRIPTION:
URL:https://billingsfarm.org/event/closed-76/2024-03-17/
LOCATION:Billings Farm and Museum\, 69 Old River Rd\, Woodstock\, VT\, 05091\, United States
CATEGORIES:Featured
END:VEVENT
BEGIN:VEVENT
DTSTART;VALUE=DATE:20240316
DTEND;VALUE=DATE:20240317
DTSTAMP:20260424T014606
CREATED:20231204T180059Z
LAST-MODIFIED:20231204T180059Z
UID:10000886-1710547200-1710633599@billingsfarm.org
SUMMARY:Closed
DESCRIPTION:
URL:https://billingsfarm.org/event/closed-76/2024-03-16/
LOCATION:Billings Farm and Museum\, 69 Old River Rd\, Woodstock\, VT\, 05091\, United States
CATEGORIES:Featured
END:VEVENT
BEGIN:VEVENT
DTSTART;VALUE=DATE:20240315
DTEND;VALUE=DATE:20240316
DTSTAMP:20260424T014606
CREATED:20231204T180059Z
LAST-MODIFIED:20231204T180059Z
UID:10000885-1710460800-1710547199@billingsfarm.org
SUMMARY:Closed
DESCRIPTION:
URL:https://billingsfarm.org/event/closed-76/2024-03-15/
LOCATION:Billings Farm and Museum\, 69 Old River Rd\, Woodstock\, VT\, 05091\, United States
CATEGORIES:Featured
END:VEVENT
BEGIN:VEVENT
DTSTART;VALUE=DATE:20240314
DTEND;VALUE=DATE:20240315
DTSTAMP:20260424T014606
CREATED:20231204T180059Z
LAST-MODIFIED:20231204T180059Z
UID:10000884-1710374400-1710460799@billingsfarm.org
SUMMARY:Closed
DESCRIPTION:
URL:https://billingsfarm.org/event/closed-76/2024-03-14/
LOCATION:Billings Farm and Museum\, 69 Old River Rd\, Woodstock\, VT\, 05091\, United States
CATEGORIES:Featured
END:VEVENT
BEGIN:VEVENT
DTSTART;VALUE=DATE:20240313
DTEND;VALUE=DATE:20240314
DTSTAMP:20260424T014606
CREATED:20231204T180059Z
LAST-MODIFIED:20231204T180059Z
UID:10000883-1710288000-1710374399@billingsfarm.org
SUMMARY:Closed
DESCRIPTION:
URL:https://billingsfarm.org/event/closed-76/2024-03-13/
LOCATION:Billings Farm and Museum\, 69 Old River Rd\, Woodstock\, VT\, 05091\, United States
CATEGORIES:Featured
END:VEVENT
BEGIN:VEVENT
DTSTART;VALUE=DATE:20240312
DTEND;VALUE=DATE:20240313
DTSTAMP:20260424T014606
CREATED:20231204T180059Z
LAST-MODIFIED:20231204T180059Z
UID:10000882-1710201600-1710287999@billingsfarm.org
SUMMARY:Closed
DESCRIPTION:
URL:https://billingsfarm.org/event/closed-76/2024-03-12/
LOCATION:Billings Farm and Museum\, 69 Old River Rd\, Woodstock\, VT\, 05091\, United States
CATEGORIES:Featured
END:VEVENT
BEGIN:VEVENT
DTSTART;VALUE=DATE:20240311
DTEND;VALUE=DATE:20240312
DTSTAMP:20260424T014606
CREATED:20231204T180059Z
LAST-MODIFIED:20231204T180059Z
UID:10000881-1710115200-1710201599@billingsfarm.org
SUMMARY:Closed
DESCRIPTION:
URL:https://billingsfarm.org/event/closed-76/2024-03-11/
LOCATION:Billings Farm and Museum\, 69 Old River Rd\, Woodstock\, VT\, 05091\, United States
CATEGORIES:Featured
END:VEVENT
BEGIN:VEVENT
DTSTART;VALUE=DATE:20240310
DTEND;VALUE=DATE:20240312
DTSTAMP:20260424T014606
CREATED:20231204T180059Z
LAST-MODIFIED:20231204T180059Z
UID:10000880-1710028800-1710118799@billingsfarm.org
SUMMARY:Closed
DESCRIPTION:
URL:https://billingsfarm.org/event/closed-76/2024-03-10/
LOCATION:Billings Farm and Museum\, 69 Old River Rd\, Woodstock\, VT\, 05091\, United States
CATEGORIES:Featured
END:VEVENT
BEGIN:VEVENT
DTSTART;VALUE=DATE:20240309
DTEND;VALUE=DATE:20240310
DTSTAMP:20260424T014606
CREATED:20231204T180059Z
LAST-MODIFIED:20231204T180059Z
UID:10000879-1709942400-1710028799@billingsfarm.org
SUMMARY:Closed
DESCRIPTION:
URL:https://billingsfarm.org/event/closed-76/2024-03-09/
LOCATION:Billings Farm and Museum\, 69 Old River Rd\, Woodstock\, VT\, 05091\, United States
CATEGORIES:Featured
END:VEVENT
BEGIN:VEVENT
DTSTART;VALUE=DATE:20240308
DTEND;VALUE=DATE:20240309
DTSTAMP:20260424T014606
CREATED:20231204T180059Z
LAST-MODIFIED:20231204T180059Z
UID:10000878-1709856000-1709942399@billingsfarm.org
SUMMARY:Closed
DESCRIPTION:
URL:https://billingsfarm.org/event/closed-76/2024-03-08/
LOCATION:Billings Farm and Museum\, 69 Old River Rd\, Woodstock\, VT\, 05091\, United States
CATEGORIES:Featured
END:VEVENT
BEGIN:VEVENT
DTSTART;VALUE=DATE:20240307
DTEND;VALUE=DATE:20240308
DTSTAMP:20260424T014606
CREATED:20231204T180059Z
LAST-MODIFIED:20231204T180059Z
UID:10000877-1709769600-1709855999@billingsfarm.org
SUMMARY:Closed
DESCRIPTION:
URL:https://billingsfarm.org/event/closed-76/2024-03-07/
LOCATION:Billings Farm and Museum\, 69 Old River Rd\, Woodstock\, VT\, 05091\, United States
CATEGORIES:Featured
END:VEVENT
BEGIN:VEVENT
DTSTART;VALUE=DATE:20240306
DTEND;VALUE=DATE:20240307
DTSTAMP:20260424T014606
CREATED:20231204T180059Z
LAST-MODIFIED:20231204T180059Z
UID:10000876-1709683200-1709769599@billingsfarm.org
SUMMARY:Closed
DESCRIPTION:
URL:https://billingsfarm.org/event/closed-76/2024-03-06/
LOCATION:Billings Farm and Museum\, 69 Old River Rd\, Woodstock\, VT\, 05091\, United States
CATEGORIES:Featured
END:VEVENT
BEGIN:VEVENT
DTSTART;VALUE=DATE:20240305
DTEND;VALUE=DATE:20240306
DTSTAMP:20260424T014606
CREATED:20231204T180059Z
LAST-MODIFIED:20231204T180059Z
UID:10000875-1709596800-1709683199@billingsfarm.org
SUMMARY:Closed
DESCRIPTION:
URL:https://billingsfarm.org/event/closed-76/2024-03-05/
LOCATION:Billings Farm and Museum\, 69 Old River Rd\, Woodstock\, VT\, 05091\, United States
CATEGORIES:Featured
END:VEVENT
BEGIN:VEVENT
DTSTART;VALUE=DATE:20240304
DTEND;VALUE=DATE:20240305
DTSTAMP:20260424T014606
CREATED:20231204T180059Z
LAST-MODIFIED:20231204T180059Z
UID:10000874-1709510400-1709596799@billingsfarm.org
SUMMARY:Closed
DESCRIPTION:
URL:https://billingsfarm.org/event/closed-76/2024-03-04/
LOCATION:Billings Farm and Museum\, 69 Old River Rd\, Woodstock\, VT\, 05091\, United States
CATEGORIES:Featured
END:VEVENT
BEGIN:VEVENT
DTSTART;VALUE=DATE:20240303
DTEND;VALUE=DATE:20240304
DTSTAMP:20260424T014606
CREATED:20231204T180059Z
LAST-MODIFIED:20231204T180059Z
UID:10000873-1709424000-1709510399@billingsfarm.org
SUMMARY:Closed
DESCRIPTION:
URL:https://billingsfarm.org/event/closed-76/2024-03-03/
LOCATION:Billings Farm and Museum\, 69 Old River Rd\, Woodstock\, VT\, 05091\, United States
CATEGORIES:Featured
END:VEVENT
END:VCALENDAR