BEGIN:VCALENDAR
VERSION:2.0
PRODID:-//Billings Farm - ECPv6.15.15//NONSGML v1.0//EN
CALSCALE:GREGORIAN
METHOD:PUBLISH
X-WR-CALNAME:Billings Farm
X-ORIGINAL-URL:https://billingsfarm.org
X-WR-CALDESC:Events for Billings Farm
REFRESH-INTERVAL;VALUE=DURATION:PT1H
X-Robots-Tag:noindex
X-PUBLISHED-TTL:PT1H
BEGIN:VTIMEZONE
TZID:America/New_York
BEGIN:DAYLIGHT
TZOFFSETFROM:-0500
TZOFFSETTO:-0400
TZNAME:EDT
DTSTART:20200308T070000
END:DAYLIGHT
BEGIN:STANDARD
TZOFFSETFROM:-0400
TZOFFSETTO:-0500
TZNAME:EST
DTSTART:20201101T060000
END:STANDARD
BEGIN:DAYLIGHT
TZOFFSETFROM:-0500
TZOFFSETTO:-0400
TZNAME:EDT
DTSTART:20210314T070000
END:DAYLIGHT
BEGIN:STANDARD
TZOFFSETFROM:-0400
TZOFFSETTO:-0500
TZNAME:EST
DTSTART:20211107T060000
END:STANDARD
BEGIN:DAYLIGHT
TZOFFSETFROM:-0500
TZOFFSETTO:-0400
TZNAME:EDT
DTSTART:20220313T070000
END:DAYLIGHT
BEGIN:STANDARD
TZOFFSETFROM:-0400
TZOFFSETTO:-0500
TZNAME:EST
DTSTART:20221106T060000
END:STANDARD
END:VTIMEZONE
BEGIN:VEVENT
DTSTART;TZID=America/New_York:20210718T100000
DTEND;TZID=America/New_York:20210718T170000
DTSTAMP:20260422T175331
CREATED:20210104T144641Z
LAST-MODIFIED:20210319T183843Z
UID:10002588-1626602400-1626627600@billingsfarm.org
SUMMARY:35th Annual Quilt Exhibition
DESCRIPTION:Explore the juried exhibition of locally-made quilts ONLINE & ONSITE. Enjoy quilting demonstrations and activities for all.
URL:https://billingsfarm.org/event/35th-annual-quilt-exhibition-2021-07-18/
CATEGORIES:Featured
ATTACH;FMTTYPE=image/jpeg:https://billingsfarm.org/wp/wp-content/uploads/2021/01/fiber-arts.jpg
END:VEVENT
BEGIN:VEVENT
DTSTART;VALUE=DATE:20210719
DTEND;VALUE=DATE:20210720
DTSTAMP:20260422T175331
CREATED:20210629T191516Z
LAST-MODIFIED:20210629T191516Z
UID:10002870-1626652800-1626739199@billingsfarm.org
SUMMARY:Gentle Jersey Cows Week!
DESCRIPTION:Each week in July and August\, Billings Farm & Museum will highlight a different farm animal with daily up-close programs\, displays and explorations and a “themed” food recipe. \nMeet these farm animals with daily programs at 11 am\, 1 pm and 3 pm: \nGentle Jersey Cows: July 19-25 and August 16-22 \nGiddy Goats: July 26-July 31 and August 23-27 \nMeet a Sheep: August 2-8 \nCheck Out the Chickens: August 9-15 \nLearn more about the featured farm animal and their role on the farm. Enjoy a “featured animal” scavenger hunt in the Farm Life Exhibits and pick up a themed recipe from the Learning Kitchen. \nPrograms take place daily\, except on Special Event Days: (August 1\, 28 & 29).
URL:https://billingsfarm.org/event/gentle-jersey-cows-week/2021-07-19/
END:VEVENT
BEGIN:VEVENT
DTSTART;TZID=America/New_York:20210719T100000
DTEND;TZID=America/New_York:20210719T113000
DTSTAMP:20260422T175331
CREATED:20210517T165926Z
LAST-MODIFIED:20210517T165926Z
UID:10002814-1626688800-1626694200@billingsfarm.org
SUMMARY:Billings Bookworms Week 2: The Wartville Wizard
DESCRIPTION:Join the Billings Bookworms! From July 12 through August 16\, kids ages 6-8 are invited to Billings Farm & Museum each week to read about and explore a farm-themed topic. This is not just a book club! There are activities and crafts each week and Bookworms get to experience all the site has to offer. \nBillings Bookworms Week 2: The Wartville Wizard \n10-10:30 Book reading and exploration.  This week Bookworms will listen to The Wartville Wizard by Don Madden and choose a passage they would like to write or draw about\, and Bookworms will have an opportunity to share with the group. \n10:30-10:45 Snack time. A snack will be provided by Billings Farm & Museum. During this break\, the educator will read a chapter from Good Dog: Herd You Loud and Clear by Cam Higgins and Ariel Landy\, which is about a young herding dog working to bring in the sheep. Each week we will continue reading from this chapter book until it is finished on the last day of the club.  \n10:45-11:30 Activity time. Today the Bookworms will head over to the National Historical Park across the street to learn about trees and the importance of our forests. \nLearn more about Billings Bookworms and complete the application form. \nBillings Bookworms is for kids ages 6-8 \nOne session: $25 per participant/$20 per BF&M member\n6-week Series: $125 per participant/$100 per BF&M member. \nSpaces are limited!
URL:https://billingsfarm.org/event/billings-bookworms-week-2-the-wartville-wizard/
CATEGORIES:Featured
ATTACH;FMTTYPE=image/jpeg:https://billingsfarm.org/wp/wp-content/uploads/2021/05/the-wartville-wizard-book.jpg
END:VEVENT
BEGIN:VEVENT
DTSTART;TZID=America/New_York:20210719T100000
DTEND;TZID=America/New_York:20210719T170000
DTSTAMP:20260422T175331
CREATED:20210104T144641Z
LAST-MODIFIED:20210319T183926Z
UID:10002589-1626688800-1626714000@billingsfarm.org
SUMMARY:35th Annual Quilt Exhibition
DESCRIPTION:Explore the juried exhibition of locally-made quilts ONLINE & ONSITE. Enjoy quilting demonstrations and activities for all.
URL:https://billingsfarm.org/event/35th-annual-quilt-exhibition-2021-07-19/
CATEGORIES:Featured
ATTACH;FMTTYPE=image/jpeg:https://billingsfarm.org/wp/wp-content/uploads/2021/01/fiber-arts.jpg
END:VEVENT
BEGIN:VEVENT
DTSTART;TZID=America/New_York:20210719T100000
DTEND;TZID=America/New_York:20210719T170000
DTSTAMP:20260422T175331
CREATED:20210516T125517Z
LAST-MODIFIED:20210719T165241Z
UID:10002923-1626688800-1626714000@billingsfarm.org
SUMMARY:Mindful Monday
DESCRIPTION:Heighten your senses in our relaxing farm landscape in a 20-minute instructor-led mindfulness activity offered at 10:30\, 11:00\, and 11:30 am. Sample herbal tea and Billings Farm cheese from 11 am – 4 pm. Find inner peace with a mission-focused mantra\, complete with instructions\, available at the Ticket Desk. \nMindful Monday programs are included with admission to Billings Farm & Museum.
URL:https://billingsfarm.org/event/mindful-monday/2021-07-19/
CATEGORIES:Featured
ATTACH;FMTTYPE=image/jpeg:https://billingsfarm.org/wp/wp-content/uploads/2021/07/IMG_0862_small-e1626526601821.jpg
END:VEVENT
BEGIN:VEVENT
DTSTART;TZID=America/New_York:20210720T100000
DTEND;TZID=America/New_York:20210720T170000
DTSTAMP:20260422T175331
CREATED:20210104T144641Z
LAST-MODIFIED:20220119T210322Z
UID:10002590-1626775200-1626800400@billingsfarm.org
SUMMARY:35th Annual Quilt Exhibition
DESCRIPTION:Explore the juried exhibition of locally-made quilts ONLINE & ONSITE. Enjoy quilting demonstrations and activities for all.
URL:https://billingsfarm.org/event/35th-annual-quilt-exhibition-2021-07-20/
CATEGORIES:Featured
ATTACH;FMTTYPE=image/jpeg:https://billingsfarm.org/wp/wp-content/uploads/2021/01/fiber-arts.jpg
END:VEVENT
BEGIN:VEVENT
DTSTART;TZID=America/New_York:20210721T100000
DTEND;TZID=America/New_York:20210721T170000
DTSTAMP:20260422T175331
CREATED:20210104T144641Z
LAST-MODIFIED:20210319T184053Z
UID:10002591-1626861600-1626886800@billingsfarm.org
SUMMARY:35th Annual Quilt Exhibition
DESCRIPTION:Explore the juried exhibition of locally-made quilts ONLINE & ONSITE. Enjoy quilting demonstrations and activities for all.
URL:https://billingsfarm.org/event/35th-annual-quilt-exhibition-2021-07-21/
CATEGORIES:Featured
ATTACH;FMTTYPE=image/jpeg:https://billingsfarm.org/wp/wp-content/uploads/2021/01/fiber-arts.jpg
END:VEVENT
BEGIN:VEVENT
DTSTART;TZID=America/New_York:20210722T100000
DTEND;TZID=America/New_York:20210722T170000
DTSTAMP:20260422T175331
CREATED:20210104T144641Z
LAST-MODIFIED:20210319T184124Z
UID:10002592-1626948000-1626973200@billingsfarm.org
SUMMARY:35th Annual Quilt Exhibition
DESCRIPTION:Explore the juried exhibition of locally-made quilts ONLINE & ONSITE. Enjoy quilting demonstrations and activities for all.
URL:https://billingsfarm.org/event/35th-annual-quilt-exhibition-2021-07-22/
CATEGORIES:Featured
ATTACH;FMTTYPE=image/jpeg:https://billingsfarm.org/wp/wp-content/uploads/2021/01/fiber-arts.jpg
END:VEVENT
BEGIN:VEVENT
DTSTART;TZID=America/New_York:20210722T100000
DTEND;TZID=America/New_York:20210722T170000
DTSTAMP:20260422T175331
CREATED:20210428T194034Z
LAST-MODIFIED:20210428T194034Z
UID:10002661-1626948000-1626973200@billingsfarm.org
SUMMARY:Thursday Threads
DESCRIPTION:Celebrate the fiber arts with ongoing demonstrations of textile-related crafts such as weaving\, knitting\, spinning\, felting or dyeing\, and create a craft to take home.
URL:https://billingsfarm.org/event/thursday-threads-3/2021-07-22/
ATTACH;FMTTYPE=image/jpeg:https://billingsfarm.org/wp/wp-content/uploads/2021/04/spinning-e1619638794206.jpg
END:VEVENT
BEGIN:VEVENT
DTSTART;TZID=America/New_York:20210723T100000
DTEND;TZID=America/New_York:20210723T170000
DTSTAMP:20260422T175331
CREATED:20210104T144641Z
LAST-MODIFIED:20210319T184149Z
UID:10002593-1627034400-1627059600@billingsfarm.org
SUMMARY:35th Annual Quilt Exhibition
DESCRIPTION:Explore the juried exhibition of locally-made quilts ONLINE & ONSITE. Enjoy quilting demonstrations and activities for all.
URL:https://billingsfarm.org/event/35th-annual-quilt-exhibition-2021-07-23/
CATEGORIES:Featured
ATTACH;FMTTYPE=image/jpeg:https://billingsfarm.org/wp/wp-content/uploads/2021/01/fiber-arts.jpg
END:VEVENT
BEGIN:VEVENT
DTSTART;TZID=America/New_York:20210724T100000
DTEND;TZID=America/New_York:20210724T170000
DTSTAMP:20260422T175331
CREATED:20210104T144641Z
LAST-MODIFIED:20210319T184321Z
UID:10002594-1627120800-1627146000@billingsfarm.org
SUMMARY:35th Annual Quilt Exhibition
DESCRIPTION:Explore the juried exhibition of locally-made quilts ONLINE & ONSITE. Enjoy quilting demonstrations and activities for all.
URL:https://billingsfarm.org/event/35th-annual-quilt-exhibition-2021-07-24/
CATEGORIES:Featured
ATTACH;FMTTYPE=image/jpeg:https://billingsfarm.org/wp/wp-content/uploads/2021/01/fiber-arts.jpg
END:VEVENT
BEGIN:VEVENT
DTSTART;TZID=America/New_York:20210725T100000
DTEND;TZID=America/New_York:20210725T170000
DTSTAMP:20260422T175331
CREATED:20210104T144641Z
LAST-MODIFIED:20210319T184215Z
UID:10002595-1627207200-1627232400@billingsfarm.org
SUMMARY:35th Annual Quilt Exhibition
DESCRIPTION:Explore the juried exhibition of locally-made quilts ONLINE & ONSITE. Enjoy quilting demonstrations and activities for all.
URL:https://billingsfarm.org/event/35th-annual-quilt-exhibition-2021-07-25/
CATEGORIES:Featured
ATTACH;FMTTYPE=image/jpeg:https://billingsfarm.org/wp/wp-content/uploads/2021/01/fiber-arts.jpg
END:VEVENT
BEGIN:VEVENT
DTSTART;VALUE=DATE:20210726
DTEND;VALUE=DATE:20210727
DTSTAMP:20260422T175331
CREATED:20210629T191804Z
LAST-MODIFIED:20210629T191804Z
UID:10002877-1627257600-1627343999@billingsfarm.org
SUMMARY:Giddy Goats Week!
DESCRIPTION:Each week in July and August\, Billings Farm & Museum will highlight a different farm animal with daily up-close programs\, displays and explorations and a “themed” food recipe. \nMeet these farm animals with daily programs at 11 am\, 1 pm and 3 pm: \nGiddy Goats: July 26-July 31 and August 23-27 \nMeet a Sheep: August 2-8 \nCheck Out the Chickens: August 9-15 \nGentle Jersey Cows: August 16-22 \nLearn more about the featured farm animal and their role on the farm. Enjoy a “featured animal” scavenger hunt in the Farm Life Exhibits and pick up a themed recipe from the Learning Kitchen. \nPrograms take place daily\, except on Special Event Days: (August 1\, 28 & 29).
URL:https://billingsfarm.org/event/giddy-goats-week/2021-07-26/
END:VEVENT
BEGIN:VEVENT
DTSTART;TZID=America/New_York:20210726T090000
DTEND;TZID=America/New_York:20210726T160000
DTSTAMP:20260422T175331
CREATED:20210520T123632Z
LAST-MODIFIED:20210717T144224Z
UID:10002839-1627290000-1627315200@billingsfarm.org
SUMMARY:Junior Farmer Camp: Session Three
DESCRIPTION:Have you ever wondered what it takes to be a farmer? Junior Farmer Camp is designed to help kids\, ages 7-10 (entering grades 2-5)\, discover for themselves by stepping into a farmer’s shoes for a week. \nThe majority of our camp activities will be held outside where campers can maintain social distance. This year we will offer outdoor animal chores with the sheep\, goats\, chickens\, and heifers\, tractor-drawn wagon rides\, games\, gardening\, crafts\, and cooking. We will take advantage of the adjacent National Historical Park for hiking and learn about Vermont’s natural history. We can’t wait to see you at Junior Farmer Camp! \nJunior Farmer Camp: Session Three runs from July 26- July 30. Learn more at Junior Farmer Camp.
URL:https://billingsfarm.org/event/junior-farmer-camp-session-three/2021-07-26/
ATTACH;FMTTYPE=image/jpeg:https://billingsfarm.org/wp/wp-content/uploads/2021/05/IMG_1584_small.jpg
END:VEVENT
BEGIN:VEVENT
DTSTART;TZID=America/New_York:20210726T100000
DTEND;TZID=America/New_York:20210726T113000
DTSTAMP:20260422T175331
CREATED:20210517T170558Z
LAST-MODIFIED:20210517T170558Z
UID:10002815-1627293600-1627299000@billingsfarm.org
SUMMARY:Billings Bookworms Week 3: Brave Charlotte
DESCRIPTION:Join the Billings Bookworms! From July 12 through August 16\, kids ages 6-8 are invited to Billings Farm & Museum each week to read about and explore a farm-themed topic. This is not just a book club! There are activities and crafts each week and Bookworms get to experience all the site has to offer. \nBillings Bookworms Week 3: Brave Charlotte \n10-10:30 Book reading and exploration. Bookworms will listen to an educator read Brave Charlotte by Anu Sohner and Henrike Wilson. Each Bookworm will choose a passage that stands out to them and write or draw about it and share that with the group. \n10:30-10:45 Snack time. Snack will be provided by Billings Farm & Museum. During snack Bookworms will listen to a chapter from Good Dog: Herd You Loud and Clear by Cam Higgins and Ariel Landy\, which is about a young herding dog working to bring in the sheep. Each week we will continue reading from this chapter book until it is finished on the last day of the club.  \n10:45-11:30 Activity time. Today the Bookworms will meet our sheep\, learn about how we care for them\, and card wool. Our readers will even get to make a wool butterfly to take home!   \nLearn more about Billings Bookworms and complete the application form. \nBillings Bookworms is for kids ages 6-8 \nOne session: $25 per participant/$20 per BF&M member\n6-week Series: $125 per participant/$100 per BF&M member. \nSpaces are limited!
URL:https://billingsfarm.org/event/billings-bookworms-week-3-brave-charlotte/
CATEGORIES:Featured
ATTACH;FMTTYPE=image/jpeg:https://billingsfarm.org/wp/wp-content/uploads/2021/05/brave-charlotte-book.jpg
END:VEVENT
BEGIN:VEVENT
DTSTART;TZID=America/New_York:20210726T100000
DTEND;TZID=America/New_York:20210726T170000
DTSTAMP:20260422T175331
CREATED:20210104T144641Z
LAST-MODIFIED:20210319T184458Z
UID:10002596-1627293600-1627318800@billingsfarm.org
SUMMARY:35th Annual Quilt Exhibition
DESCRIPTION:Explore the juried exhibition of locally-made quilts ONLINE & ONSITE. Enjoy quilting demonstrations and activities for all.
URL:https://billingsfarm.org/event/35th-annual-quilt-exhibition-2021-07-26/
CATEGORIES:Featured
ATTACH;FMTTYPE=image/jpeg:https://billingsfarm.org/wp/wp-content/uploads/2021/01/fiber-arts.jpg
END:VEVENT
BEGIN:VEVENT
DTSTART;TZID=America/New_York:20210727T100000
DTEND;TZID=America/New_York:20210727T170000
DTSTAMP:20260422T175331
CREATED:20210104T144641Z
LAST-MODIFIED:20210319T184613Z
UID:10002597-1627380000-1627405200@billingsfarm.org
SUMMARY:35th Annual Quilt Exhibition
DESCRIPTION:Explore the juried exhibition of locally-made quilts ONLINE & ONSITE. Enjoy quilting demonstrations and activities for all.
URL:https://billingsfarm.org/event/35th-annual-quilt-exhibition-2021-07-27/
CATEGORIES:Featured
ATTACH;FMTTYPE=image/jpeg:https://billingsfarm.org/wp/wp-content/uploads/2021/01/fiber-arts.jpg
END:VEVENT
BEGIN:VEVENT
DTSTART;TZID=America/New_York:20210728T100000
DTEND;TZID=America/New_York:20210728T170000
DTSTAMP:20260422T175331
CREATED:20210104T144641Z
LAST-MODIFIED:20210319T184707Z
UID:10002598-1627466400-1627491600@billingsfarm.org
SUMMARY:35th Annual Quilt Exhibition
DESCRIPTION:Explore the juried exhibition of locally-made quilts ONLINE & ONSITE. Enjoy quilting demonstrations and activities for all.
URL:https://billingsfarm.org/event/35th-annual-quilt-exhibition-2021-07-28/
CATEGORIES:Featured
ATTACH;FMTTYPE=image/jpeg:https://billingsfarm.org/wp/wp-content/uploads/2021/01/fiber-arts.jpg
END:VEVENT
BEGIN:VEVENT
DTSTART;TZID=America/New_York:20210729T100000
DTEND;TZID=America/New_York:20210729T170000
DTSTAMP:20260422T175331
CREATED:20210104T144641Z
LAST-MODIFIED:20210319T184758Z
UID:10002599-1627552800-1627578000@billingsfarm.org
SUMMARY:35th Annual Quilt Exhibition
DESCRIPTION:Explore the juried exhibition of locally-made quilts ONLINE & ONSITE. Enjoy quilting demonstrations and activities for all.
URL:https://billingsfarm.org/event/35th-annual-quilt-exhibition-2021-07-29/
CATEGORIES:Featured
ATTACH;FMTTYPE=image/jpeg:https://billingsfarm.org/wp/wp-content/uploads/2021/01/fiber-arts.jpg
END:VEVENT
BEGIN:VEVENT
DTSTART;TZID=America/New_York:20210730T100000
DTEND;TZID=America/New_York:20210730T170000
DTSTAMP:20260422T175331
CREATED:20210104T144641Z
LAST-MODIFIED:20210319T184856Z
UID:10002600-1627639200-1627664400@billingsfarm.org
SUMMARY:35th Annual Quilt Exhibition
DESCRIPTION:Explore the juried exhibition of locally-made quilts ONLINE & ONSITE. Enjoy quilting demonstrations and activities for all.
URL:https://billingsfarm.org/event/35th-annual-quilt-exhibition-2021-07-30/
CATEGORIES:Featured
ATTACH;FMTTYPE=image/jpeg:https://billingsfarm.org/wp/wp-content/uploads/2021/01/fiber-arts.jpg
END:VEVENT
BEGIN:VEVENT
DTSTART;TZID=America/New_York:20210731T100000
DTEND;TZID=America/New_York:20210731T170000
DTSTAMP:20260422T175331
CREATED:20210104T144641Z
LAST-MODIFIED:20210319T184953Z
UID:10002601-1627725600-1627750800@billingsfarm.org
SUMMARY:35th Annual Quilt Exhibition
DESCRIPTION:Explore the juried exhibition of locally-made quilts ONLINE & ONSITE. Enjoy quilting demonstrations and activities for all.
URL:https://billingsfarm.org/event/35th-annual-quilt-exhibition-2021-07-31/
CATEGORIES:Featured
ATTACH;FMTTYPE=image/jpeg:https://billingsfarm.org/wp/wp-content/uploads/2021/01/fiber-arts.jpg
END:VEVENT
BEGIN:VEVENT
DTSTART;TZID=America/New_York:20210731T100000
DTEND;TZID=America/New_York:20210731T170000
DTSTAMP:20260422T175331
CREATED:20210730T172923Z
LAST-MODIFIED:20210730T173439Z
UID:10002798-1627725600-1627750800@billingsfarm.org
SUMMARY:Sunflower House Opens!
DESCRIPTION:The largest Sunflower House in the United States opens today at Billings Farm & Museum! \nWalk\, weave and wander through 100 varieties of bright\, bold flowers ranging in height from 18 inches to a towering 14 feet. Win Billings Farm cheese in the #SunflowerSelfie Instagram Challenge! Take your best sunflower pics and tag @billingsfarm on Instagram – make sure to use #SunflowerSelfie and #VTSunflowerHouse. \nLearn more about all of our gardens at Sunflower House. 
URL:https://billingsfarm.org/event/sunflower-house-opens/
ATTACH;FMTTYPE=image/jpeg:https://billingsfarm.org/wp/wp-content/uploads/2021/07/Cover_Christine-Scales-scaled-e1627666317688.jpg
END:VEVENT
BEGIN:VEVENT
DTSTART;TZID=America/New_York:20210801T100000
DTEND;TZID=America/New_York:20210801T170000
DTSTAMP:20260422T175331
CREATED:20210104T144641Z
LAST-MODIFIED:20210319T185045Z
UID:10002602-1627812000-1627837200@billingsfarm.org
SUMMARY:35th Annual Quilt Exhibition
DESCRIPTION:Explore the juried exhibition of locally-made quilts ONLINE & ONSITE. Enjoy quilting demonstrations and activities for all.
URL:https://billingsfarm.org/event/35th-annual-quilt-exhibition-2021-08-01/
CATEGORIES:Featured
ATTACH;FMTTYPE=image/jpeg:https://billingsfarm.org/wp/wp-content/uploads/2021/01/fiber-arts.jpg
END:VEVENT
BEGIN:VEVENT
DTSTART;VALUE=DATE:20210802
DTEND;VALUE=DATE:20210803
DTSTAMP:20260422T175331
CREATED:20210629T191922Z
LAST-MODIFIED:20210629T191922Z
UID:10002883-1627862400-1627948799@billingsfarm.org
SUMMARY:Meet a Sheep Week!
DESCRIPTION:Each week in July and August\, Billings Farm & Museum will highlight a different farm animal with daily up-close programs\, displays and explorations and a “themed” food recipe. \nMeet these farm animals with daily programs at 11 am\, 1 pm and 3 pm: \nMeet a Sheep: August 2-8 \nCheck Out the Chickens: August 9-15 \nGentle Jersey Cows: August 16-22 \nGiddy Goats: August 23-27 \nLearn more about the featured farm animal and their role on the farm. Enjoy a “featured animal” scavenger hunt in the Farm Life Exhibits and pick up a themed recipe from the Learning Kitchen. \nPrograms take place daily\, except on Special Event Days: (August 1\, 28 & 29).
URL:https://billingsfarm.org/event/meet-a-sheep-week/2021-08-02/
END:VEVENT
BEGIN:VEVENT
DTSTART;TZID=America/New_York:20210802T090000
DTEND;TZID=America/New_York:20210802T160000
DTSTAMP:20260422T175331
CREATED:20210520T122227Z
LAST-MODIFIED:20210520T132528Z
UID:10002824-1627894800-1627920000@billingsfarm.org
SUMMARY:Farm Discovery Camp: Session Two
DESCRIPTION:What does it mean to be part of a farming community? Farm Discovery Camp is a hands-on program for young people\, ages 11-14 (rising 6th-9th graders)\, who want a deeper understanding of farming and all that it encompasses. \nAt Farm Discovery Camp you will meet local professionals and farmers who are leaders in their fields — the Billings Dairy Farm Manager\, local beekeepers\, and a large animal veterinarian. Work alongside our farmers to learn the ins and outs of dairy production. Take part in a local service project — at Billings Farm or in the Woodstock community and make a lasting difference. Along the way\, you will gain an awareness of the many ways our food systems and our ecosystems are interconnected. You will have the chance to: \n• Experience the daily rhythms of farming and learn firsthand how farmers make decisions about caring for the herd and the land\n• Make farm-fresh food including homemade ricotta cheese and ice cream with Billings Farm’s jersey cow milk\n• Meet farmers in our community and learn how to care for a calf\, raise bees\, and more\n• Try fiber arts such as felting wool from Billings Farm sheep\n• Explore the Marsh-Billings-Rockefeller National Historical Park with a park ranger\n• Make an impact on the farm and in the community with organized service projects \nFarm Discovery Camp: Session Two runs from August 2-August 6. Learn more at Farm Discovery Camp.
URL:https://billingsfarm.org/event/farm-discovery-camp-session-two/2021-08-02/
ATTACH;FMTTYPE=image/jpeg:https://billingsfarm.org/wp/wp-content/uploads/2021/05/JFC2020-Pizza_small_600x410.jpg
END:VEVENT
BEGIN:VEVENT
DTSTART;TZID=America/New_York:20210802T100000
DTEND;TZID=America/New_York:20210802T113000
DTSTAMP:20260422T175331
CREATED:20210517T170748Z
LAST-MODIFIED:20210517T170748Z
UID:10002816-1627898400-1627903800@billingsfarm.org
SUMMARY:Billings Bookworms Week 4: The Curious Garden
DESCRIPTION:Join the Billings Bookworms! From July 12 through August 16\, kids ages 6-8 are invited to Billings Farm & Museum each week to read about and explore a farm-themed topic. This is not just a book club! There are activities and crafts each week and Bookworms get to experience all the site has to offer. \nBillings Bookworms Week 4: The Curious Garden \n10-10:30 Book reading and exploration. This week will begin with a story called The Curious Garden by Peter Brown. The Bookworms will listen and pick a passage that they find interesting and write or draw about it. Then\, they will have the chance to share what they’ve written or drawn with the group. \n10:30-10:45 Snack time. Snack will be provided by Billings Farm & Museum. During snack\, we’ll read a chapter from Good Dog: Herd You Loud and Clear by Cam Higgins and Ariel Landy\, which is about a young herding dog working to bring in the sheep. Each week we will continue reading from this chapter book until it is finished on the last day of the club.    \n10:45-11:30 Activity time. Today Bookworms will spend time in the gardens\, where they will plant a seed to take home and pick bugs and herbs to feed our chickens! \nLearn more about Billings Bookworms and complete the application form. \nBillings Bookworms is for kids ages 6-8 \nOne session: $25 per participant/$20 per BF&M member\n6-week Series: $125 per participant/$100 per BF&M member. \nSpaces are limited!
URL:https://billingsfarm.org/event/billings-bookworms-week-4-the-curious-garden/
CATEGORIES:Featured
ATTACH;FMTTYPE=image/jpeg:https://billingsfarm.org/wp/wp-content/uploads/2021/05/the-curious-garden-book.jpg
END:VEVENT
BEGIN:VEVENT
DTSTART;TZID=America/New_York:20210802T100000
DTEND;TZID=America/New_York:20210802T170000
DTSTAMP:20260422T175331
CREATED:20210104T144641Z
LAST-MODIFIED:20210319T185134Z
UID:10002603-1627898400-1627923600@billingsfarm.org
SUMMARY:35th Annual Quilt Exhibition
DESCRIPTION:Explore the juried exhibition of locally-made quilts ONLINE & ONSITE. Enjoy quilting demonstrations and activities for all.
URL:https://billingsfarm.org/event/35th-annual-quilt-exhibition-2021-08-02/
CATEGORIES:Featured
ATTACH;FMTTYPE=image/jpeg:https://billingsfarm.org/wp/wp-content/uploads/2021/01/fiber-arts.jpg
END:VEVENT
BEGIN:VEVENT
DTSTART;TZID=America/New_York:20210803T100000
DTEND;TZID=America/New_York:20210803T170000
DTSTAMP:20260422T175331
CREATED:20210104T144641Z
LAST-MODIFIED:20210319T185252Z
UID:10002604-1627984800-1628010000@billingsfarm.org
SUMMARY:35th Annual Quilt Exhibition
DESCRIPTION:Explore the juried exhibition of locally-made quilts ONLINE & ONSITE. Enjoy quilting demonstrations and activities for all.
URL:https://billingsfarm.org/event/35th-annual-quilt-exhibition-2021-08-03/
CATEGORIES:Featured
ATTACH;FMTTYPE=image/jpeg:https://billingsfarm.org/wp/wp-content/uploads/2021/01/fiber-arts.jpg
END:VEVENT
BEGIN:VEVENT
DTSTART;TZID=America/New_York:20210804T100000
DTEND;TZID=America/New_York:20210804T170000
DTSTAMP:20260422T175331
CREATED:20210104T144641Z
LAST-MODIFIED:20210319T185438Z
UID:10002605-1628071200-1628096400@billingsfarm.org
SUMMARY:35th Annual Quilt Exhibition
DESCRIPTION:Explore the juried exhibition of locally-made quilts ONLINE & ONSITE. Enjoy quilting demonstrations and activities for all.
URL:https://billingsfarm.org/event/35th-annual-quilt-exhibition-2021-08-04/
CATEGORIES:Featured
ATTACH;FMTTYPE=image/jpeg:https://billingsfarm.org/wp/wp-content/uploads/2021/01/fiber-arts.jpg
END:VEVENT
BEGIN:VEVENT
DTSTART;TZID=America/New_York:20210805T100000
DTEND;TZID=America/New_York:20210805T170000
DTSTAMP:20260422T175331
CREATED:20210104T144641Z
LAST-MODIFIED:20210319T185537Z
UID:10002606-1628157600-1628182800@billingsfarm.org
SUMMARY:35th Annual Quilt Exhibition
DESCRIPTION:Explore the juried exhibition of locally-made quilts ONLINE & ONSITE. Enjoy quilting demonstrations and activities for all.
URL:https://billingsfarm.org/event/35th-annual-quilt-exhibition-2021-08-05/
CATEGORIES:Featured
ATTACH;FMTTYPE=image/jpeg:https://billingsfarm.org/wp/wp-content/uploads/2021/01/fiber-arts.jpg
END:VEVENT
END:VCALENDAR