BEGIN:VCALENDAR
VERSION:2.0
PRODID:-//Billings Farm - ECPv6.15.15//NONSGML v1.0//EN
CALSCALE:GREGORIAN
METHOD:PUBLISH
X-WR-CALNAME:Billings Farm
X-ORIGINAL-URL:https://billingsfarm.org
X-WR-CALDESC:Events for Billings Farm
REFRESH-INTERVAL;VALUE=DURATION:PT1H
X-Robots-Tag:noindex
X-PUBLISHED-TTL:PT1H
BEGIN:VTIMEZONE
TZID:America/New_York
BEGIN:DAYLIGHT
TZOFFSETFROM:-0500
TZOFFSETTO:-0400
TZNAME:EDT
DTSTART:20210314T070000
END:DAYLIGHT
BEGIN:STANDARD
TZOFFSETFROM:-0400
TZOFFSETTO:-0500
TZNAME:EST
DTSTART:20211107T060000
END:STANDARD
BEGIN:DAYLIGHT
TZOFFSETFROM:-0500
TZOFFSETTO:-0400
TZNAME:EDT
DTSTART:20220313T070000
END:DAYLIGHT
BEGIN:STANDARD
TZOFFSETFROM:-0400
TZOFFSETTO:-0500
TZNAME:EST
DTSTART:20221106T060000
END:STANDARD
BEGIN:DAYLIGHT
TZOFFSETFROM:-0500
TZOFFSETTO:-0400
TZNAME:EDT
DTSTART:20230312T070000
END:DAYLIGHT
BEGIN:STANDARD
TZOFFSETFROM:-0400
TZOFFSETTO:-0500
TZNAME:EST
DTSTART:20231105T060000
END:STANDARD
END:VTIMEZONE
BEGIN:VEVENT
DTSTART;TZID=America/New_York:20220817T100000
DTEND;TZID=America/New_York:20220817T170000
DTSTAMP:20260419T204016
CREATED:20220809T174853Z
LAST-MODIFIED:20220809T174854Z
UID:10000426-1660730400-1660755600@billingsfarm.org
SUMMARY:Today's Schedule: Wagon Ride Wednesday
DESCRIPTION:
URL:https://billingsfarm.org/event/todays-schedule-wagon-ride-wednesday-5/
LOCATION:Billings Farm and Museum\, 69 Old River Rd\, Woodstock\, VT\, 05091\, United States
CATEGORIES:Featured
ATTACH;FMTTYPE=image/jpeg:https://billingsfarm.org/wp/wp-content/uploads/2022/08/8-17.jpg
END:VEVENT
BEGIN:VEVENT
DTSTART;TZID=America/New_York:20220817T173000
DTEND;TZID=America/New_York:20220817T193000
DTSTAMP:20260419T204016
CREATED:20220624T153858Z
LAST-MODIFIED:20220707T175539Z
UID:10000385-1660757400-1660764600@billingsfarm.org
SUMMARY:Sunflower’s Splendor Watercolor Workshop
DESCRIPTION:Capture the sunflower’s magnificent blooms in watercolor as they reach their peak in the Billings Farm Sunflower House. This workshop\, led by Artist-in-Residence\, Margaret Dwyer\, is designed for painters of all levels. Sunflowers are the perfect subject for this medium because they are so bright and bold and the class will focus on the importance of brushwork and mark making. The most challenging aspect will be choosing a favorite bloom.  \nThis workshop is $65/person\, $60/members with materials included. Advanced registration is recommended. Register now! \nAbout the Artist: \nMargaret Dwyer earned her Master of Fine Art degree in Visual Arts in 2008 from Vermont College of Fine Arts. Her thesis work involved researching\, writing\, and creating art based on psychological themes such as trauma\, dreams\, and the unconscious. She works in 2-D and 3-D mediums\, though watercolor is her favorite. Her artwork has been recognized in numerous juried national and international exhibitions and has been published in fine art books and magazines. From 2019 to 2021\, Margaret was the Artist in Residence for Marsh Billings Rockefeller National Historical Park in Woodstock\, VT. As a mural artist\, she has created dozens of public and private murals throughout New England. Currently\, she teaches art at her studio in Winsor\, VT. To view her work\, visit MargaretDwyerArtist.com. \nSafety Policy: For the continued safety of our staff and guests\, wearing a face mask is encouraged and very much appreciated in our indoor spaces. If you have symptoms of a respiratory illness please wear a mask or consider visiting another time. \nCancellation Policy: There are often waitlists for our workshops\, so please let us know in advance if you are unable to attend. Refunds are available up to 7 days before the class is held. There are no refunds within 7 days.
URL:https://billingsfarm.org/event/sunflowers-splendor-watercolor-workshop/
LOCATION:Billings Farm and Museum\, 69 Old River Rd\, Woodstock\, VT\, 05091\, United States
CATEGORIES:Featured
ATTACH;FMTTYPE=image/jpeg:https://billingsfarm.org/wp/wp-content/uploads/2022/06/sunflowers-copy-1.jpg
END:VEVENT
BEGIN:VEVENT
DTSTART;TZID=America/New_York:20220818T100000
DTEND;TZID=America/New_York:20220818T170000
DTSTAMP:20260419T204016
CREATED:20220809T174935Z
LAST-MODIFIED:20220809T174936Z
UID:10000427-1660816800-1660842000@billingsfarm.org
SUMMARY:Today's Schedule: Thursday Threads
DESCRIPTION:
URL:https://billingsfarm.org/event/todays-schedule-thursday-threads-5/
LOCATION:Billings Farm and Museum\, 69 Old River Rd\, Woodstock\, VT\, 05091\, United States
CATEGORIES:Featured
ATTACH;FMTTYPE=image/jpeg:https://billingsfarm.org/wp/wp-content/uploads/2022/08/8-18.jpg
END:VEVENT
BEGIN:VEVENT
DTSTART;TZID=America/New_York:20220819T100000
DTEND;TZID=America/New_York:20220819T170000
DTSTAMP:20260419T204016
CREATED:20220809T175013Z
LAST-MODIFIED:20220809T175013Z
UID:10000428-1660903200-1660928400@billingsfarm.org
SUMMARY:Today's Schedule: Foodie Friday
DESCRIPTION:
URL:https://billingsfarm.org/event/todays-schedule-foodie-friday-5/
LOCATION:Billings Farm and Museum\, 69 Old River Rd\, Woodstock\, VT\, 05091\, United States
CATEGORIES:Featured
ATTACH;FMTTYPE=image/jpeg:https://billingsfarm.org/wp/wp-content/uploads/2022/08/8-19.jpg
END:VEVENT
BEGIN:VEVENT
DTSTART;TZID=America/New_York:20220820T100000
DTEND;TZID=America/New_York:20220820T113000
DTSTAMP:20260419T204016
CREATED:20210514T202217Z
LAST-MODIFIED:20220802T210722Z
UID:10002806-1660989600-1660995000@billingsfarm.org
SUMMARY:Late-Season Pollinator Care and Beekeeping
DESCRIPTION:Saturday\, August 20\, 10:00-11:30\n\nPrice:  $15 person/$10 member\nPresenter: Troy Hall\nLocation: On site at Billings Farm & Museum \nRegister Today!\nHall Apiaries founder Troy Hall returns to Billings Farm & Museum for this late season Beekeeping & Pollinator Care workshop. Learn how to support a late-season honey harvest\, how to winterize your hives\, and preserve late-season food sources. \nA Q&A period with the presenter may continue for up to 30 minutes past the scheduled end time. \nAbout Troy Hall \nWhat started as a hobby with no aspirations or desire to be anything more than that has turned into a full-time occupation and passion of mine. Growing up as a native to the Upper Valley Region of New Hampshire and Vermont\, I had no idea that one could make a peaceful living from working with bees. In time\, becoming more knowledgeable in the craft I befriended two commercial beekeepers from the Champlain Valley region of Vermont. Visiting their apiaries and working alongside them gave me insight into a world that I quickly fell in love with\, living and working alongside the honey bee. \nGleaning from what I had learned and experienced\, in 2010 I was driven and motivated to start down the path of growing my avocation with beekeeping into my vocation. It has been anything but easy. Lots of hard work with no pay\, often seeing and experiencing failure and setbacks for the first few years. Especially when I decided to wean the apiary off of ALL and ANY treatments for mites and other ailments. Being that from the beginning\, with the paradigm that I had chosen to run the apiary off of I was able to experience large colony mortality rates every winter\, and still be sustaining growth and profitability in the next season\, all from within the apiary itself. Looking back I am continually humbled by working alongside the honey bee. I often underestimate her vigor\, hard work and resilience to the environment that surrounds her. Looking forward I am hopeful and extremely blessed to have the opportunity to work alongside such a complex and amazing creature. \n\nBillings Backyard is a series of workshops designed to teach sustainable living skills to adult participants and is underwritten by a generous grant from the SpringRiver Private Foundation Trust. Each workshop includes hands-on demonstrations and concrete steps for incorporating these skills into everyday life. Find more Billings Backyard Series workshops \nSafety Policy: For the continued safety of our staff and guests\, wearing a face mask is encouraged and very much appreciated in our indoor spaces. If you have symptoms of a respiratory illness please wear a mask or consider visiting another time. \nCancellation Policy: There are often waitlists for our workshops\, so please let us know in advance if you are unable to attend. Refunds are available up to 14 days before the class is held. There are no refunds within 14 days.
URL:https://billingsfarm.org/event/late-season-pollinator-care-and-beekeeping/
LOCATION:Billings Farm and Museum\, 69 Old River Rd\, Woodstock\, VT\, 05091\, United States
CATEGORIES:Featured
ATTACH;FMTTYPE=image/jpeg:https://billingsfarm.org/wp/wp-content/uploads/2021/05/Troy-Hall-1.jpg
END:VEVENT
BEGIN:VEVENT
DTSTART;TZID=America/New_York:20220820T100000
DTEND;TZID=America/New_York:20220820T163000
DTSTAMP:20260419T204016
CREATED:20220809T175048Z
LAST-MODIFIED:20220819T204045Z
UID:10000429-1660989600-1661013000@billingsfarm.org
SUMMARY:Today's Schedule
DESCRIPTION:
URL:https://billingsfarm.org/event/todays-schedule-9/
LOCATION:Billings Farm and Museum\, 69 Old River Rd\, Woodstock\, VT\, 05091\, United States
CATEGORIES:Featured
ATTACH;FMTTYPE=image/jpeg:https://billingsfarm.org/wp/wp-content/uploads/2022/08/8-20-2-scaled-e1660941629681.jpg
END:VEVENT
BEGIN:VEVENT
DTSTART;TZID=America/New_York:20220821T100000
DTEND;TZID=America/New_York:20220821T170000
DTSTAMP:20260419T204016
CREATED:20220809T175118Z
LAST-MODIFIED:20220809T175118Z
UID:10000430-1661076000-1661101200@billingsfarm.org
SUMMARY:Today's Schedule
DESCRIPTION:
URL:https://billingsfarm.org/event/todays-schedule-10/
LOCATION:Billings Farm and Museum\, 69 Old River Rd\, Woodstock\, VT\, 05091\, United States
CATEGORIES:Featured
ATTACH;FMTTYPE=image/jpeg:https://billingsfarm.org/wp/wp-content/uploads/2022/08/8-21.jpg
END:VEVENT
BEGIN:VEVENT
DTSTART;TZID=America/New_York:20220822T100000
DTEND;TZID=America/New_York:20220822T170000
DTSTAMP:20260419T204016
CREATED:20220809T175159Z
LAST-MODIFIED:20220819T114925Z
UID:10000431-1661162400-1661187600@billingsfarm.org
SUMMARY:Today's Schedule: Mindful Monday
DESCRIPTION:
URL:https://billingsfarm.org/event/todays-schedule-mindful-monday-5/
LOCATION:Billings Farm and Museum\, 69 Old River Rd\, Woodstock\, VT\, 05091\, United States
CATEGORIES:Featured
ATTACH;FMTTYPE=image/jpeg:https://billingsfarm.org/wp/wp-content/uploads/2022/08/8-22-1.jpg
END:VEVENT
BEGIN:VEVENT
DTSTART;TZID=America/New_York:20220823T100000
DTEND;TZID=America/New_York:20220823T170000
DTSTAMP:20260419T204016
CREATED:20220809T175242Z
LAST-MODIFIED:20220819T114959Z
UID:10000432-1661248800-1661274000@billingsfarm.org
SUMMARY:Today's Schedule: Time Travel Tuesday
DESCRIPTION:
URL:https://billingsfarm.org/event/todays-schedule-time-travel-tuesday-6/
LOCATION:Billings Farm and Museum\, 69 Old River Rd\, Woodstock\, VT\, 05091\, United States
CATEGORIES:Featured
ATTACH;FMTTYPE=image/jpeg:https://billingsfarm.org/wp/wp-content/uploads/2022/08/8-23-1.jpg
END:VEVENT
BEGIN:VEVENT
DTSTART;TZID=America/New_York:20220824T100000
DTEND;TZID=America/New_York:20220824T170000
DTSTAMP:20260419T204016
CREATED:20220809T175329Z
LAST-MODIFIED:20220819T115029Z
UID:10000433-1661335200-1661360400@billingsfarm.org
SUMMARY:Today's Schedule: Wagon Ride Wednesday
DESCRIPTION:
URL:https://billingsfarm.org/event/todays-schedule-wagon-ride-wednesday-6/
LOCATION:Billings Farm and Museum\, 69 Old River Rd\, Woodstock\, VT\, 05091\, United States
CATEGORIES:Featured
ATTACH;FMTTYPE=image/jpeg:https://billingsfarm.org/wp/wp-content/uploads/2022/08/8-24-1.jpg
END:VEVENT
BEGIN:VEVENT
DTSTART;TZID=America/New_York:20220825T100000
DTEND;TZID=America/New_York:20220825T170000
DTSTAMP:20260419T204016
CREATED:20220810T132253Z
LAST-MODIFIED:20220819T115106Z
UID:10000434-1661421600-1661446800@billingsfarm.org
SUMMARY:Today's Schedule: Thursday Threads
DESCRIPTION:
URL:https://billingsfarm.org/event/todays-schedule-thursday-threads-6/
LOCATION:Billings Farm and Museum\, 69 Old River Rd\, Woodstock\, VT\, 05091\, United States
CATEGORIES:Featured
ATTACH;FMTTYPE=image/jpeg:https://billingsfarm.org/wp/wp-content/uploads/2022/08/8-25-1.jpg
END:VEVENT
BEGIN:VEVENT
DTSTART;TZID=America/New_York:20220825T170000
DTEND;TZID=America/New_York:20220825T193000
DTSTAMP:20260419T204016
CREATED:20220610T151140Z
LAST-MODIFIED:20220712T153949Z
UID:10000382-1661446800-1661455800@billingsfarm.org
SUMMARY:Date Night Cooking Class - Mediterranean Cuisine
DESCRIPTION:Price:  $85/person\, $80/person for members (Must register two people to reserve your space.)\nMust be 21 and older \nTHIS EVENT IS SOLD OUT. Please contact afannin@billingsfarm.org to be added to the waitlist. \nJoin us in November for our Date Night Cooking Class featuring Italian cuisine! \n  \nExplore fresh\, local ingredients and learn cooking techniques in this fun\, chef-led cooking class! \nUsing local seasonal ingredients\, you and a partner will follow Billings Farm’s Chef Emery as you prepare your own multi-course\, Mediterranean-cuisine inspired menu.  \nChef Emery will highlight garden-fresh ingredients local to our region\, with bold and crisp flavors and light\, healthy fair\, sharing her extensive knowledge of the cooking process and how to use the local\, seasonal ingredients.   \nDine on your delicious creations in the beautiful\, restored barn at Billings Farm. The evening will conclude with a delectable dessert. \nAbout Chef Emery Gray \nEmery Gray\, Farm to Table Manager at Billings Farm & Museum and former Pastry Chef de Partie at the Woodstock Inn and Resort\, had a passion for food at a very young age. Seeing the way that people connected through the growing\, sharing and cooking of food\, inspired her to make a career in the kitchen. She attended The Culinary Institute of America in Hyde Park\, NY\, earning her Associates Degree in Baking and Pastry Arts and her Bachelor’s in Business Management. Traveling the country and the world has translated into a deep appreciation for sustainability of local food systems\, and all types of outdoor pursuits year-round. \nThe Date Night Cooking fun will continue on November 3 with an Italian menu. \nContact afannin@billingsfarm.org with registration questions.\n \n\nCancellation Policy: There are often waitlists for our courses\, so please let us know in advance if you are unable to attend. Refunds are available up to 7 days before the class is held. There are no refunds within 7 days.
URL:https://billingsfarm.org/event/date-night-cooking-class-mediterranean-cuisine/
LOCATION:Billings Farm and Museum\, 69 Old River Rd\, Woodstock\, VT\, 05091\, United States
CATEGORIES:Featured
ATTACH;FMTTYPE=image/jpeg:https://billingsfarm.org/wp/wp-content/uploads/2022/06/Date-Night-Cooking-Mediterranean-copy.jpg
END:VEVENT
BEGIN:VEVENT
DTSTART;TZID=America/New_York:20220826T100000
DTEND;TZID=America/New_York:20220826T170000
DTSTAMP:20260419T204016
CREATED:20220810T132344Z
LAST-MODIFIED:20220819T115139Z
UID:10000435-1661508000-1661533200@billingsfarm.org
SUMMARY:Today's Schedule: Foodie Friday
DESCRIPTION:
URL:https://billingsfarm.org/event/todays-schedule-foodie-friday-6/
LOCATION:Billings Farm and Museum\, 69 Old River Rd\, Woodstock\, VT\, 05091\, United States
CATEGORIES:Featured
ATTACH;FMTTYPE=image/jpeg:https://billingsfarm.org/wp/wp-content/uploads/2022/08/8-26-1.jpg
END:VEVENT
BEGIN:VEVENT
DTSTART;TZID=America/New_York:20220827T100000
DTEND;TZID=America/New_York:20220827T170000
DTSTAMP:20260419T204016
CREATED:20220810T132425Z
LAST-MODIFIED:20220819T115207Z
UID:10000436-1661594400-1661619600@billingsfarm.org
SUMMARY:Today's Schedule
DESCRIPTION:
URL:https://billingsfarm.org/event/todays-schedule-11/
LOCATION:Billings Farm and Museum\, 69 Old River Rd\, Woodstock\, VT\, 05091\, United States
CATEGORIES:Featured
ATTACH;FMTTYPE=image/jpeg:https://billingsfarm.org/wp/wp-content/uploads/2022/08/8-27-1.jpg
END:VEVENT
BEGIN:VEVENT
DTSTART;TZID=America/New_York:20220828T100000
DTEND;TZID=America/New_York:20220828T170000
DTSTAMP:20260419T204016
CREATED:20220810T132454Z
LAST-MODIFIED:20220819T115236Z
UID:10000437-1661680800-1661706000@billingsfarm.org
SUMMARY:Today's Schedule
DESCRIPTION:
URL:https://billingsfarm.org/event/todays-schedule-12/
LOCATION:Billings Farm and Museum\, 69 Old River Rd\, Woodstock\, VT\, 05091\, United States
CATEGORIES:Featured
ATTACH;FMTTYPE=image/jpeg:https://billingsfarm.org/wp/wp-content/uploads/2022/08/8-28-1.jpg
END:VEVENT
BEGIN:VEVENT
DTSTART;TZID=America/New_York:20220829T100000
DTEND;TZID=America/New_York:20220829T170000
DTSTAMP:20260419T204016
CREATED:20220810T132539Z
LAST-MODIFIED:20220819T115309Z
UID:10000438-1661767200-1661792400@billingsfarm.org
SUMMARY:Today's Schedule: Mindful Monday
DESCRIPTION:
URL:https://billingsfarm.org/event/todays-schedule-mindful-monday-6/
LOCATION:Billings Farm and Museum\, 69 Old River Rd\, Woodstock\, VT\, 05091\, United States
CATEGORIES:Featured
ATTACH;FMTTYPE=image/jpeg:https://billingsfarm.org/wp/wp-content/uploads/2022/08/8-29-1.jpg
END:VEVENT
BEGIN:VEVENT
DTSTART;TZID=America/New_York:20220830T100000
DTEND;TZID=America/New_York:20220830T170000
DTSTAMP:20260419T204016
CREATED:20220810T132619Z
LAST-MODIFIED:20220819T115351Z
UID:10000439-1661853600-1661878800@billingsfarm.org
SUMMARY:Today's Schedule: Time Travel Tuesday
DESCRIPTION:
URL:https://billingsfarm.org/event/todays-schedule-time-travel-tuesday-7/
LOCATION:Billings Farm and Museum\, 69 Old River Rd\, Woodstock\, VT\, 05091\, United States
CATEGORIES:Featured
ATTACH;FMTTYPE=image/jpeg:https://billingsfarm.org/wp/wp-content/uploads/2022/08/8-30-1.jpg
END:VEVENT
BEGIN:VEVENT
DTSTART;TZID=America/New_York:20220831T100000
DTEND;TZID=America/New_York:20220831T170000
DTSTAMP:20260419T204016
CREATED:20220810T132700Z
LAST-MODIFIED:20220819T133143Z
UID:10000440-1661940000-1661965200@billingsfarm.org
SUMMARY:Today's Schedule: Wagon Ride Wednesday
DESCRIPTION:
URL:https://billingsfarm.org/event/todays-schedule-wagon-ride-wednesday-7/
LOCATION:Billings Farm and Museum\, 69 Old River Rd\, Woodstock\, VT\, 05091\, United States
CATEGORIES:Featured
ATTACH;FMTTYPE=image/jpeg:https://billingsfarm.org/wp/wp-content/uploads/2022/08/8-31-1.jpg
END:VEVENT
BEGIN:VEVENT
DTSTART;TZID=America/New_York:20220901T100000
DTEND;TZID=America/New_York:20220901T170000
DTSTAMP:20260419T204016
CREATED:20220825T131521Z
LAST-MODIFIED:20220830T143618Z
UID:10000441-1662026400-1662051600@billingsfarm.org
SUMMARY:Today's Schedule
DESCRIPTION:
URL:https://billingsfarm.org/event/todays-schedule-13/
LOCATION:Billings Farm and Museum\, 69 Old River Rd\, Woodstock\, VT\, 05091\, United States
CATEGORIES:Featured
ATTACH;FMTTYPE=image/jpeg:https://billingsfarm.org/wp/wp-content/uploads/2022/08/9-1-to-2.jpg
END:VEVENT
BEGIN:VEVENT
DTSTART;TZID=America/New_York:20220902T100000
DTEND;TZID=America/New_York:20220902T170000
DTSTAMP:20260419T204016
CREATED:20220825T131551Z
LAST-MODIFIED:20220830T143627Z
UID:10000442-1662112800-1662138000@billingsfarm.org
SUMMARY:Today's Schedule
DESCRIPTION:
URL:https://billingsfarm.org/event/todays-schedule-14/
LOCATION:Billings Farm and Museum\, 69 Old River Rd\, Woodstock\, VT\, 05091\, United States
CATEGORIES:Featured
ATTACH;FMTTYPE=image/jpeg:https://billingsfarm.org/wp/wp-content/uploads/2022/08/9-1-to-2.jpg
END:VEVENT
BEGIN:VEVENT
DTSTART;TZID=America/New_York:20220903T100000
DTEND;TZID=America/New_York:20220903T170000
DTSTAMP:20260419T204016
CREATED:20220825T131634Z
LAST-MODIFIED:20220830T143636Z
UID:10000443-1662199200-1662224400@billingsfarm.org
SUMMARY:Today's Schedule
DESCRIPTION:
URL:https://billingsfarm.org/event/todays-schedule-15/
LOCATION:Billings Farm and Museum\, 69 Old River Rd\, Woodstock\, VT\, 05091\, United States
CATEGORIES:Featured
ATTACH;FMTTYPE=image/jpeg:https://billingsfarm.org/wp/wp-content/uploads/2022/08/9-3-to-4.jpg
END:VEVENT
BEGIN:VEVENT
DTSTART;TZID=America/New_York:20220904T100000
DTEND;TZID=America/New_York:20220904T170000
DTSTAMP:20260419T204016
CREATED:20220825T131730Z
LAST-MODIFIED:20220830T143646Z
UID:10000444-1662285600-1662310800@billingsfarm.org
SUMMARY:Today's Schedule
DESCRIPTION:
URL:https://billingsfarm.org/event/todays-schedule-16/
LOCATION:Billings Farm and Museum\, 69 Old River Rd\, Woodstock\, VT\, 05091\, United States
CATEGORIES:Featured
ATTACH;FMTTYPE=image/jpeg:https://billingsfarm.org/wp/wp-content/uploads/2022/08/9-3-to-4.jpg
END:VEVENT
BEGIN:VEVENT
DTSTART;TZID=America/New_York:20220905T100000
DTEND;TZID=America/New_York:20220905T170000
DTSTAMP:20260419T204016
CREATED:20220825T131831Z
LAST-MODIFIED:20220830T143658Z
UID:10000445-1662372000-1662397200@billingsfarm.org
SUMMARY:Today's Schedule
DESCRIPTION:
URL:https://billingsfarm.org/event/todays-schedule-17/
LOCATION:Billings Farm and Museum\, 69 Old River Rd\, Woodstock\, VT\, 05091\, United States
CATEGORIES:Featured
ATTACH;FMTTYPE=image/jpeg:https://billingsfarm.org/wp/wp-content/uploads/2022/08/9-5-to-9.jpg
END:VEVENT
BEGIN:VEVENT
DTSTART;TZID=America/New_York:20220906T100000
DTEND;TZID=America/New_York:20220906T170000
DTSTAMP:20260419T204016
CREATED:20220825T131858Z
LAST-MODIFIED:20220830T143710Z
UID:10000446-1662458400-1662483600@billingsfarm.org
SUMMARY:Today's Schedule
DESCRIPTION:
URL:https://billingsfarm.org/event/todays-schedule-18/
LOCATION:Billings Farm and Museum\, 69 Old River Rd\, Woodstock\, VT\, 05091\, United States
CATEGORIES:Featured
ATTACH;FMTTYPE=image/jpeg:https://billingsfarm.org/wp/wp-content/uploads/2022/08/9-5-to-9.jpg
END:VEVENT
BEGIN:VEVENT
DTSTART;TZID=America/New_York:20220907T093000
DTEND;TZID=America/New_York:20220907T110000
DTSTAMP:20260419T204016
CREATED:20220610T134945Z
LAST-MODIFIED:20220729T165200Z
UID:10003008-1662543000-1662548400@billingsfarm.org
SUMMARY:Pre K Storytime
DESCRIPTION:Wednesdays in September\nTime: 9:30AM – 11:00AM\nPer Session Price:  $12/child + one adult\, $10/member child + one adult \nView the September story selections.  \nRegister for September sessions. \nThis program is designed for preschool aged children (3-5) and an adult companion. Each week will include a different theme that connects the stories with crafts and farm activities. A snack is included. \nOne adult admitted free with paid child. Adult attendance required. Guests who want to visit site after storytime must purchase admission.
URL:https://billingsfarm.org/event/pre-k-storytime-3/2022-09-07/
CATEGORIES:Featured
ATTACH;FMTTYPE=image/jpeg:https://billingsfarm.org/wp/wp-content/uploads/2022/06/PreK-Story-Time.jpeg
END:VEVENT
BEGIN:VEVENT
DTSTART;TZID=America/New_York:20220907T100000
DTEND;TZID=America/New_York:20220907T170000
DTSTAMP:20260419T204016
CREATED:20220825T131927Z
LAST-MODIFIED:20220830T143721Z
UID:10000447-1662544800-1662570000@billingsfarm.org
SUMMARY:Today's Schedule
DESCRIPTION:
URL:https://billingsfarm.org/event/todays-schedule-19/
LOCATION:Billings Farm and Museum\, 69 Old River Rd\, Woodstock\, VT\, 05091\, United States
CATEGORIES:Featured
ATTACH;FMTTYPE=image/jpeg:https://billingsfarm.org/wp/wp-content/uploads/2022/08/9-5-to-9.jpg
END:VEVENT
BEGIN:VEVENT
DTSTART;TZID=America/New_York:20220907T173000
DTEND;TZID=America/New_York:20220907T190000
DTSTAMP:20260419T204016
CREATED:20220729T182852Z
LAST-MODIFIED:20220803T151209Z
UID:10003059-1662571800-1662577200@billingsfarm.org
SUMMARY:Farm & Forest Book Club - Reading the Forested Landscape
DESCRIPTION:Date:  Wednesday\, Sept. 7\nTime:  5:30PM – 7:00PM\nPrice:  $5/person\nAges:  14+ welcome\nLocation:  Forest Center at Marsh-Billings-Rockefeller National Historical Park \nRegister Now! \nJoin us for the Farm & Forest Book Club discussion on Reading the Forested Landscape by Tom Wessels\, led by Park Rangers at the Marsh-Billings-Rockefeller National Historical Park Forest Center. \nIn Wessels’ writings\, landscape is much more than scenery to be observed or terrain to be traveled. The natural world is etched with the history of storms\, fires\, and the way people inhabit the land. Throughout this fascinating\, many-layered book\, Wessels articulates how to read and solve the mysteries of the landscape. He takes readers on an inquisitive exploration into stone walls in the middle of the forest\, the unique smooth bark of beech and birch in a woodland of rough bark\, and asks why pines dominate one patch of forest and maples another\, and what happened to the American chestnut? Turn to this book for the answers\, and no walk in the woods will ever be the same. \nLight refreshments will be served including Billings Farm cheeses\, crackers\, and herbal tea. \nParking for Marsh-Billings-Rockefeller National Historical Park is located at Billings Farm & Museum\, 69 Old River Road\, Woodstock\, VT 05091. After parking\, walk towards the Billings Farm & Museum and take the concrete path to the right of the Visitor Center. Walk up the path\, cross Elm St using the cross walk\, and take the right fork in the road to walk up a short\, steep hill towards the Forest Center. Limited accessible parking is available directly outside the Forest Center. \nAdvance registration suggested.
URL:https://billingsfarm.org/event/farm-forest-book-club-reading-the-forested-landscape/
LOCATION:Billings Farm and Museum\, 69 Old River Rd\, Woodstock\, VT\, 05091\, United States
ATTACH;FMTTYPE=image/jpeg:https://billingsfarm.org/wp/wp-content/uploads/2022/07/071622-MiscBillings-061_sm.jpg
END:VEVENT
BEGIN:VEVENT
DTSTART;TZID=America/New_York:20220908T100000
DTEND;TZID=America/New_York:20220908T170000
DTSTAMP:20260419T204016
CREATED:20220825T131950Z
LAST-MODIFIED:20220830T143734Z
UID:10000448-1662631200-1662656400@billingsfarm.org
SUMMARY:Today's Schedule
DESCRIPTION:
URL:https://billingsfarm.org/event/todays-schedule-20/
LOCATION:Billings Farm and Museum\, 69 Old River Rd\, Woodstock\, VT\, 05091\, United States
CATEGORIES:Featured
ATTACH;FMTTYPE=image/jpeg:https://billingsfarm.org/wp/wp-content/uploads/2022/08/9-5-to-9.jpg
END:VEVENT
BEGIN:VEVENT
DTSTART;TZID=America/New_York:20220909T100000
DTEND;TZID=America/New_York:20220909T170000
DTSTAMP:20260419T204016
CREATED:20220825T132014Z
LAST-MODIFIED:20220830T143745Z
UID:10000449-1662717600-1662742800@billingsfarm.org
SUMMARY:Today's Schedule
DESCRIPTION:
URL:https://billingsfarm.org/event/todays-schedule-21/
LOCATION:Billings Farm and Museum\, 69 Old River Rd\, Woodstock\, VT\, 05091\, United States
CATEGORIES:Featured
ATTACH;FMTTYPE=image/jpeg:https://billingsfarm.org/wp/wp-content/uploads/2022/08/9-5-to-9.jpg
END:VEVENT
BEGIN:VEVENT
DTSTART;TZID=America/New_York:20220910T100000
DTEND;TZID=America/New_York:20220910T170000
DTSTAMP:20260419T204016
CREATED:20220805T200416Z
LAST-MODIFIED:20221013T202400Z
UID:10003012-1662804000-1662829200@billingsfarm.org
SUMMARY:Art Exhibition: Common Threads - Land\, History\, Art
DESCRIPTION:Billings Farm’s historic barn will be transformed by this solo exhibition of Artist-in-Residence Margaret Dwyer’s colorful creations.  The exhibition will feature recent works including art produced during her residency at Billings Farm & Museum\, from June – October of 2022. \nThrough October\, guests can see demonstrations\, take a workshop\, and witness the joy she creates on paper. Through her masterful watercolor brushwork and use of vibrant colors\, Dwyer brings her subject matter to life. Her prints are also available for purchase in the Museum Gift Shop. Learn more about her residency at billingsfarm.org/art-on-the-farm/ 
URL:https://billingsfarm.org/event/art-exhibition-common-threads-land-history-art/2022-09-10/
LOCATION:Billings Farm and Museum\, 69 Old River Rd\, Woodstock\, VT\, 05091\, United States
ATTACH;FMTTYPE=image/jpeg:https://billingsfarm.org/wp/wp-content/uploads/2022/08/Elizabeth-by-BFM-Artist-in-Residence-Margaret-Dwyer_crop.jpg
END:VEVENT
END:VCALENDAR