BEGIN:VCALENDAR
VERSION:2.0
PRODID:-//Billings Farm - ECPv6.15.15//NONSGML v1.0//EN
CALSCALE:GREGORIAN
METHOD:PUBLISH
X-WR-CALNAME:Billings Farm
X-ORIGINAL-URL:https://billingsfarm.org
X-WR-CALDESC:Events for Billings Farm
REFRESH-INTERVAL;VALUE=DURATION:PT1H
X-Robots-Tag:noindex
X-PUBLISHED-TTL:PT1H
BEGIN:VTIMEZONE
TZID:America/New_York
BEGIN:DAYLIGHT
TZOFFSETFROM:-0500
TZOFFSETTO:-0400
TZNAME:EDT
DTSTART:20220313T070000
END:DAYLIGHT
BEGIN:STANDARD
TZOFFSETFROM:-0400
TZOFFSETTO:-0500
TZNAME:EST
DTSTART:20221106T060000
END:STANDARD
BEGIN:DAYLIGHT
TZOFFSETFROM:-0500
TZOFFSETTO:-0400
TZNAME:EDT
DTSTART:20230312T070000
END:DAYLIGHT
BEGIN:STANDARD
TZOFFSETFROM:-0400
TZOFFSETTO:-0500
TZNAME:EST
DTSTART:20231105T060000
END:STANDARD
BEGIN:DAYLIGHT
TZOFFSETFROM:-0500
TZOFFSETTO:-0400
TZNAME:EDT
DTSTART:20240310T070000
END:DAYLIGHT
BEGIN:STANDARD
TZOFFSETFROM:-0400
TZOFFSETTO:-0500
TZNAME:EST
DTSTART:20241103T060000
END:STANDARD
END:VTIMEZONE
BEGIN:VEVENT
DTSTART;TZID=America/New_York:20230920T100000
DTEND;TZID=America/New_York:20230920T170000
DTSTAMP:20260422T012159
CREATED:20230829T182621Z
LAST-MODIFIED:20230829T182622Z
UID:10000281-1695204000-1695229200@billingsfarm.org
SUMMARY:Today's Schedule
DESCRIPTION:
URL:https://billingsfarm.org/event/todays-schedule-253/
LOCATION:Billings Farm and Museum\, 69 Old River Rd\, Woodstock\, VT\, 05091\, United States
CATEGORIES:Featured
ATTACH;FMTTYPE=image/jpeg:https://billingsfarm.org/wp/wp-content/uploads/2023/08/9-1819202122.jpg
END:VEVENT
BEGIN:VEVENT
DTSTART;TZID=America/New_York:20230921T100000
DTEND;TZID=America/New_York:20230921T170000
DTSTAMP:20260422T012159
CREATED:20230829T182646Z
LAST-MODIFIED:20230829T182647Z
UID:10000282-1695290400-1695315600@billingsfarm.org
SUMMARY:Today's Schedule
DESCRIPTION:
URL:https://billingsfarm.org/event/todays-schedule-254/
LOCATION:Billings Farm and Museum\, 69 Old River Rd\, Woodstock\, VT\, 05091\, United States
CATEGORIES:Featured
ATTACH;FMTTYPE=image/jpeg:https://billingsfarm.org/wp/wp-content/uploads/2023/08/9-1819202122.jpg
END:VEVENT
BEGIN:VEVENT
DTSTART;TZID=America/New_York:20230922T100000
DTEND;TZID=America/New_York:20230922T170000
DTSTAMP:20260422T012159
CREATED:20230829T182712Z
LAST-MODIFIED:20230829T182713Z
UID:10000277-1695376800-1695402000@billingsfarm.org
SUMMARY:Today's Schedule
DESCRIPTION:
URL:https://billingsfarm.org/event/todays-schedule-255/
LOCATION:Billings Farm and Museum\, 69 Old River Rd\, Woodstock\, VT\, 05091\, United States
CATEGORIES:Featured
ATTACH;FMTTYPE=image/jpeg:https://billingsfarm.org/wp/wp-content/uploads/2023/08/9-1819202122.jpg
END:VEVENT
BEGIN:VEVENT
DTSTART;TZID=America/New_York:20230923T090000
DTEND;TZID=America/New_York:20230923T180000
DTSTAMP:20260422T012159
CREATED:20230808T180934Z
LAST-MODIFIED:20230825T202252Z
UID:10003210-1695459600-1695492000@billingsfarm.org
SUMMARY:TEDxHartlandHill - The Art of Living
DESCRIPTION:“Ideas worth spreading” return to the Woodstock community with the second TEDxHartlandHill hosted at Billings Farm & Museum. \nThis year’s theme\, The Art of Living will explore the art of finding balance and purpose in life. A diverse lineup of local\, national\, and international speakers will share their unique perspectives and experiences from the academic to the artistic\, the concrete to the cutting edge. \nPresented at Billings Farm & Museum. For more details and tickets\, visit www.TEDxHartlandHill.org.
URL:https://billingsfarm.org/event/tedxhartlandhill-the-art-of-living/
LOCATION:Billings Farm and Museum\, 69 Old River Rd\, Woodstock\, VT\, 05091\, United States
CATEGORIES:Featured
ATTACH;FMTTYPE=image/jpeg:https://billingsfarm.org/wp/wp-content/uploads/2023/08/TEDxHartlandHill-at-Billings-Farm-Museum-photo-credit-Marion-Abrams_600.jpg
ORGANIZER;CN="TEDxHartlandHill":MAILTO:info@TEDxHartlandHill.org
END:VEVENT
BEGIN:VEVENT
DTSTART;TZID=America/New_York:20230923T100000
DTEND;TZID=America/New_York:20230923T170000
DTSTAMP:20260422T012159
CREATED:20230913T113056Z
LAST-MODIFIED:20230913T113057Z
UID:10000734-1695463200-1695488400@billingsfarm.org
SUMMARY:Today's Schedule
DESCRIPTION:
URL:https://billingsfarm.org/event/todays-schedule-256/
LOCATION:Billings Farm and Museum\, 69 Old River Rd\, Woodstock\, VT\, 05091\, United States
CATEGORIES:Featured
ATTACH;FMTTYPE=image/jpeg:https://billingsfarm.org/wp/wp-content/uploads/2023/09/TEDxHartland-Hill-2023-9-23.jpg
END:VEVENT
BEGIN:VEVENT
DTSTART;TZID=America/New_York:20230924T100000
DTEND;TZID=America/New_York:20230924T170000
DTSTAMP:20260422T012159
CREATED:20230829T182429Z
LAST-MODIFIED:20230829T182430Z
UID:10000133-1695549600-1695574800@billingsfarm.org
SUMMARY:Today's Schedule
DESCRIPTION:
URL:https://billingsfarm.org/event/todays-schedule-249/
LOCATION:Billings Farm and Museum\, 69 Old River Rd\, Woodstock\, VT\, 05091\, United States
CATEGORIES:Featured
ATTACH;FMTTYPE=image/jpeg:https://billingsfarm.org/wp/wp-content/uploads/2023/08/9-2430.jpg
END:VEVENT
BEGIN:VEVENT
DTSTART;TZID=America/New_York:20230925T100000
DTEND;TZID=America/New_York:20230925T170000
DTSTAMP:20260422T012159
CREATED:20230829T181737Z
LAST-MODIFIED:20230829T181738Z
UID:10000289-1695636000-1695661200@billingsfarm.org
SUMMARY:Today's Schedule
DESCRIPTION:
URL:https://billingsfarm.org/event/todays-schedule-237/
LOCATION:Billings Farm and Museum\, 69 Old River Rd\, Woodstock\, VT\, 05091\, United States
CATEGORIES:Featured
ATTACH;FMTTYPE=image/jpeg:https://billingsfarm.org/wp/wp-content/uploads/2023/08/9-2526272829.jpg
END:VEVENT
BEGIN:VEVENT
DTSTART;TZID=America/New_York:20230926T100000
DTEND;TZID=America/New_York:20230926T170000
DTSTAMP:20260422T012159
CREATED:20230829T181804Z
LAST-MODIFIED:20230829T181805Z
UID:10000290-1695722400-1695747600@billingsfarm.org
SUMMARY:Today's Schedule
DESCRIPTION:
URL:https://billingsfarm.org/event/todays-schedule-238/
LOCATION:Billings Farm and Museum\, 69 Old River Rd\, Woodstock\, VT\, 05091\, United States
CATEGORIES:Featured
ATTACH;FMTTYPE=image/jpeg:https://billingsfarm.org/wp/wp-content/uploads/2023/08/9-2526272829.jpg
END:VEVENT
BEGIN:VEVENT
DTSTART;TZID=America/New_York:20230927T100000
DTEND;TZID=America/New_York:20230927T170000
DTSTAMP:20260422T012159
CREATED:20230829T181830Z
LAST-MODIFIED:20230829T181830Z
UID:10000291-1695808800-1695834000@billingsfarm.org
SUMMARY:Today's Schedule
DESCRIPTION:
URL:https://billingsfarm.org/event/todays-schedule-239/
LOCATION:Billings Farm and Museum\, 69 Old River Rd\, Woodstock\, VT\, 05091\, United States
CATEGORIES:Featured
ATTACH;FMTTYPE=image/jpeg:https://billingsfarm.org/wp/wp-content/uploads/2023/08/9-2526272829.jpg
END:VEVENT
BEGIN:VEVENT
DTSTART;TZID=America/New_York:20230928T100000
DTEND;TZID=America/New_York:20230928T170000
DTSTAMP:20260422T012159
CREATED:20230829T181859Z
LAST-MODIFIED:20230829T181900Z
UID:10000298-1695895200-1695920400@billingsfarm.org
SUMMARY:Today's Schedule
DESCRIPTION:
URL:https://billingsfarm.org/event/todays-schedule-240/
LOCATION:Billings Farm and Museum\, 69 Old River Rd\, Woodstock\, VT\, 05091\, United States
CATEGORIES:Featured
ATTACH;FMTTYPE=image/jpeg:https://billingsfarm.org/wp/wp-content/uploads/2023/08/9-2526272829.jpg
END:VEVENT
BEGIN:VEVENT
DTSTART;TZID=America/New_York:20230929T100000
DTEND;TZID=America/New_York:20230929T170000
DTSTAMP:20260422T012159
CREATED:20230829T181924Z
LAST-MODIFIED:20230829T181925Z
UID:10000310-1695981600-1696006800@billingsfarm.org
SUMMARY:Today's Schedule
DESCRIPTION:
URL:https://billingsfarm.org/event/todays-schedule-241/
LOCATION:Billings Farm and Museum\, 69 Old River Rd\, Woodstock\, VT\, 05091\, United States
CATEGORIES:Featured
ATTACH;FMTTYPE=image/jpeg:https://billingsfarm.org/wp/wp-content/uploads/2023/08/9-2526272829.jpg
END:VEVENT
BEGIN:VEVENT
DTSTART;TZID=America/New_York:20230930T100000
DTEND;TZID=America/New_York:20230930T170000
DTSTAMP:20260422T012159
CREATED:20230829T182454Z
LAST-MODIFIED:20230829T182455Z
UID:10000135-1696068000-1696093200@billingsfarm.org
SUMMARY:Today's Schedule
DESCRIPTION:
URL:https://billingsfarm.org/event/todays-schedule-250/
LOCATION:Billings Farm and Museum\, 69 Old River Rd\, Woodstock\, VT\, 05091\, United States
CATEGORIES:Featured
ATTACH;FMTTYPE=image/jpeg:https://billingsfarm.org/wp/wp-content/uploads/2023/08/9-2430.jpg
END:VEVENT
BEGIN:VEVENT
DTSTART;TZID=America/New_York:20231001T100000
DTEND;TZID=America/New_York:20231001T170000
DTSTAMP:20260422T012159
CREATED:20230930T122438Z
LAST-MODIFIED:20230930T122514Z
UID:10002741-1696154400-1696179600@billingsfarm.org
SUMMARY:Today's Schedule
DESCRIPTION:
URL:https://billingsfarm.org/event/todays-schedule-257/
LOCATION:Billings Farm and Museum\, 69 Old River Rd\, Woodstock\, VT\, 05091\, United States
CATEGORIES:Featured
ATTACH;FMTTYPE=image/jpeg:https://billingsfarm.org/wp/wp-content/uploads/2023/09/10-1-.pdf-scaled.jpg
END:VEVENT
BEGIN:VEVENT
DTSTART;TZID=America/New_York:20231002T100000
DTEND;TZID=America/New_York:20231002T170000
DTSTAMP:20260422T012159
CREATED:20230930T122617Z
LAST-MODIFIED:20230930T122618Z
UID:10002762-1696240800-1696266000@billingsfarm.org
SUMMARY:Today's Schedule
DESCRIPTION:
URL:https://billingsfarm.org/event/todays-schedule-258/
LOCATION:Billings Farm and Museum\, 69 Old River Rd\, Woodstock\, VT\, 05091\, United States
CATEGORIES:Featured
ATTACH;FMTTYPE=image/jpeg:https://billingsfarm.org/wp/wp-content/uploads/2023/09/10-2-scaled.jpg
END:VEVENT
BEGIN:VEVENT
DTSTART;TZID=America/New_York:20231003T100000
DTEND;TZID=America/New_York:20231003T170000
DTSTAMP:20260422T012159
CREATED:20230930T122719Z
LAST-MODIFIED:20230930T122720Z
UID:10002763-1696327200-1696352400@billingsfarm.org
SUMMARY:Today's Schedule
DESCRIPTION:
URL:https://billingsfarm.org/event/todays-schedule-259/
LOCATION:Billings Farm and Museum\, 69 Old River Rd\, Woodstock\, VT\, 05091\, United States
CATEGORIES:Featured
ATTACH;FMTTYPE=image/jpeg:https://billingsfarm.org/wp/wp-content/uploads/2023/09/10-34-1011-1718-242531-scaled.jpg
END:VEVENT
BEGIN:VEVENT
DTSTART;TZID=America/New_York:20231004T100000
DTEND;TZID=America/New_York:20231004T170000
DTSTAMP:20260422T012159
CREATED:20230930T122811Z
LAST-MODIFIED:20230930T122812Z
UID:10002760-1696413600-1696438800@billingsfarm.org
SUMMARY:Today's Schedule
DESCRIPTION:
URL:https://billingsfarm.org/event/todays-schedule-260/
LOCATION:Billings Farm and Museum\, 69 Old River Rd\, Woodstock\, VT\, 05091\, United States
CATEGORIES:Featured
ATTACH;FMTTYPE=image/jpeg:https://billingsfarm.org/wp/wp-content/uploads/2023/09/10-34-1011-1718-242531-scaled.jpg
END:VEVENT
BEGIN:VEVENT
DTSTART;TZID=America/New_York:20231005T100000
DTEND;TZID=America/New_York:20231005T170000
DTSTAMP:20260422T012159
CREATED:20230930T122907Z
LAST-MODIFIED:20230930T122908Z
UID:10002761-1696500000-1696525200@billingsfarm.org
SUMMARY:Today's Schedule
DESCRIPTION:
URL:https://billingsfarm.org/event/todays-schedule-261/
LOCATION:Billings Farm and Museum\, 69 Old River Rd\, Woodstock\, VT\, 05091\, United States
CATEGORIES:Featured
ATTACH;FMTTYPE=image/jpeg:https://billingsfarm.org/wp/wp-content/uploads/2023/09/10-56-91213-16-1920-23-262730-scaled.jpg
END:VEVENT
BEGIN:VEVENT
DTSTART;TZID=America/New_York:20231006T100000
DTEND;TZID=America/New_York:20231006T170000
DTSTAMP:20260422T012159
CREATED:20230930T123016Z
LAST-MODIFIED:20230930T123016Z
UID:10002909-1696586400-1696611600@billingsfarm.org
SUMMARY:Today's Schedule
DESCRIPTION:
URL:https://billingsfarm.org/event/todays-schedule-262/
LOCATION:Billings Farm and Museum\, 69 Old River Rd\, Woodstock\, VT\, 05091\, United States
CATEGORIES:Featured
ATTACH;FMTTYPE=image/jpeg:https://billingsfarm.org/wp/wp-content/uploads/2023/09/10-56-91213-16-1920-23-262730-scaled.jpg
END:VEVENT
BEGIN:VEVENT
DTSTART;TZID=America/New_York:20231007T100000
DTEND;TZID=America/New_York:20231007T170000
DTSTAMP:20260422T012159
CREATED:20220218T165035Z
LAST-MODIFIED:20230929T195233Z
UID:10002994-1696672800-1696698000@billingsfarm.org
SUMMARY:Harvest Celebration
DESCRIPTION:Harvest Celebration\, Saturday\, October 7 & Sunday\, October 8\, 10:00AM – 5:00PM  \nGather and celebrate the change of the season with harvest activities\, food\, and fun for the whole family.  This lively two-day Harvest Celebration will feature traditional barn dancing\, live music\, pumpkin bowling\, crafts\, stories\, and all kinds of harvest activities.   \nAgainst a backdrop of autumn foliage\, guests can take a picturesque wagon ride through the pastures\, husk and shell corn\, harvest sunflower seeds for next year’s garden\, and press apples into delicious cider. Guests can help gather ripe produce in the Farmstead Gardens\, learn all about the varieties of apples in Vermont\, and sample the sweet and savory combination of apples and Billings Farm Cheddar Cheeses.  \nEVENT SCHEDULE\n\n10:30AM\, 1PM\, 4PM Learn about Apples\n11AM\, 12PM\, 2PM\, 3PM Join the Barn Dance\n11AM – 3PM Take a Wagon Ride\n11AM – 4PM Try Cider Pressing in the Learning Kitchen\n11:30AM\, 2:30PM\, 4:30PM Listen to Harvest Stories\n12:30PM\, 1:30PM\, 3:30PM Corn Husking & Shelling / Harvest Program\n\n  \nThe Farmhouse Scoop Shop will feature the quintessential taste of fall: pumpkin ice cream and seasonal sundaes\, plus hot spiced cider and apple cider donuts\, available for purchase from 11:00AM – 4:30PM.  \n The Billings Farm Mooveable Feast Food Truck will be serving grilled cheese and mac & cheese made with Billings Farm Cheddar Cheese\, as well as waffle dogs and other snacks from 11AM to 4PM.   \nThe Wicked Awesome BBQ Food Truck will be on site Saturday and Sunday from 11:00AM – 4:00PM\, serving traditional American BBQ for purchase.  \nThe Harvest Celebration is included with daily admission to Billings Farm & Museum.   \n \n\nThanks to our generous 2023 Season Sponsor!\nand Event Sponsor
URL:https://billingsfarm.org/event/harvest-celebration-2/2023-10-07/
CATEGORIES:Featured
ATTACH;FMTTYPE=image/jpeg:https://billingsfarm.org/wp/wp-content/uploads/2022/02/3.jpg
END:VEVENT
BEGIN:VEVENT
DTSTART;TZID=America/New_York:20231009T100000
DTEND;TZID=America/New_York:20231009T170000
DTSTAMP:20260422T012159
CREATED:20231002T134912Z
LAST-MODIFIED:20231002T134913Z
UID:10000758-1696845600-1696870800@billingsfarm.org
SUMMARY:Today's Schedule
DESCRIPTION:
URL:https://billingsfarm.org/event/todays-schedule-263/
CATEGORIES:Featured
ATTACH;FMTTYPE=image/jpeg:https://billingsfarm.org/wp/wp-content/uploads/2023/10/10-56-91213-16-1920-23-262730.jpg
END:VEVENT
BEGIN:VEVENT
DTSTART;TZID=America/New_York:20231010T100000
DTEND;TZID=America/New_York:20231010T170000
DTSTAMP:20260422T012159
CREATED:20231002T135603Z
LAST-MODIFIED:20231002T135604Z
UID:10000772-1696932000-1696957200@billingsfarm.org
SUMMARY:Today's Schedule
DESCRIPTION:
URL:https://billingsfarm.org/event/todays-schedule-277/
LOCATION:Billings Farm and Museum\, 69 Old River Rd\, Woodstock\, VT\, 05091\, United States
CATEGORIES:Featured
ATTACH;FMTTYPE=image/jpeg:https://billingsfarm.org/wp/wp-content/uploads/2023/10/10-34-1011-1718-242531.jpg
END:VEVENT
BEGIN:VEVENT
DTSTART;TZID=America/New_York:20231011T100000
DTEND;TZID=America/New_York:20231011T170000
DTSTAMP:20260422T012159
CREATED:20231002T135628Z
LAST-MODIFIED:20231002T135628Z
UID:10000773-1697018400-1697043600@billingsfarm.org
SUMMARY:Today's Schedule
DESCRIPTION:
URL:https://billingsfarm.org/event/todays-schedule-278/
LOCATION:Billings Farm and Museum\, 69 Old River Rd\, Woodstock\, VT\, 05091\, United States
CATEGORIES:Featured
ATTACH;FMTTYPE=image/jpeg:https://billingsfarm.org/wp/wp-content/uploads/2023/10/10-34-1011-1718-242531.jpg
END:VEVENT
BEGIN:VEVENT
DTSTART;TZID=America/New_York:20231012T100000
DTEND;TZID=America/New_York:20231012T170000
DTSTAMP:20260422T012159
CREATED:20231002T134958Z
LAST-MODIFIED:20231002T134959Z
UID:10000759-1697104800-1697130000@billingsfarm.org
SUMMARY:Today's Schedule
DESCRIPTION:
URL:https://billingsfarm.org/event/todays-schedule-264/
LOCATION:Billings Farm and Museum\, 69 Old River Rd\, Woodstock\, VT\, 05091\, United States
CATEGORIES:Featured
ATTACH;FMTTYPE=image/jpeg:https://billingsfarm.org/wp/wp-content/uploads/2023/10/10-56-91213-16-1920-23-262730.jpg
END:VEVENT
BEGIN:VEVENT
DTSTART;TZID=America/New_York:20231012T173000
DTEND;TZID=America/New_York:20231012T183000
DTSTAMP:20260422T012159
CREATED:20231006T161102Z
LAST-MODIFIED:20231010T210358Z
UID:10002759-1697131800-1697135400@billingsfarm.org
SUMMARY:Member Event: Meet Photographer JuanCarlos Gonzalez
DESCRIPTION:Billings Farm & Museum Members are invited to \nMEET THE PHOTOGRAPHER\nbehind the\nVERMONT FEMALE FARMERS EXHIBITION\nJuanCarlos González\nThursday\, October 12\n5:30 – 6:30PM \nVisitor Center Exhibition Barn\nBillings Farm & Museum \nDon’t miss your chance to: \n~ Hear what inspired the Vermont Female Farmers Exhibition \n~ Learn about the farmers who participated \n~ Find out about the process of creating the photos and the exhibition \nLight refreshments provided \nRSVP to membership@billingsfarm.org or call Charlene Peavey at 802-457-2355. RSVP strongly recommended. Walk-ins invited. \nWe are grateful to our members for your generous support that makes exhibitions like this possible. We hope to see you there! \nMembership must be current to attend. Please show Membership Card and ID at check in. \nNot yet a member or need to renew? Join or renew online now! \nThe Vermont Female Farmers Exhibition is on display daily\, 10AM-5PM\, through October 31.
URL:https://billingsfarm.org/event/member-event-meet-photographer-juancarlos-gonzalez/
LOCATION:Billings Farm and Museum\, 69 Old River Rd\, Woodstock\, VT\, 05091\, United States
CATEGORIES:Featured
ATTACH;FMTTYPE=image/jpeg:https://billingsfarm.org/wp/wp-content/uploads/2023/10/5b95ae3c-6081-e4c1-89aa-ff71cd5eb98c.jpg
END:VEVENT
BEGIN:VEVENT
DTSTART;TZID=America/New_York:20231013T100000
DTEND;TZID=America/New_York:20231013T170000
DTSTAMP:20260422T012159
CREATED:20231002T135029Z
LAST-MODIFIED:20231002T135030Z
UID:10000760-1697191200-1697216400@billingsfarm.org
SUMMARY:Today's Schedule
DESCRIPTION:
URL:https://billingsfarm.org/event/todays-schedule-265/
LOCATION:Billings Farm and Museum\, 69 Old River Rd\, Woodstock\, VT\, 05091\, United States
CATEGORIES:Featured
ATTACH;FMTTYPE=image/jpeg:https://billingsfarm.org/wp/wp-content/uploads/2023/10/10-56-91213-16-1920-23-262730.jpg
END:VEVENT
BEGIN:VEVENT
DTSTART;TZID=America/New_York:20231014T100000
DTEND;TZID=America/New_York:20231014T170000
DTSTAMP:20260422T012159
CREATED:20231002T135413Z
LAST-MODIFIED:20231002T135414Z
UID:10000768-1697277600-1697302800@billingsfarm.org
SUMMARY:Today's Schedule
DESCRIPTION:
URL:https://billingsfarm.org/event/todays-schedule-273/
LOCATION:Billings Farm and Museum\, 69 Old River Rd\, Woodstock\, VT\, 05091\, United States
CATEGORIES:Featured
ATTACH;FMTTYPE=image/jpeg:https://billingsfarm.org/wp/wp-content/uploads/2023/10/10-14152122.jpg
END:VEVENT
BEGIN:VEVENT
DTSTART;TZID=America/New_York:20231015T100000
DTEND;TZID=America/New_York:20231015T170000
DTSTAMP:20260422T012159
CREATED:20231002T135437Z
LAST-MODIFIED:20231002T135438Z
UID:10000769-1697364000-1697389200@billingsfarm.org
SUMMARY:Today's Schedule
DESCRIPTION:
URL:https://billingsfarm.org/event/todays-schedule-274/
LOCATION:Billings Farm and Museum\, 69 Old River Rd\, Woodstock\, VT\, 05091\, United States
CATEGORIES:Featured
ATTACH;FMTTYPE=image/jpeg:https://billingsfarm.org/wp/wp-content/uploads/2023/10/10-14152122.jpg
END:VEVENT
BEGIN:VEVENT
DTSTART;TZID=America/New_York:20231016T100000
DTEND;TZID=America/New_York:20231016T170000
DTSTAMP:20260422T012159
CREATED:20231002T135055Z
LAST-MODIFIED:20231002T135056Z
UID:10000761-1697450400-1697475600@billingsfarm.org
SUMMARY:Today's Schedule
DESCRIPTION:
URL:https://billingsfarm.org/event/todays-schedule-266/
LOCATION:Billings Farm and Museum\, 69 Old River Rd\, Woodstock\, VT\, 05091\, United States
CATEGORIES:Featured
ATTACH;FMTTYPE=image/jpeg:https://billingsfarm.org/wp/wp-content/uploads/2023/10/10-56-91213-16-1920-23-262730.jpg
END:VEVENT
BEGIN:VEVENT
DTSTART;TZID=America/New_York:20231017T100000
DTEND;TZID=America/New_York:20231017T170000
DTSTAMP:20260422T012159
CREATED:20231002T135650Z
LAST-MODIFIED:20231002T135650Z
UID:10000774-1697536800-1697562000@billingsfarm.org
SUMMARY:Today's Schedule
DESCRIPTION:
URL:https://billingsfarm.org/event/todays-schedule-279/
LOCATION:Billings Farm and Museum\, 69 Old River Rd\, Woodstock\, VT\, 05091\, United States
CATEGORIES:Featured
ATTACH;FMTTYPE=image/jpeg:https://billingsfarm.org/wp/wp-content/uploads/2023/10/10-34-1011-1718-242531.jpg
END:VEVENT
BEGIN:VEVENT
DTSTART;TZID=America/New_York:20231018T100000
DTEND;TZID=America/New_York:20231018T170000
DTSTAMP:20260422T012159
CREATED:20231002T135715Z
LAST-MODIFIED:20231002T135716Z
UID:10000775-1697623200-1697648400@billingsfarm.org
SUMMARY:Today's Schedule
DESCRIPTION:
URL:https://billingsfarm.org/event/todays-schedule-280/
LOCATION:Billings Farm and Museum\, 69 Old River Rd\, Woodstock\, VT\, 05091\, United States
CATEGORIES:Featured
ATTACH;FMTTYPE=image/jpeg:https://billingsfarm.org/wp/wp-content/uploads/2023/10/10-34-1011-1718-242531.jpg
END:VEVENT
END:VCALENDAR