BEGIN:VCALENDAR
VERSION:2.0
PRODID:-//Billings Farm - ECPv6.15.15//NONSGML v1.0//EN
CALSCALE:GREGORIAN
METHOD:PUBLISH
X-WR-CALNAME:Billings Farm
X-ORIGINAL-URL:https://billingsfarm.org
X-WR-CALDESC:Events for Billings Farm
REFRESH-INTERVAL;VALUE=DURATION:PT1H
X-Robots-Tag:noindex
X-PUBLISHED-TTL:PT1H
BEGIN:VTIMEZONE
TZID:America/New_York
BEGIN:DAYLIGHT
TZOFFSETFROM:-0500
TZOFFSETTO:-0400
TZNAME:EDT
DTSTART:20190310T070000
END:DAYLIGHT
BEGIN:STANDARD
TZOFFSETFROM:-0400
TZOFFSETTO:-0500
TZNAME:EST
DTSTART:20191103T060000
END:STANDARD
BEGIN:DAYLIGHT
TZOFFSETFROM:-0500
TZOFFSETTO:-0400
TZNAME:EDT
DTSTART:20200308T070000
END:DAYLIGHT
BEGIN:STANDARD
TZOFFSETFROM:-0400
TZOFFSETTO:-0500
TZNAME:EST
DTSTART:20201101T060000
END:STANDARD
BEGIN:DAYLIGHT
TZOFFSETFROM:-0500
TZOFFSETTO:-0400
TZNAME:EDT
DTSTART:20210314T070000
END:DAYLIGHT
BEGIN:STANDARD
TZOFFSETFROM:-0400
TZOFFSETTO:-0500
TZNAME:EST
DTSTART:20211107T060000
END:STANDARD
END:VTIMEZONE
BEGIN:VTIMEZONE
TZID:America/New_York
BEGIN:DAYLIGHT
TZOFFSETFROM:-0500
TZOFFSETTO:-0400
TZNAME:EDT
DTSTART:20190310T070000
END:DAYLIGHT
BEGIN:STANDARD
TZOFFSETFROM:-0400
TZOFFSETTO:-0500
TZNAME:EST
DTSTART:20191103T060000
END:STANDARD
BEGIN:DAYLIGHT
TZOFFSETFROM:-0500
TZOFFSETTO:-0400
TZNAME:EDT
DTSTART:20200308T070000
END:DAYLIGHT
BEGIN:STANDARD
TZOFFSETFROM:-0400
TZOFFSETTO:-0500
TZNAME:EST
DTSTART:20201101T060000
END:STANDARD
BEGIN:DAYLIGHT
TZOFFSETFROM:-0500
TZOFFSETTO:-0400
TZNAME:EDT
DTSTART:20210314T070000
END:DAYLIGHT
BEGIN:STANDARD
TZOFFSETFROM:-0400
TZOFFSETTO:-0500
TZNAME:EST
DTSTART:20211107T060000
END:STANDARD
END:VTIMEZONE
BEGIN:VEVENT
DTSTART;TZID=America/New_York:20200818T100000
DTEND;TZID=America/New_York:20200818T160000
DTSTAMP:20260423T040246
CREATED:20171019T180157Z
LAST-MODIFIED:20200707T203517Z
UID:10000039-1597744800-1597766400@billingsfarm.org
SUMMARY:Time Travel Tuesdays - An Online Program
DESCRIPTION: Travel back in time online at Billings Farm at Home to learn about the history of farm and daily life at Billings Farm and in Vermont.
URL:https://billingsfarm.org/event/time-travel-tuesdays-2019/2020-08-18/
LOCATION:– An Online Program
CATEGORIES:Featured
ATTACH;FMTTYPE=:
END:VEVENT
BEGIN:VEVENT
DTSTART;TZID=America/New_York:20200820T100000
DTEND;TZID=America/New_York:20200820T160000
DTSTAMP:20260423T040246
CREATED:20171019T172342Z
LAST-MODIFIED:20200814T100436Z
UID:10000066-1597917600-1597939200@billingsfarm.org
SUMMARY:34th Annual Quilt Exhibition
DESCRIPTION:Explore the juried exhibition of locally-made quilts. Enjoy quilting demonstrations and activities for children and adults.
URL:https://billingsfarm.org/event/34th-annual-quilt-exhibition/2020-08-20/
CATEGORIES:Featured
ATTACH;FMTTYPE=:
END:VEVENT
BEGIN:VEVENT
DTSTART;TZID=America/New_York:20200820T100000
DTEND;TZID=America/New_York:20200820T160000
DTSTAMP:20260423T040246
CREATED:20200123T160845Z
LAST-MODIFIED:20200707T203652Z
UID:10000194-1597917600-1597939200@billingsfarm.org
SUMMARY:Thursday Threads - An Online Program
DESCRIPTION:Keep your hands and minds busy with weekly fiber crafts and facts about wool and other fabric fibers on Thursdays during the Quilt Exhibition\, beginning July 23 at Billings Farm at Home.
URL:https://billingsfarm.org/event/thursday-threads-2/2020-08-20/
ATTACH;FMTTYPE=:
END:VEVENT
BEGIN:VEVENT
DTSTART;TZID=America/New_York:20200821T100000
DTEND;TZID=America/New_York:20200821T160000
DTSTAMP:20260423T040246
CREATED:20171019T172342Z
LAST-MODIFIED:20200814T100436Z
UID:10000067-1598004000-1598025600@billingsfarm.org
SUMMARY:34th Annual Quilt Exhibition
DESCRIPTION:Explore the juried exhibition of locally-made quilts. Enjoy quilting demonstrations and activities for children and adults.
URL:https://billingsfarm.org/event/34th-annual-quilt-exhibition/2020-08-21/
CATEGORIES:Featured
ATTACH;FMTTYPE=:
END:VEVENT
BEGIN:VEVENT
DTSTART;TZID=America/New_York:20200822T100000
DTEND;TZID=America/New_York:20200822T160000
DTSTAMP:20260423T040246
CREATED:20171019T172342Z
LAST-MODIFIED:20200814T100436Z
UID:10000068-1598090400-1598112000@billingsfarm.org
SUMMARY:34th Annual Quilt Exhibition
DESCRIPTION:Explore the juried exhibition of locally-made quilts. Enjoy quilting demonstrations and activities for children and adults.
URL:https://billingsfarm.org/event/34th-annual-quilt-exhibition/2020-08-22/
CATEGORIES:Featured
ATTACH;FMTTYPE=:
END:VEVENT
BEGIN:VEVENT
DTSTART;TZID=America/New_York:20200823T100000
DTEND;TZID=America/New_York:20200823T160000
DTSTAMP:20260423T040246
CREATED:20171019T172342Z
LAST-MODIFIED:20200814T100436Z
UID:10000069-1598176800-1598198400@billingsfarm.org
SUMMARY:34th Annual Quilt Exhibition
DESCRIPTION:Explore the juried exhibition of locally-made quilts. Enjoy quilting demonstrations and activities for children and adults.
URL:https://billingsfarm.org/event/34th-annual-quilt-exhibition/2020-08-23/
CATEGORIES:Featured
ATTACH;FMTTYPE=:
END:VEVENT
BEGIN:VEVENT
DTSTART;TZID=America/New_York:20200824T100000
DTEND;TZID=America/New_York:20200824T160000
DTSTAMP:20260423T040246
CREATED:20171019T172342Z
LAST-MODIFIED:20200814T100436Z
UID:10000070-1598263200-1598284800@billingsfarm.org
SUMMARY:34th Annual Quilt Exhibition
DESCRIPTION:Explore the juried exhibition of locally-made quilts. Enjoy quilting demonstrations and activities for children and adults.
URL:https://billingsfarm.org/event/34th-annual-quilt-exhibition/2020-08-24/
CATEGORIES:Featured
ATTACH;FMTTYPE=:
END:VEVENT
BEGIN:VEVENT
DTSTART;TZID=America/New_York:20200825T100000
DTEND;TZID=America/New_York:20200825T160000
DTSTAMP:20260423T040247
CREATED:20171019T172342Z
LAST-MODIFIED:20200814T100436Z
UID:10000071-1598349600-1598371200@billingsfarm.org
SUMMARY:34th Annual Quilt Exhibition
DESCRIPTION:Explore the juried exhibition of locally-made quilts. Enjoy quilting demonstrations and activities for children and adults.
URL:https://billingsfarm.org/event/34th-annual-quilt-exhibition/2020-08-25/
CATEGORIES:Featured
ATTACH;FMTTYPE=:
END:VEVENT
BEGIN:VEVENT
DTSTART;TZID=America/New_York:20200825T100000
DTEND;TZID=America/New_York:20200825T160000
DTSTAMP:20260423T040247
CREATED:20171019T180157Z
LAST-MODIFIED:20200707T203517Z
UID:10000040-1598349600-1598371200@billingsfarm.org
SUMMARY:Time Travel Tuesdays - An Online Program
DESCRIPTION: Travel back in time online at Billings Farm at Home to learn about the history of farm and daily life at Billings Farm and in Vermont.
URL:https://billingsfarm.org/event/time-travel-tuesdays-2019/2020-08-25/
LOCATION:– An Online Program
CATEGORIES:Featured
ATTACH;FMTTYPE=:
END:VEVENT
BEGIN:VEVENT
DTSTART;TZID=America/New_York:20200826T100000
DTEND;TZID=America/New_York:20200826T160000
DTSTAMP:20260423T040247
CREATED:20171019T172342Z
LAST-MODIFIED:20200814T100436Z
UID:10000072-1598436000-1598457600@billingsfarm.org
SUMMARY:34th Annual Quilt Exhibition
DESCRIPTION:Explore the juried exhibition of locally-made quilts. Enjoy quilting demonstrations and activities for children and adults.
URL:https://billingsfarm.org/event/34th-annual-quilt-exhibition/2020-08-26/
CATEGORIES:Featured
ATTACH;FMTTYPE=:
END:VEVENT
BEGIN:VEVENT
DTSTART;TZID=America/New_York:20200827T100000
DTEND;TZID=America/New_York:20200827T160000
DTSTAMP:20260423T040247
CREATED:20171019T172342Z
LAST-MODIFIED:20200814T100436Z
UID:10000073-1598522400-1598544000@billingsfarm.org
SUMMARY:34th Annual Quilt Exhibition
DESCRIPTION:Explore the juried exhibition of locally-made quilts. Enjoy quilting demonstrations and activities for children and adults.
URL:https://billingsfarm.org/event/34th-annual-quilt-exhibition/2020-08-27/
CATEGORIES:Featured
ATTACH;FMTTYPE=:
END:VEVENT
BEGIN:VEVENT
DTSTART;TZID=America/New_York:20200827T100000
DTEND;TZID=America/New_York:20200827T160000
DTSTAMP:20260423T040247
CREATED:20200123T160845Z
LAST-MODIFIED:20200707T203652Z
UID:10000195-1598522400-1598544000@billingsfarm.org
SUMMARY:Thursday Threads - An Online Program
DESCRIPTION:Keep your hands and minds busy with weekly fiber crafts and facts about wool and other fabric fibers on Thursdays during the Quilt Exhibition\, beginning July 23 at Billings Farm at Home.
URL:https://billingsfarm.org/event/thursday-threads-2/2020-08-27/
ATTACH;FMTTYPE=:
END:VEVENT
BEGIN:VEVENT
DTSTART;TZID=America/New_York:20200828T100000
DTEND;TZID=America/New_York:20200828T160000
DTSTAMP:20260423T040247
CREATED:20171019T172342Z
LAST-MODIFIED:20200814T100436Z
UID:10000074-1598608800-1598630400@billingsfarm.org
SUMMARY:34th Annual Quilt Exhibition
DESCRIPTION:Explore the juried exhibition of locally-made quilts. Enjoy quilting demonstrations and activities for children and adults.
URL:https://billingsfarm.org/event/34th-annual-quilt-exhibition/2020-08-28/
CATEGORIES:Featured
ATTACH;FMTTYPE=:
END:VEVENT
BEGIN:VEVENT
DTSTART;TZID=America/New_York:20200828T100000
DTEND;TZID=America/New_York:20200828T160000
DTSTAMP:20260423T040247
CREATED:20200123T144813Z
LAST-MODIFIED:20200828T173435Z
UID:10000101-1598608800-1598630400@billingsfarm.org
SUMMARY:Pollination Celebration
DESCRIPTION:Enjoy the beauty of our flower and vegetable gardens and learn about the importance of native bees\, butterflies\, and other pollinators onsite at Billings Farm from August 28 through August 31 and online from August 31 through September 4. \nExplore the Sunflower House in full bloom! Play our “What’s Blooming!” game using a guide to the sunflowers provided by Billings Farm. Win Billings Farm cheese in the #VTSunflowerHouse Instagram Challenge! Take your best sunflower pics and tag @billingsfarm on Instagram – make sure to use #VTSunflowerHouse. \nNOTE: Masks must be worn at all times on the Billings Farm site\, including in the Sunflower House. If there are people in your Instagram Challenge photos\, they must be wearing masks for your photo to be considered. \nDaily activities include a family-friendly pollinator-themed Story Walk\, a self-guided Meditation Walk along the Ottauquechee River. “Bee” sure to stop by the Dairy Bar for our Pollinator Special: Billings Farm Homemade Honey Ice Cream! The Dairy Bar is open from 11:00-4:00. \nBring a picnic and enjoy the scenic pastures\, see our farm animals\, and learn about Vermont’s rural history. Find bee-centric products in our Gift Shop\, including a variety of honey from local producers\, and Billings Farm’s Pollinator Recipes\, also available online (Download Here). \nSpecial Happenings \nFriday\, Saturday & Monday\nPollinator craft: Make Wool Butterflies \nSaturday\nDo the Honeybee Dance: 11:00 & 1:00\nKids can buzz around to music\, led by Billings Farm staff \nBehind the Magic of the Sunflower House: 12:00 & 2:00\nMeet Ben Pauly\, creator of the magical Sunflower House\, and master gardener at the Woodstock Inn & Resort. Learn how he designed this amazing natural wonder and what you can plant to support pollinators. \nSunday\nDo the Honeybee Dance: 11:00 & 1:00\nKids can buzz around to music\, led by Billings Farm staff \nMeet a Beekeeper: 12:00 & 2:00\nLocal beekeeper Troy Hall\, of Hall Apiaries will speak about beekeeping and answer your questions about raising bees. \n 
URL:https://billingsfarm.org/event/pollination-celebration/2020-08-28/
CATEGORIES:Featured
ATTACH;FMTTYPE=:
END:VEVENT
BEGIN:VEVENT
DTSTART;TZID=America/New_York:20200829T100000
DTEND;TZID=America/New_York:20200829T160000
DTSTAMP:20260423T040247
CREATED:20171019T172342Z
LAST-MODIFIED:20200814T100436Z
UID:10000075-1598695200-1598716800@billingsfarm.org
SUMMARY:34th Annual Quilt Exhibition
DESCRIPTION:Explore the juried exhibition of locally-made quilts. Enjoy quilting demonstrations and activities for children and adults.
URL:https://billingsfarm.org/event/34th-annual-quilt-exhibition/2020-08-29/
CATEGORIES:Featured
ATTACH;FMTTYPE=:
END:VEVENT
BEGIN:VEVENT
DTSTART;TZID=America/New_York:20200829T100000
DTEND;TZID=America/New_York:20200829T160000
DTSTAMP:20260423T040247
CREATED:20200123T144813Z
LAST-MODIFIED:20200828T173435Z
UID:10000102-1598695200-1598716800@billingsfarm.org
SUMMARY:Pollination Celebration
DESCRIPTION:Enjoy the beauty of our flower and vegetable gardens and learn about the importance of native bees\, butterflies\, and other pollinators onsite at Billings Farm from August 28 through August 31 and online from August 31 through September 4. \nExplore the Sunflower House in full bloom! Play our “What’s Blooming!” game using a guide to the sunflowers provided by Billings Farm. Win Billings Farm cheese in the #VTSunflowerHouse Instagram Challenge! Take your best sunflower pics and tag @billingsfarm on Instagram – make sure to use #VTSunflowerHouse. \nNOTE: Masks must be worn at all times on the Billings Farm site\, including in the Sunflower House. If there are people in your Instagram Challenge photos\, they must be wearing masks for your photo to be considered. \nDaily activities include a family-friendly pollinator-themed Story Walk\, a self-guided Meditation Walk along the Ottauquechee River. “Bee” sure to stop by the Dairy Bar for our Pollinator Special: Billings Farm Homemade Honey Ice Cream! The Dairy Bar is open from 11:00-4:00. \nBring a picnic and enjoy the scenic pastures\, see our farm animals\, and learn about Vermont’s rural history. Find bee-centric products in our Gift Shop\, including a variety of honey from local producers\, and Billings Farm’s Pollinator Recipes\, also available online (Download Here). \nSpecial Happenings \nFriday\, Saturday & Monday\nPollinator craft: Make Wool Butterflies \nSaturday\nDo the Honeybee Dance: 11:00 & 1:00\nKids can buzz around to music\, led by Billings Farm staff \nBehind the Magic of the Sunflower House: 12:00 & 2:00\nMeet Ben Pauly\, creator of the magical Sunflower House\, and master gardener at the Woodstock Inn & Resort. Learn how he designed this amazing natural wonder and what you can plant to support pollinators. \nSunday\nDo the Honeybee Dance: 11:00 & 1:00\nKids can buzz around to music\, led by Billings Farm staff \nMeet a Beekeeper: 12:00 & 2:00\nLocal beekeeper Troy Hall\, of Hall Apiaries will speak about beekeeping and answer your questions about raising bees. \n 
URL:https://billingsfarm.org/event/pollination-celebration/2020-08-29/
CATEGORIES:Featured
ATTACH;FMTTYPE=:
END:VEVENT
BEGIN:VEVENT
DTSTART;TZID=America/New_York:20200830T100000
DTEND;TZID=America/New_York:20200830T160000
DTSTAMP:20260423T040247
CREATED:20171019T172342Z
LAST-MODIFIED:20200814T100436Z
UID:10000076-1598781600-1598803200@billingsfarm.org
SUMMARY:34th Annual Quilt Exhibition
DESCRIPTION:Explore the juried exhibition of locally-made quilts. Enjoy quilting demonstrations and activities for children and adults.
URL:https://billingsfarm.org/event/34th-annual-quilt-exhibition/2020-08-30/
CATEGORIES:Featured
ATTACH;FMTTYPE=:
END:VEVENT
BEGIN:VEVENT
DTSTART;TZID=America/New_York:20200830T100000
DTEND;TZID=America/New_York:20200830T160000
DTSTAMP:20260423T040247
CREATED:20200123T144813Z
LAST-MODIFIED:20200828T173435Z
UID:10000103-1598781600-1598803200@billingsfarm.org
SUMMARY:Pollination Celebration
DESCRIPTION:Enjoy the beauty of our flower and vegetable gardens and learn about the importance of native bees\, butterflies\, and other pollinators onsite at Billings Farm from August 28 through August 31 and online from August 31 through September 4. \nExplore the Sunflower House in full bloom! Play our “What’s Blooming!” game using a guide to the sunflowers provided by Billings Farm. Win Billings Farm cheese in the #VTSunflowerHouse Instagram Challenge! Take your best sunflower pics and tag @billingsfarm on Instagram – make sure to use #VTSunflowerHouse. \nNOTE: Masks must be worn at all times on the Billings Farm site\, including in the Sunflower House. If there are people in your Instagram Challenge photos\, they must be wearing masks for your photo to be considered. \nDaily activities include a family-friendly pollinator-themed Story Walk\, a self-guided Meditation Walk along the Ottauquechee River. “Bee” sure to stop by the Dairy Bar for our Pollinator Special: Billings Farm Homemade Honey Ice Cream! The Dairy Bar is open from 11:00-4:00. \nBring a picnic and enjoy the scenic pastures\, see our farm animals\, and learn about Vermont’s rural history. Find bee-centric products in our Gift Shop\, including a variety of honey from local producers\, and Billings Farm’s Pollinator Recipes\, also available online (Download Here). \nSpecial Happenings \nFriday\, Saturday & Monday\nPollinator craft: Make Wool Butterflies \nSaturday\nDo the Honeybee Dance: 11:00 & 1:00\nKids can buzz around to music\, led by Billings Farm staff \nBehind the Magic of the Sunflower House: 12:00 & 2:00\nMeet Ben Pauly\, creator of the magical Sunflower House\, and master gardener at the Woodstock Inn & Resort. Learn how he designed this amazing natural wonder and what you can plant to support pollinators. \nSunday\nDo the Honeybee Dance: 11:00 & 1:00\nKids can buzz around to music\, led by Billings Farm staff \nMeet a Beekeeper: 12:00 & 2:00\nLocal beekeeper Troy Hall\, of Hall Apiaries will speak about beekeeping and answer your questions about raising bees. \n 
URL:https://billingsfarm.org/event/pollination-celebration/2020-08-30/
CATEGORIES:Featured
ATTACH;FMTTYPE=:
END:VEVENT
BEGIN:VEVENT
DTSTART;VALUE=DATE:20200831
DTEND;VALUE=DATE:20200905
DTSTAMP:20260423T040247
CREATED:20200701T214901Z
LAST-MODIFIED:20200701T214901Z
UID:10002487-1598832000-1599263999@billingsfarm.org
SUMMARY:Pollination Celebration Online!
DESCRIPTION:Visit Billings Farm at Home online  to learn how to make a simple bee bath for your garden. Find out how Billings Farm became a certified “bee-friendly” farm\, and download pollinator information and activities on our website.
URL:https://billingsfarm.org/event/pollination-celebration-online-2/
CATEGORIES:Featured
ATTACH;FMTTYPE=:
END:VEVENT
BEGIN:VEVENT
DTSTART;TZID=America/New_York:20200831T100000
DTEND;TZID=America/New_York:20200831T160000
DTSTAMP:20260423T040247
CREATED:20171019T172342Z
LAST-MODIFIED:20200814T100436Z
UID:10000077-1598868000-1598889600@billingsfarm.org
SUMMARY:34th Annual Quilt Exhibition
DESCRIPTION:Explore the juried exhibition of locally-made quilts. Enjoy quilting demonstrations and activities for children and adults.
URL:https://billingsfarm.org/event/34th-annual-quilt-exhibition/2020-08-31/
CATEGORIES:Featured
ATTACH;FMTTYPE=:
END:VEVENT
BEGIN:VEVENT
DTSTART;TZID=America/New_York:20200831T100000
DTEND;TZID=America/New_York:20200831T160000
DTSTAMP:20260423T040247
CREATED:20200123T144813Z
LAST-MODIFIED:20200828T173435Z
UID:10000104-1598868000-1598889600@billingsfarm.org
SUMMARY:Pollination Celebration
DESCRIPTION:Enjoy the beauty of our flower and vegetable gardens and learn about the importance of native bees\, butterflies\, and other pollinators onsite at Billings Farm from August 28 through August 31 and online from August 31 through September 4. \nExplore the Sunflower House in full bloom! Play our “What’s Blooming!” game using a guide to the sunflowers provided by Billings Farm. Win Billings Farm cheese in the #VTSunflowerHouse Instagram Challenge! Take your best sunflower pics and tag @billingsfarm on Instagram – make sure to use #VTSunflowerHouse. \nNOTE: Masks must be worn at all times on the Billings Farm site\, including in the Sunflower House. If there are people in your Instagram Challenge photos\, they must be wearing masks for your photo to be considered. \nDaily activities include a family-friendly pollinator-themed Story Walk\, a self-guided Meditation Walk along the Ottauquechee River. “Bee” sure to stop by the Dairy Bar for our Pollinator Special: Billings Farm Homemade Honey Ice Cream! The Dairy Bar is open from 11:00-4:00. \nBring a picnic and enjoy the scenic pastures\, see our farm animals\, and learn about Vermont’s rural history. Find bee-centric products in our Gift Shop\, including a variety of honey from local producers\, and Billings Farm’s Pollinator Recipes\, also available online (Download Here). \nSpecial Happenings \nFriday\, Saturday & Monday\nPollinator craft: Make Wool Butterflies \nSaturday\nDo the Honeybee Dance: 11:00 & 1:00\nKids can buzz around to music\, led by Billings Farm staff \nBehind the Magic of the Sunflower House: 12:00 & 2:00\nMeet Ben Pauly\, creator of the magical Sunflower House\, and master gardener at the Woodstock Inn & Resort. Learn how he designed this amazing natural wonder and what you can plant to support pollinators. \nSunday\nDo the Honeybee Dance: 11:00 & 1:00\nKids can buzz around to music\, led by Billings Farm staff \nMeet a Beekeeper: 12:00 & 2:00\nLocal beekeeper Troy Hall\, of Hall Apiaries will speak about beekeeping and answer your questions about raising bees. \n 
URL:https://billingsfarm.org/event/pollination-celebration/2020-08-31/
CATEGORIES:Featured
ATTACH;FMTTYPE=:
END:VEVENT
BEGIN:VEVENT
DTSTART;TZID=America/New_York:20200901T100000
DTEND;TZID=America/New_York:20200901T160000
DTSTAMP:20260423T040247
CREATED:20171019T172342Z
LAST-MODIFIED:20200814T100436Z
UID:10000078-1598954400-1598976000@billingsfarm.org
SUMMARY:34th Annual Quilt Exhibition
DESCRIPTION:Explore the juried exhibition of locally-made quilts. Enjoy quilting demonstrations and activities for children and adults.
URL:https://billingsfarm.org/event/34th-annual-quilt-exhibition/2020-09-01/
CATEGORIES:Featured
ATTACH;FMTTYPE=:
END:VEVENT
BEGIN:VEVENT
DTSTART;TZID=America/New_York:20200902T100000
DTEND;TZID=America/New_York:20200902T160000
DTSTAMP:20260423T040247
CREATED:20171019T172342Z
LAST-MODIFIED:20200814T100436Z
UID:10000079-1599040800-1599062400@billingsfarm.org
SUMMARY:34th Annual Quilt Exhibition
DESCRIPTION:Explore the juried exhibition of locally-made quilts. Enjoy quilting demonstrations and activities for children and adults.
URL:https://billingsfarm.org/event/34th-annual-quilt-exhibition/2020-09-02/
CATEGORIES:Featured
ATTACH;FMTTYPE=:
END:VEVENT
BEGIN:VEVENT
DTSTART;TZID=America/New_York:20200903T100000
DTEND;TZID=America/New_York:20200903T160000
DTSTAMP:20260423T040247
CREATED:20171019T172342Z
LAST-MODIFIED:20200814T100436Z
UID:10000080-1599127200-1599148800@billingsfarm.org
SUMMARY:34th Annual Quilt Exhibition
DESCRIPTION:Explore the juried exhibition of locally-made quilts. Enjoy quilting demonstrations and activities for children and adults.
URL:https://billingsfarm.org/event/34th-annual-quilt-exhibition/2020-09-03/
CATEGORIES:Featured
ATTACH;FMTTYPE=:
END:VEVENT
BEGIN:VEVENT
DTSTART;TZID=America/New_York:20200904T100000
DTEND;TZID=America/New_York:20200904T160000
DTSTAMP:20260423T040247
CREATED:20171019T172342Z
LAST-MODIFIED:20200814T100436Z
UID:10000081-1599213600-1599235200@billingsfarm.org
SUMMARY:34th Annual Quilt Exhibition
DESCRIPTION:Explore the juried exhibition of locally-made quilts. Enjoy quilting demonstrations and activities for children and adults.
URL:https://billingsfarm.org/event/34th-annual-quilt-exhibition/2020-09-04/
CATEGORIES:Featured
ATTACH;FMTTYPE=:
END:VEVENT
BEGIN:VEVENT
DTSTART;TZID=America/New_York:20200905T100000
DTEND;TZID=America/New_York:20200905T160000
DTSTAMP:20260423T040247
CREATED:20171019T172342Z
LAST-MODIFIED:20200814T100436Z
UID:10000082-1599300000-1599321600@billingsfarm.org
SUMMARY:34th Annual Quilt Exhibition
DESCRIPTION:Explore the juried exhibition of locally-made quilts. Enjoy quilting demonstrations and activities for children and adults.
URL:https://billingsfarm.org/event/34th-annual-quilt-exhibition/2020-09-05/
CATEGORIES:Featured
ATTACH;FMTTYPE=:
END:VEVENT
BEGIN:VEVENT
DTSTART;TZID=America/New_York:20200906T100000
DTEND;TZID=America/New_York:20200906T160000
DTSTAMP:20260423T040247
CREATED:20171019T172342Z
LAST-MODIFIED:20200814T100436Z
UID:10000083-1599386400-1599408000@billingsfarm.org
SUMMARY:34th Annual Quilt Exhibition
DESCRIPTION:Explore the juried exhibition of locally-made quilts. Enjoy quilting demonstrations and activities for children and adults.
URL:https://billingsfarm.org/event/34th-annual-quilt-exhibition/2020-09-06/
CATEGORIES:Featured
ATTACH;FMTTYPE=:
END:VEVENT
BEGIN:VEVENT
DTSTART;TZID=America/New_York:20200907T100000
DTEND;TZID=America/New_York:20200907T160000
DTSTAMP:20260423T040247
CREATED:20171019T172342Z
LAST-MODIFIED:20210319T183525Z
UID:10000232-1599472800-1599494400@billingsfarm.org
SUMMARY:34th Annual Quilt Exhibition
DESCRIPTION:Explore the juried exhibition of locally-made quilts. Enjoy quilting demonstrations and activities for children and adults.
URL:https://billingsfarm.org/event/34th-annual-quilt-exhibition-2020-09-07/
CATEGORIES:Featured
ATTACH;FMTTYPE=:
END:VEVENT
BEGIN:VEVENT
DTSTART;TZID=America/New_York:20200919T100000
DTEND;TZID=America/New_York:20200919T160000
DTSTAMP:20260423T040247
CREATED:20200805T173155Z
LAST-MODIFIED:20201008T220510Z
UID:10002489-1600509600-1600531200@billingsfarm.org
SUMMARY:Harvest at the Farm
DESCRIPTION:Learn about 19th century harvest activities on the farm! Harvest-themed activities\, demonstrations\, and crafts offered each weekend. \nSept. 19-20: Learn how to use your garden herbs and make your own tea bags from the Farm’s dried herbs. \nSept. 26-27: All about apples! Old-fashioned peeler demonstration & farm recipes. Plus take home seeds from our Sunflower House! \nOct. 3-4: Cider pressing demonstrations and make your own leaf art. \nOct. 10-11: Putting food by – demonstrations of historic methods of preserving food and make your own leaf art. \nOct. 17-18: Corn husking and shelling demonstrations\, plus learn needle-free finger knitting. \nOct. 24-25: Threshing grain demonstrations (Saturday only) and pumpkin bowling! \nOct. 31-Nov 1: Learn about pumpkins and squash and take home recipes\, plus pumpkin bowling! \nEvery week\, find all 10 pumpkins hidden in our Farm Life Exhibit\, taste the flavors of the season at our Dairy Bar\, and take a Story Walk around the scenic pastures. \nFind more information visit  on our daily schedules page. \n 
URL:https://billingsfarm.org/event/fall-weekends-at-the-farm/2020-09-19/
END:VEVENT
BEGIN:VEVENT
DTSTART;TZID=America/New_York:20200920T100000
DTEND;TZID=America/New_York:20200920T160000
DTSTAMP:20260423T040247
CREATED:20200805T173155Z
LAST-MODIFIED:20201008T220510Z
UID:10002490-1600596000-1600617600@billingsfarm.org
SUMMARY:Harvest at the Farm
DESCRIPTION:Learn about 19th century harvest activities on the farm! Harvest-themed activities\, demonstrations\, and crafts offered each weekend. \nSept. 19-20: Learn how to use your garden herbs and make your own tea bags from the Farm’s dried herbs. \nSept. 26-27: All about apples! Old-fashioned peeler demonstration & farm recipes. Plus take home seeds from our Sunflower House! \nOct. 3-4: Cider pressing demonstrations and make your own leaf art. \nOct. 10-11: Putting food by – demonstrations of historic methods of preserving food and make your own leaf art. \nOct. 17-18: Corn husking and shelling demonstrations\, plus learn needle-free finger knitting. \nOct. 24-25: Threshing grain demonstrations (Saturday only) and pumpkin bowling! \nOct. 31-Nov 1: Learn about pumpkins and squash and take home recipes\, plus pumpkin bowling! \nEvery week\, find all 10 pumpkins hidden in our Farm Life Exhibit\, taste the flavors of the season at our Dairy Bar\, and take a Story Walk around the scenic pastures. \nFind more information visit  on our daily schedules page. \n 
URL:https://billingsfarm.org/event/fall-weekends-at-the-farm/2020-09-20/
END:VEVENT
END:VCALENDAR