BEGIN:VCALENDAR
VERSION:2.0
PRODID:-//Billings Farm - ECPv6.15.15//NONSGML v1.0//EN
CALSCALE:GREGORIAN
METHOD:PUBLISH
X-WR-CALNAME:Billings Farm
X-ORIGINAL-URL:https://billingsfarm.org
X-WR-CALDESC:Events for Billings Farm
REFRESH-INTERVAL;VALUE=DURATION:PT1H
X-Robots-Tag:noindex
X-PUBLISHED-TTL:PT1H
BEGIN:VTIMEZONE
TZID:America/New_York
BEGIN:DAYLIGHT
TZOFFSETFROM:-0500
TZOFFSETTO:-0400
TZNAME:EDT
DTSTART:20210314T070000
END:DAYLIGHT
BEGIN:STANDARD
TZOFFSETFROM:-0400
TZOFFSETTO:-0500
TZNAME:EST
DTSTART:20211107T060000
END:STANDARD
BEGIN:DAYLIGHT
TZOFFSETFROM:-0500
TZOFFSETTO:-0400
TZNAME:EDT
DTSTART:20220313T070000
END:DAYLIGHT
BEGIN:STANDARD
TZOFFSETFROM:-0400
TZOFFSETTO:-0500
TZNAME:EST
DTSTART:20221106T060000
END:STANDARD
BEGIN:DAYLIGHT
TZOFFSETFROM:-0500
TZOFFSETTO:-0400
TZNAME:EDT
DTSTART:20230312T070000
END:DAYLIGHT
BEGIN:STANDARD
TZOFFSETFROM:-0400
TZOFFSETTO:-0500
TZNAME:EST
DTSTART:20231105T060000
END:STANDARD
END:VTIMEZONE
BEGIN:VEVENT
DTSTART;TZID=America/New_York:20220924T100000
DTEND;TZID=America/New_York:20220924T170000
DTSTAMP:20260419T221728
CREATED:20220920T141908Z
LAST-MODIFIED:20220920T141909Z
UID:10000465-1664013600-1664038800@billingsfarm.org
SUMMARY:Today's Schedule
DESCRIPTION:
URL:https://billingsfarm.org/event/todays-schedule-36/
LOCATION:Billings Farm and Museum\, 69 Old River Rd\, Woodstock\, VT\, 05091\, United States
CATEGORIES:Featured
ATTACH;FMTTYPE=image/jpeg:https://billingsfarm.org/wp/wp-content/uploads/2022/09/9-24.jpg
END:VEVENT
BEGIN:VEVENT
DTSTART;TZID=America/New_York:20220925T100000
DTEND;TZID=America/New_York:20220925T170000
DTSTAMP:20260419T221728
CREATED:20220920T231133Z
LAST-MODIFIED:20220920T231134Z
UID:10000466-1664100000-1664125200@billingsfarm.org
SUMMARY:Today's Schedule
DESCRIPTION:
URL:https://billingsfarm.org/event/todays-schedule-37/
LOCATION:Billings Farm and Museum\, 69 Old River Rd\, Woodstock\, VT\, 05091\, United States
CATEGORIES:Featured
ATTACH;FMTTYPE=image/jpeg:https://billingsfarm.org/wp/wp-content/uploads/2022/09/9-25.jpg
END:VEVENT
BEGIN:VEVENT
DTSTART;TZID=America/New_York:20220926T100000
DTEND;TZID=America/New_York:20220926T170000
DTSTAMP:20260419T221728
CREATED:20220920T231211Z
LAST-MODIFIED:20220920T231212Z
UID:10000467-1664186400-1664211600@billingsfarm.org
SUMMARY:Today's Schedule
DESCRIPTION:
URL:https://billingsfarm.org/event/todays-schedule-38/
LOCATION:Billings Farm and Museum\, 69 Old River Rd\, Woodstock\, VT\, 05091\, United States
CATEGORIES:Featured
ATTACH;FMTTYPE=image/jpeg:https://billingsfarm.org/wp/wp-content/uploads/2022/09/9-26-to-28.jpg
END:VEVENT
BEGIN:VEVENT
DTSTART;TZID=America/New_York:20220927T100000
DTEND;TZID=America/New_York:20220927T170000
DTSTAMP:20260419T221728
CREATED:20220920T231245Z
LAST-MODIFIED:20220920T231245Z
UID:10000468-1664272800-1664298000@billingsfarm.org
SUMMARY:Today's Schedule
DESCRIPTION:
URL:https://billingsfarm.org/event/todays-schedule-39/
LOCATION:Billings Farm and Museum\, 69 Old River Rd\, Woodstock\, VT\, 05091\, United States
CATEGORIES:Featured
ATTACH;FMTTYPE=image/jpeg:https://billingsfarm.org/wp/wp-content/uploads/2022/09/9-26-to-28.jpg
END:VEVENT
BEGIN:VEVENT
DTSTART;TZID=America/New_York:20220928T100000
DTEND;TZID=America/New_York:20220928T170000
DTSTAMP:20260419T221728
CREATED:20220920T231323Z
LAST-MODIFIED:20220920T231324Z
UID:10000469-1664359200-1664384400@billingsfarm.org
SUMMARY:Today's Schedule
DESCRIPTION:
URL:https://billingsfarm.org/event/todays-schedule-40/
LOCATION:Billings Farm and Museum\, 69 Old River Rd\, Woodstock\, VT\, 05091\, United States
CATEGORIES:Featured
ATTACH;FMTTYPE=image/jpeg:https://billingsfarm.org/wp/wp-content/uploads/2022/09/9-26-to-28.jpg
END:VEVENT
BEGIN:VEVENT
DTSTART;TZID=America/New_York:20220929T100000
DTEND;TZID=America/New_York:20220929T170000
DTSTAMP:20260419T221728
CREATED:20220920T231406Z
LAST-MODIFIED:20220920T231406Z
UID:10000470-1664445600-1664470800@billingsfarm.org
SUMMARY:Today's Schedule
DESCRIPTION:
URL:https://billingsfarm.org/event/todays-schedule-41/
LOCATION:Billings Farm and Museum\, 69 Old River Rd\, Woodstock\, VT\, 05091\, United States
CATEGORIES:Featured
ATTACH;FMTTYPE=image/jpeg:https://billingsfarm.org/wp/wp-content/uploads/2022/09/9-29-to-30.jpg
END:VEVENT
BEGIN:VEVENT
DTSTART;TZID=America/New_York:20220930T100000
DTEND;TZID=America/New_York:20220930T170000
DTSTAMP:20260419T221729
CREATED:20220920T231447Z
LAST-MODIFIED:20220920T231448Z
UID:10000471-1664532000-1664557200@billingsfarm.org
SUMMARY:Today's Schedule
DESCRIPTION:
URL:https://billingsfarm.org/event/todays-schedule-42/
LOCATION:Billings Farm and Museum\, 69 Old River Rd\, Woodstock\, VT\, 05091\, United States
CATEGORIES:Featured
ATTACH;FMTTYPE=image/jpeg:https://billingsfarm.org/wp/wp-content/uploads/2022/09/9-29-to-30.jpg
END:VEVENT
BEGIN:VEVENT
DTSTART;TZID=America/New_York:20221001T100000
DTEND;TZID=America/New_York:20221001T170000
DTSTAMP:20260419T221729
CREATED:20220926T141831Z
LAST-MODIFIED:20220926T141832Z
UID:10000493-1664618400-1664643600@billingsfarm.org
SUMMARY:Today's Schedule
DESCRIPTION:
URL:https://billingsfarm.org/event/todays-schedule-43/
LOCATION:Billings Farm and Museum\, 69 Old River Rd\, Woodstock\, VT\, 05091\, United States
CATEGORIES:Featured
ATTACH;FMTTYPE=image/jpeg:https://billingsfarm.org/wp/wp-content/uploads/2022/09/10-1-to-2.jpg
END:VEVENT
BEGIN:VEVENT
DTSTART;TZID=America/New_York:20221002T100000
DTEND;TZID=America/New_York:20221002T170000
DTSTAMP:20260419T221729
CREATED:20220926T141904Z
LAST-MODIFIED:20220926T141905Z
UID:10000494-1664704800-1664730000@billingsfarm.org
SUMMARY:Today's Schedule
DESCRIPTION:
URL:https://billingsfarm.org/event/todays-schedule-44/
LOCATION:Billings Farm and Museum\, 69 Old River Rd\, Woodstock\, VT\, 05091\, United States
CATEGORIES:Featured
ATTACH;FMTTYPE=image/jpeg:https://billingsfarm.org/wp/wp-content/uploads/2022/09/10-1-to-2.jpg
END:VEVENT
BEGIN:VEVENT
DTSTART;TZID=America/New_York:20221003T100000
DTEND;TZID=America/New_York:20221003T170000
DTSTAMP:20260419T221729
CREATED:20220926T141935Z
LAST-MODIFIED:20220926T141935Z
UID:10000495-1664791200-1664816400@billingsfarm.org
SUMMARY:Today's Schedule
DESCRIPTION:
URL:https://billingsfarm.org/event/todays-schedule-45/
LOCATION:Billings Farm and Museum\, 69 Old River Rd\, Woodstock\, VT\, 05091\, United States
CATEGORIES:Featured
ATTACH;FMTTYPE=image/jpeg:https://billingsfarm.org/wp/wp-content/uploads/2022/09/10-3-to-7.jpg
END:VEVENT
BEGIN:VEVENT
DTSTART;TZID=America/New_York:20221004T100000
DTEND;TZID=America/New_York:20221004T170000
DTSTAMP:20260419T221729
CREATED:20220926T142010Z
LAST-MODIFIED:20220926T142010Z
UID:10000496-1664877600-1664902800@billingsfarm.org
SUMMARY:Today's Schedule
DESCRIPTION:
URL:https://billingsfarm.org/event/todays-schedule-46/
LOCATION:Billings Farm and Museum\, 69 Old River Rd\, Woodstock\, VT\, 05091\, United States
CATEGORIES:Featured
ATTACH;FMTTYPE=image/jpeg:https://billingsfarm.org/wp/wp-content/uploads/2022/09/10-3-to-7.jpg
END:VEVENT
BEGIN:VEVENT
DTSTART;TZID=America/New_York:20221005T100000
DTEND;TZID=America/New_York:20221005T170000
DTSTAMP:20260419T221729
CREATED:20220926T142038Z
LAST-MODIFIED:20220926T142039Z
UID:10000497-1664964000-1664989200@billingsfarm.org
SUMMARY:Today's Schedule
DESCRIPTION:
URL:https://billingsfarm.org/event/todays-schedule-47/
LOCATION:Billings Farm and Museum\, 69 Old River Rd\, Woodstock\, VT\, 05091\, United States
CATEGORIES:Featured
ATTACH;FMTTYPE=image/jpeg:https://billingsfarm.org/wp/wp-content/uploads/2022/09/10-3-to-7.jpg
END:VEVENT
BEGIN:VEVENT
DTSTART;TZID=America/New_York:20221006T100000
DTEND;TZID=America/New_York:20221006T170000
DTSTAMP:20260419T221729
CREATED:20220926T142108Z
LAST-MODIFIED:20220926T142109Z
UID:10000498-1665050400-1665075600@billingsfarm.org
SUMMARY:Today's Schedule
DESCRIPTION:
URL:https://billingsfarm.org/event/todays-schedule-48/
LOCATION:Billings Farm and Museum\, 69 Old River Rd\, Woodstock\, VT\, 05091\, United States
CATEGORIES:Featured
ATTACH;FMTTYPE=image/jpeg:https://billingsfarm.org/wp/wp-content/uploads/2022/09/10-3-to-7.jpg
END:VEVENT
BEGIN:VEVENT
DTSTART;TZID=America/New_York:20221007T100000
DTEND;TZID=America/New_York:20221007T170000
DTSTAMP:20260419T221729
CREATED:20220926T142136Z
LAST-MODIFIED:20220926T142137Z
UID:10000499-1665136800-1665162000@billingsfarm.org
SUMMARY:Today's Schedule
DESCRIPTION:
URL:https://billingsfarm.org/event/todays-schedule-49/
LOCATION:Billings Farm and Museum\, 69 Old River Rd\, Woodstock\, VT\, 05091\, United States
CATEGORIES:Featured
ATTACH;FMTTYPE=image/jpeg:https://billingsfarm.org/wp/wp-content/uploads/2022/09/10-3-to-7.jpg
END:VEVENT
BEGIN:VEVENT
DTSTART;TZID=America/New_York:20221008T100000
DTEND;TZID=America/New_York:20221008T170000
DTSTAMP:20260419T221729
CREATED:20221003T185606Z
LAST-MODIFIED:20221003T185607Z
UID:10000457-1665223200-1665248400@billingsfarm.org
SUMMARY:Today's Schedule
DESCRIPTION:
URL:https://billingsfarm.org/event/todays-schedule-50/
LOCATION:Billings Farm and Museum\, 69 Old River Rd\, Woodstock\, VT\, 05091\, United States
CATEGORIES:Featured
ATTACH;FMTTYPE=image/jpeg:https://billingsfarm.org/wp/wp-content/uploads/2022/10/10-8.jpg
END:VEVENT
BEGIN:VEVENT
DTSTART;TZID=America/New_York:20221009T100000
DTEND;TZID=America/New_York:20221009T170000
DTSTAMP:20260419T221729
CREATED:20221003T185636Z
LAST-MODIFIED:20221003T185637Z
UID:10000500-1665309600-1665334800@billingsfarm.org
SUMMARY:Today's Schedule
DESCRIPTION:
URL:https://billingsfarm.org/event/todays-schedule-51/
LOCATION:Billings Farm and Museum\, 69 Old River Rd\, Woodstock\, VT\, 05091\, United States
CATEGORIES:Featured
ATTACH;FMTTYPE=image/jpeg:https://billingsfarm.org/wp/wp-content/uploads/2022/10/10-9.jpg
END:VEVENT
BEGIN:VEVENT
DTSTART;TZID=America/New_York:20221010T100000
DTEND;TZID=America/New_York:20221010T170000
DTSTAMP:20260419T221729
CREATED:20221003T185700Z
LAST-MODIFIED:20221003T185701Z
UID:10000501-1665396000-1665421200@billingsfarm.org
SUMMARY:Today's Schedule
DESCRIPTION:
URL:https://billingsfarm.org/event/todays-schedule-52/
LOCATION:Billings Farm and Museum\, 69 Old River Rd\, Woodstock\, VT\, 05091\, United States
CATEGORIES:Featured
ATTACH;FMTTYPE=image/jpeg:https://billingsfarm.org/wp/wp-content/uploads/2022/10/10-10-to-14.jpg
END:VEVENT
BEGIN:VEVENT
DTSTART;TZID=America/New_York:20221011T100000
DTEND;TZID=America/New_York:20221011T170000
DTSTAMP:20260419T221729
CREATED:20221003T185725Z
LAST-MODIFIED:20221003T185726Z
UID:10000502-1665482400-1665507600@billingsfarm.org
SUMMARY:Today's Schedule
DESCRIPTION:
URL:https://billingsfarm.org/event/todays-schedule-53/
LOCATION:Billings Farm and Museum\, 69 Old River Rd\, Woodstock\, VT\, 05091\, United States
CATEGORIES:Featured
ATTACH;FMTTYPE=image/jpeg:https://billingsfarm.org/wp/wp-content/uploads/2022/10/10-10-to-14.jpg
END:VEVENT
BEGIN:VEVENT
DTSTART;TZID=America/New_York:20221012T100000
DTEND;TZID=America/New_York:20221012T170000
DTSTAMP:20260419T221729
CREATED:20221003T185747Z
LAST-MODIFIED:20221003T185748Z
UID:10000503-1665568800-1665594000@billingsfarm.org
SUMMARY:Today's Schedule
DESCRIPTION:
URL:https://billingsfarm.org/event/todays-schedule-54/
LOCATION:Billings Farm and Museum\, 69 Old River Rd\, Woodstock\, VT\, 05091\, United States
CATEGORIES:Featured
ATTACH;FMTTYPE=image/jpeg:https://billingsfarm.org/wp/wp-content/uploads/2022/10/10-10-to-14.jpg
END:VEVENT
BEGIN:VEVENT
DTSTART;TZID=America/New_York:20221013T100000
DTEND;TZID=America/New_York:20221013T170000
DTSTAMP:20260419T221729
CREATED:20221003T185812Z
LAST-MODIFIED:20221003T185813Z
UID:10000504-1665655200-1665680400@billingsfarm.org
SUMMARY:Today's Schedule
DESCRIPTION:
URL:https://billingsfarm.org/event/todays-schedule-55/
LOCATION:Billings Farm and Museum\, 69 Old River Rd\, Woodstock\, VT\, 05091\, United States
CATEGORIES:Featured
ATTACH;FMTTYPE=image/jpeg:https://billingsfarm.org/wp/wp-content/uploads/2022/10/10-10-to-14.jpg
END:VEVENT
BEGIN:VEVENT
DTSTART;TZID=America/New_York:20221014T100000
DTEND;TZID=America/New_York:20221014T170000
DTSTAMP:20260419T221729
CREATED:20221003T185836Z
LAST-MODIFIED:20221003T185837Z
UID:10000505-1665741600-1665766800@billingsfarm.org
SUMMARY:Today's Schedule
DESCRIPTION:
URL:https://billingsfarm.org/event/todays-schedule-56/
LOCATION:Billings Farm and Museum\, 69 Old River Rd\, Woodstock\, VT\, 05091\, United States
CATEGORIES:Featured
ATTACH;FMTTYPE=image/jpeg:https://billingsfarm.org/wp/wp-content/uploads/2022/10/10-10-to-14.jpg
END:VEVENT
BEGIN:VEVENT
DTSTART;TZID=America/New_York:20221015T100000
DTEND;TZID=America/New_York:20221015T113000
DTSTAMP:20260419T221729
CREATED:20220414T212416Z
LAST-MODIFIED:20220930T135928Z
UID:10000278-1665828000-1665833400@billingsfarm.org
SUMMARY:Canning and Preserving your Garden Bounty
DESCRIPTION:Price:  $15 person /$10 member\nPresenter: Emery Gray\nLocation: On site at Billings Farm & Museum  \nRegister Now! \nHave you ever wanted to capture the freshness and beauty of the harvest season and have it year-round? Well\, now you can with the Billings Backyard Series September Workshop. Chef Emery Gray will take you through the process of making applesauce to preserve using the water bath method of canning\, and share different methods of safely preserving food through drying and freezing. \nA Q&A period with the presenter may continue for up to 30 minutes past the scheduled end time. \nCancellation Policy: There are often waitlists for our workshops\, so please let us know in advance if you are unable to attend. Refunds are available up to 14 days before the class is held. There are no refunds within 14 days. \nSafety Policy: For the continued safety of our staff and guests\, wearing a face mask is encouraged and very much appreciated in our indoor spaces. If you have symptoms of a respiratory illness please wear a mask or consider visiting another time.  \nBillings Backyard is a series of workshops designed to teach sustainable living skills to adult participants and is underwritten by a generous grant from the SpringRiver Private Foundation Trust. Each workshop includes hands-on demonstrations and concrete steps for incorporating these skills into everyday life. Find more Billings Backyard Series workshops  \nThis workshop will be held at Billings Farm & Museum.  \n\nAbout Emery Gray: \n\n\n\nEmery Gray\, Farm to Table Manager at Billings Farm & Museum and former Pastry Chef de Partie at the Woodstock Inn and Resort\, had a passion for food at a very young age. Seeing the way that people connected through the growing\, sharing and cooking of food\, inspired her to make a career in the kitchen. She attended The Culinary Institute of America in Hyde Park\, NY\, earning her Associates Degree in Baking and Pastry Arts and her Bachelor’s in Business Management. Traveling the country and the world has translated into a deep appreciation for sustainability of local food systems\, and all types of outdoor pursuits year-round.
URL:https://billingsfarm.org/event/canning-and-preserving-your-garden-bounty/
LOCATION:Billings Farm and Museum\, 69 Old River Rd\, Woodstock\, VT\, 05091\, United States
CATEGORIES:Featured
ATTACH;FMTTYPE=image/jpeg:https://billingsfarm.org/wp/wp-content/uploads/2022/05/canning-food-copy.jpg
END:VEVENT
BEGIN:VEVENT
DTSTART;TZID=America/New_York:20221015T100000
DTEND;TZID=America/New_York:20221015T170000
DTSTAMP:20260419T221729
CREATED:20221014T141230Z
LAST-MODIFIED:20221014T141230Z
UID:10000506-1665828000-1665853200@billingsfarm.org
SUMMARY:Today's Schedule
DESCRIPTION:
URL:https://billingsfarm.org/event/todays-schedule-57/
LOCATION:Billings Farm and Museum\, 69 Old River Rd\, Woodstock\, VT\, 05091\, United States
CATEGORIES:Featured
ATTACH;FMTTYPE=image/jpeg:https://billingsfarm.org/wp/wp-content/uploads/2022/10/10-15-to-16.jpg
END:VEVENT
BEGIN:VEVENT
DTSTART;TZID=America/New_York:20221016T100000
DTEND;TZID=America/New_York:20221016T170000
DTSTAMP:20260419T221729
CREATED:20221014T141302Z
LAST-MODIFIED:20221014T141303Z
UID:10000507-1665914400-1665939600@billingsfarm.org
SUMMARY:Today's Schedule
DESCRIPTION:
URL:https://billingsfarm.org/event/todays-schedule-58/
LOCATION:Billings Farm and Museum\, 69 Old River Rd\, Woodstock\, VT\, 05091\, United States
CATEGORIES:Featured
ATTACH;FMTTYPE=image/jpeg:https://billingsfarm.org/wp/wp-content/uploads/2022/10/10-15-to-16.jpg
END:VEVENT
BEGIN:VEVENT
DTSTART;TZID=America/New_York:20221017T100000
DTEND;TZID=America/New_York:20221017T170000
DTSTAMP:20260419T221729
CREATED:20221014T141332Z
LAST-MODIFIED:20221014T141333Z
UID:10000508-1666000800-1666026000@billingsfarm.org
SUMMARY:Today's Schedule
DESCRIPTION:
URL:https://billingsfarm.org/event/todays-schedule-59/
LOCATION:Billings Farm and Museum\, 69 Old River Rd\, Woodstock\, VT\, 05091\, United States
CATEGORIES:Featured
ATTACH;FMTTYPE=image/jpeg:https://billingsfarm.org/wp/wp-content/uploads/2022/10/10-17-to-21.jpg
END:VEVENT
BEGIN:VEVENT
DTSTART;TZID=America/New_York:20221018T100000
DTEND;TZID=America/New_York:20221018T170000
DTSTAMP:20260419T221729
CREATED:20221014T141359Z
LAST-MODIFIED:20221014T141359Z
UID:10000509-1666087200-1666112400@billingsfarm.org
SUMMARY:Today's Schedule
DESCRIPTION:
URL:https://billingsfarm.org/event/todays-schedule-60/
LOCATION:Billings Farm and Museum\, 69 Old River Rd\, Woodstock\, VT\, 05091\, United States
CATEGORIES:Featured
ATTACH;FMTTYPE=image/jpeg:https://billingsfarm.org/wp/wp-content/uploads/2022/10/10-17-to-21.jpg
END:VEVENT
BEGIN:VEVENT
DTSTART;TZID=America/New_York:20221019T100000
DTEND;TZID=America/New_York:20221019T170000
DTSTAMP:20260419T221729
CREATED:20221014T141422Z
LAST-MODIFIED:20221014T141423Z
UID:10000510-1666173600-1666198800@billingsfarm.org
SUMMARY:Today's Schedule
DESCRIPTION:
URL:https://billingsfarm.org/event/todays-schedule-61/
LOCATION:Billings Farm and Museum\, 69 Old River Rd\, Woodstock\, VT\, 05091\, United States
CATEGORIES:Featured
ATTACH;FMTTYPE=image/jpeg:https://billingsfarm.org/wp/wp-content/uploads/2022/10/10-17-to-21.jpg
END:VEVENT
BEGIN:VEVENT
DTSTART;TZID=America/New_York:20221020T100000
DTEND;TZID=America/New_York:20221020T170000
DTSTAMP:20260419T221729
CREATED:20221014T141449Z
LAST-MODIFIED:20221014T141450Z
UID:10000511-1666260000-1666285200@billingsfarm.org
SUMMARY:Today's Schedule
DESCRIPTION:
URL:https://billingsfarm.org/event/todays-schedule-62/
LOCATION:Billings Farm and Museum\, 69 Old River Rd\, Woodstock\, VT\, 05091\, United States
CATEGORIES:Featured
ATTACH;FMTTYPE=image/jpeg:https://billingsfarm.org/wp/wp-content/uploads/2022/10/10-17-to-21.jpg
END:VEVENT
BEGIN:VEVENT
DTSTART;TZID=America/New_York:20221020T173000
DTEND;TZID=America/New_York:20221020T193000
DTSTAMP:20260419T221729
CREATED:20220906T132333Z
LAST-MODIFIED:20220913T195511Z
UID:10002750-1666287000-1666294200@billingsfarm.org
SUMMARY:Autumn Leaves Watercolor Workshop
DESCRIPTION:Autumn Leaves Watercolor Workshop \nOctober 20th 5:30-7:30  \nPrice:  $65 person/$60 member (materials included)\nPresenter: Margaret Dwyer\nLocation: Billings Farm & Museum \nAs a palette of red\, yellow\, and orange leaves blanket the famous Vermont fallscape\, learn to paint a slice of the vibrant autumn colors with Billings Farm Artist-in-Residence Margaret Dwyer. From a single leaf to a sweeping impression\, this watercolor workshop will engage a sense of wonder and appreciation for nature’s display. Learn subtle ways to capture unique characteristics without overworking the subject and explore techniques including wet-into-wet\, negative space painting\, glazing and more. In this workshop designed for all painting levels\, each student will produce an autumn treasure to take home. \nAll supplies will be provided.  Advanced registration is recommended. Register now! \nAbout the Artist: \nMargaret Dwyer earned her Master of Fine Art degree in Visual Arts in 2008 from Vermont College of Fine Arts. Her thesis work involved researching\, writing\, and creating art based on psychological themes such as trauma\, dreams\, and the unconscious. She works in 2-D and 3-D mediums\, though watercolor is her favorite. Her artwork has been recognized in numerous juried national and international exhibitions and has been published in fine art books and magazines. From 2019 to 2021\, Margaret was the Artist in Residence for Marsh Billings Rockefeller National Historical Park in Woodstock\, VT. As a mural artist\, she has created dozens of public and private murals throughout New England. Currently\, she teaches art at her studio in Winsor\, VT. To view her work\, visit MargaretDwyerArtist.com. \nSafety Policy: For the continued safety of our staff and guests\, wearing a face mask is encouraged and very much appreciated in our indoor spaces. If you have symptoms of a respiratory illness please wear a mask or consider visiting another time. \nCancellation Policy: There are often waitlists for our workshops\, so please let us know in advance if you are unable to attend. Refunds are available up to 7 days before the class is held. There are no refunds within 7 days. \n 
URL:https://billingsfarm.org/event/autumn-leaves-watercolor-workshop/
LOCATION:Billings Farm and Museum\, 69 Old River Rd\, Woodstock\, VT\, 05091\, United States
ATTACH;FMTTYPE=image/jpeg:https://billingsfarm.org/wp/wp-content/uploads/2022/09/Autumn-Leaves2.jpg
END:VEVENT
BEGIN:VEVENT
DTSTART;TZID=America/New_York:20221021T080000
DTEND;TZID=America/New_York:20221021T170000
DTSTAMP:20260419T221729
CREATED:20221014T141517Z
LAST-MODIFIED:20221014T141518Z
UID:10000512-1666339200-1666371600@billingsfarm.org
SUMMARY:Today's Schedule
DESCRIPTION:
URL:https://billingsfarm.org/event/todays-schedule-63/
LOCATION:Billings Farm and Museum\, 69 Old River Rd\, Woodstock\, VT\, 05091\, United States
CATEGORIES:Featured
ATTACH;FMTTYPE=image/jpeg:https://billingsfarm.org/wp/wp-content/uploads/2022/10/10-17-to-21.jpg
END:VEVENT
END:VCALENDAR