BEGIN:VCALENDAR
VERSION:2.0
PRODID:-//Billings Farm - ECPv6.15.15//NONSGML v1.0//EN
CALSCALE:GREGORIAN
METHOD:PUBLISH
X-WR-CALNAME:Billings Farm
X-ORIGINAL-URL:https://billingsfarm.org
X-WR-CALDESC:Events for Billings Farm
REFRESH-INTERVAL;VALUE=DURATION:PT1H
X-Robots-Tag:noindex
X-PUBLISHED-TTL:PT1H
BEGIN:VTIMEZONE
TZID:America/New_York
BEGIN:DAYLIGHT
TZOFFSETFROM:-0500
TZOFFSETTO:-0400
TZNAME:EDT
DTSTART:20210314T070000
END:DAYLIGHT
BEGIN:STANDARD
TZOFFSETFROM:-0400
TZOFFSETTO:-0500
TZNAME:EST
DTSTART:20211107T060000
END:STANDARD
BEGIN:DAYLIGHT
TZOFFSETFROM:-0500
TZOFFSETTO:-0400
TZNAME:EDT
DTSTART:20220313T070000
END:DAYLIGHT
BEGIN:STANDARD
TZOFFSETFROM:-0400
TZOFFSETTO:-0500
TZNAME:EST
DTSTART:20221106T060000
END:STANDARD
BEGIN:DAYLIGHT
TZOFFSETFROM:-0500
TZOFFSETTO:-0400
TZNAME:EDT
DTSTART:20230312T070000
END:DAYLIGHT
BEGIN:STANDARD
TZOFFSETFROM:-0400
TZOFFSETTO:-0500
TZNAME:EST
DTSTART:20231105T060000
END:STANDARD
END:VTIMEZONE
BEGIN:VEVENT
DTSTART;TZID=America/New_York:20220413T100000
DTEND;TZID=America/New_York:20220413T113000
DTSTAMP:20260419T185232
CREATED:20220131T194929Z
LAST-MODIFIED:20220131T195131Z
UID:10002932-1649844000-1649849400@billingsfarm.org
SUMMARY:Homeschool Club - Marvelous Maple
DESCRIPTION:Join us for the Billings Farm Homeschool Club\, where history\, education and appreciation of the farm meets wonder!\nIn Billings Farm Homeschool Club\, students will be guided through an educational exploration of history and farm-related topics while participating in fun\, hands-on activities. Each session will feature a unique topic with themes like “Sheep & Felted Soap” or “History Detectives”. Instructors will lead exciting and participatory activities such as:\n\nExploring the 1890 Farmhouse\nMaking ricotta cheese\nMeeting a sheep\nMaking felted soap\nTasting Sugar on Snow\n…And more!\n\n\n  \nThe Club is for children ages 6-10. Sign up for individual sessions or join us for the whole series.\n\nPrice: $20/person or $15/BFM member\nWhere: Billings Farm & Museum\nWhen: Wednesday\, April 13 10:00-11:30AM\nDive into the marvelous world of maple! As we journey through the beautiful forest\, we will learn from a National Park Ranger how to identify maple trees. We will look at historical tools for sugaring and have the chance to taste a delicious treat of Sugar on Snow.\n\n\nLearn more & register here: https://billingsfarm.org/billings-farm-homeschool-club/
URL:https://billingsfarm.org/event/homeschool-club-marvelous-maple/
LOCATION:VT
ATTACH;FMTTYPE=image/jpeg:https://billingsfarm.org/wp/wp-content/uploads/2022/01/maple-sugar-snow-1.jpg
END:VEVENT
END:VCALENDAR