BEGIN:VCALENDAR
VERSION:2.0
PRODID:-//Billings Farm - ECPv6.15.15//NONSGML v1.0//EN
CALSCALE:GREGORIAN
METHOD:PUBLISH
X-WR-CALNAME:Billings Farm
X-ORIGINAL-URL:https://billingsfarm.org
X-WR-CALDESC:Events for Billings Farm
REFRESH-INTERVAL;VALUE=DURATION:PT1H
X-Robots-Tag:noindex
X-PUBLISHED-TTL:PT1H
BEGIN:VTIMEZONE
TZID:America/New_York
BEGIN:DAYLIGHT
TZOFFSETFROM:-0500
TZOFFSETTO:-0400
TZNAME:EDT
DTSTART:20250309T070000
END:DAYLIGHT
BEGIN:STANDARD
TZOFFSETFROM:-0400
TZOFFSETTO:-0500
TZNAME:EST
DTSTART:20251102T060000
END:STANDARD
BEGIN:DAYLIGHT
TZOFFSETFROM:-0500
TZOFFSETTO:-0400
TZNAME:EDT
DTSTART:20260308T070000
END:DAYLIGHT
BEGIN:STANDARD
TZOFFSETFROM:-0400
TZOFFSETTO:-0500
TZNAME:EST
DTSTART:20261101T060000
END:STANDARD
BEGIN:DAYLIGHT
TZOFFSETFROM:-0500
TZOFFSETTO:-0400
TZNAME:EDT
DTSTART:20270314T070000
END:DAYLIGHT
BEGIN:STANDARD
TZOFFSETFROM:-0400
TZOFFSETTO:-0500
TZNAME:EST
DTSTART:20271107T060000
END:STANDARD
END:VTIMEZONE
BEGIN:VEVENT
DTSTART;TZID=America/New_York:20261101T100000
DTEND;TZID=America/New_York:20261101T160000
DTSTAMP:20260421T131122
CREATED:20260223T135400Z
LAST-MODIFIED:20260223T135400Z
UID:10003876-1793527200-1793548800@billingsfarm.org
SUMMARY:Open
DESCRIPTION:
URL:https://billingsfarm.org/event/open-2/2026-11-01/
LOCATION:Billings Farm and Museum\, 69 Old River Rd\, Woodstock\, VT\, 05091\, United States
CATEGORIES:Featured
END:VEVENT
BEGIN:VEVENT
DTSTART;TZID=America/New_York:20261101T100000
DTEND;TZID=America/New_York:20261101T160000
DTSTAMP:20260421T131122
CREATED:20260406T140752Z
LAST-MODIFIED:20260420T114952Z
UID:10004343-1793527200-1793548800@billingsfarm.org
SUMMARY:Today's Schedule
DESCRIPTION:
URL:https://billingsfarm.org/event/todays-schedule-427/2026-11-01/
LOCATION:Billings Farm and Museum\, 69 Old River Rd\, Woodstock\, VT\, 05091\, United States
CATEGORIES:Featured
ATTACH;FMTTYPE=image/png:https://billingsfarm.org/wp/wp-content/uploads/2026/04/April-Friday-Sunday-Monday.png
END:VEVENT
BEGIN:VEVENT
DTSTART;TZID=America/New_York:20261102T100000
DTEND;TZID=America/New_York:20261102T160000
DTSTAMP:20260421T131122
CREATED:20260223T135645Z
LAST-MODIFIED:20260223T135646Z
UID:10003888-1793613600-1793635200@billingsfarm.org
SUMMARY:Closed
DESCRIPTION:
URL:https://billingsfarm.org/event/closed-96/2026-11-02/
LOCATION:Billings Farm and Museum\, 69 Old River Rd\, Woodstock\, VT\, 05091\, United States
CATEGORIES:Featured
END:VEVENT
BEGIN:VEVENT
DTSTART;TZID=America/New_York:20261102T100000
DTEND;TZID=America/New_York:20261102T160000
DTSTAMP:20260421T131122
CREATED:20260406T140752Z
LAST-MODIFIED:20260420T114952Z
UID:10004344-1793613600-1793635200@billingsfarm.org
SUMMARY:Today's Schedule
DESCRIPTION:
URL:https://billingsfarm.org/event/todays-schedule-427/2026-11-02/
LOCATION:Billings Farm and Museum\, 69 Old River Rd\, Woodstock\, VT\, 05091\, United States
CATEGORIES:Featured
ATTACH;FMTTYPE=image/png:https://billingsfarm.org/wp/wp-content/uploads/2026/04/April-Friday-Sunday-Monday.png
END:VEVENT
BEGIN:VEVENT
DTSTART;TZID=America/New_York:20261103T100000
DTEND;TZID=America/New_York:20261103T160000
DTSTAMP:20260421T131122
CREATED:20260223T135645Z
LAST-MODIFIED:20260223T135646Z
UID:10003889-1793700000-1793721600@billingsfarm.org
SUMMARY:Closed
DESCRIPTION:
URL:https://billingsfarm.org/event/closed-96/2026-11-03/
LOCATION:Billings Farm and Museum\, 69 Old River Rd\, Woodstock\, VT\, 05091\, United States
CATEGORIES:Featured
END:VEVENT
BEGIN:VEVENT
DTSTART;TZID=America/New_York:20261104T100000
DTEND;TZID=America/New_York:20261104T160000
DTSTAMP:20260421T131122
CREATED:20260223T135645Z
LAST-MODIFIED:20260223T135646Z
UID:10003890-1793786400-1793808000@billingsfarm.org
SUMMARY:Closed
DESCRIPTION:
URL:https://billingsfarm.org/event/closed-96/2026-11-04/
LOCATION:Billings Farm and Museum\, 69 Old River Rd\, Woodstock\, VT\, 05091\, United States
CATEGORIES:Featured
END:VEVENT
BEGIN:VEVENT
DTSTART;TZID=America/New_York:20261105T100000
DTEND;TZID=America/New_York:20261105T160000
DTSTAMP:20260421T131122
CREATED:20260223T135645Z
LAST-MODIFIED:20260223T135646Z
UID:10003891-1793872800-1793894400@billingsfarm.org
SUMMARY:Closed
DESCRIPTION:
URL:https://billingsfarm.org/event/closed-96/2026-11-05/
LOCATION:Billings Farm and Museum\, 69 Old River Rd\, Woodstock\, VT\, 05091\, United States
CATEGORIES:Featured
END:VEVENT
BEGIN:VEVENT
DTSTART;TZID=America/New_York:20261106T100000
DTEND;TZID=America/New_York:20261106T160000
DTSTAMP:20260421T131122
CREATED:20260223T135645Z
LAST-MODIFIED:20260223T135646Z
UID:10003892-1793959200-1793980800@billingsfarm.org
SUMMARY:Closed
DESCRIPTION:
URL:https://billingsfarm.org/event/closed-96/2026-11-06/
LOCATION:Billings Farm and Museum\, 69 Old River Rd\, Woodstock\, VT\, 05091\, United States
CATEGORIES:Featured
END:VEVENT
BEGIN:VEVENT
DTSTART;TZID=America/New_York:20261106T100000
DTEND;TZID=America/New_York:20261106T160000
DTSTAMP:20260421T131122
CREATED:20260406T140752Z
LAST-MODIFIED:20260420T114952Z
UID:10004345-1793959200-1793980800@billingsfarm.org
SUMMARY:Today's Schedule
DESCRIPTION:
URL:https://billingsfarm.org/event/todays-schedule-427/2026-11-06/
LOCATION:Billings Farm and Museum\, 69 Old River Rd\, Woodstock\, VT\, 05091\, United States
CATEGORIES:Featured
ATTACH;FMTTYPE=image/png:https://billingsfarm.org/wp/wp-content/uploads/2026/04/April-Friday-Sunday-Monday.png
END:VEVENT
BEGIN:VEVENT
DTSTART;TZID=America/New_York:20261107T100000
DTEND;TZID=America/New_York:20261107T160000
DTSTAMP:20260421T131122
CREATED:20260223T135400Z
LAST-MODIFIED:20260223T135400Z
UID:10003877-1794045600-1794067200@billingsfarm.org
SUMMARY:Open
DESCRIPTION:
URL:https://billingsfarm.org/event/open-2/2026-11-07/
LOCATION:Billings Farm and Museum\, 69 Old River Rd\, Woodstock\, VT\, 05091\, United States
CATEGORIES:Featured
END:VEVENT
BEGIN:VEVENT
DTSTART;TZID=America/New_York:20261107T100000
DTEND;TZID=America/New_York:20261107T160000
DTSTAMP:20260421T131122
CREATED:20260420T153228Z
LAST-MODIFIED:20260420T153228Z
UID:10004230-1794045600-1794067200@billingsfarm.org
SUMMARY:Today's Schedule
DESCRIPTION:
URL:https://billingsfarm.org/event/todays-schedule-425-2/2026-11-07/
LOCATION:Billings Farm and Museum\, 69 Old River Rd\, Woodstock\, VT\, 05091\, United States
CATEGORIES:Featured
ATTACH;FMTTYPE=image/png:https://billingsfarm.org/wp/wp-content/uploads/2026/04/April-Saturdays.png
END:VEVENT
BEGIN:VEVENT
DTSTART;TZID=America/New_York:20261108T100000
DTEND;TZID=America/New_York:20261108T160000
DTSTAMP:20260421T131122
CREATED:20260223T135400Z
LAST-MODIFIED:20260223T135400Z
UID:10003878-1794132000-1794153600@billingsfarm.org
SUMMARY:Open
DESCRIPTION:
URL:https://billingsfarm.org/event/open-2/2026-11-08/
LOCATION:Billings Farm and Museum\, 69 Old River Rd\, Woodstock\, VT\, 05091\, United States
CATEGORIES:Featured
END:VEVENT
BEGIN:VEVENT
DTSTART;TZID=America/New_York:20261108T100000
DTEND;TZID=America/New_York:20261108T160000
DTSTAMP:20260421T131122
CREATED:20260406T140752Z
LAST-MODIFIED:20260420T114952Z
UID:10004346-1794132000-1794153600@billingsfarm.org
SUMMARY:Today's Schedule
DESCRIPTION:
URL:https://billingsfarm.org/event/todays-schedule-427/2026-11-08/
LOCATION:Billings Farm and Museum\, 69 Old River Rd\, Woodstock\, VT\, 05091\, United States
CATEGORIES:Featured
ATTACH;FMTTYPE=image/png:https://billingsfarm.org/wp/wp-content/uploads/2026/04/April-Friday-Sunday-Monday.png
END:VEVENT
BEGIN:VEVENT
DTSTART;TZID=America/New_York:20261109T100000
DTEND;TZID=America/New_York:20261109T160000
DTSTAMP:20260421T131122
CREATED:20260223T135645Z
LAST-MODIFIED:20260223T135646Z
UID:10003893-1794218400-1794240000@billingsfarm.org
SUMMARY:Closed
DESCRIPTION:
URL:https://billingsfarm.org/event/closed-96/2026-11-09/
LOCATION:Billings Farm and Museum\, 69 Old River Rd\, Woodstock\, VT\, 05091\, United States
CATEGORIES:Featured
END:VEVENT
BEGIN:VEVENT
DTSTART;TZID=America/New_York:20261109T100000
DTEND;TZID=America/New_York:20261109T160000
DTSTAMP:20260421T131122
CREATED:20260406T140752Z
LAST-MODIFIED:20260420T114952Z
UID:10004347-1794218400-1794240000@billingsfarm.org
SUMMARY:Today's Schedule
DESCRIPTION:
URL:https://billingsfarm.org/event/todays-schedule-427/2026-11-09/
LOCATION:Billings Farm and Museum\, 69 Old River Rd\, Woodstock\, VT\, 05091\, United States
CATEGORIES:Featured
ATTACH;FMTTYPE=image/png:https://billingsfarm.org/wp/wp-content/uploads/2026/04/April-Friday-Sunday-Monday.png
END:VEVENT
BEGIN:VEVENT
DTSTART;TZID=America/New_York:20261110T100000
DTEND;TZID=America/New_York:20261110T160000
DTSTAMP:20260421T131122
CREATED:20260223T135645Z
LAST-MODIFIED:20260223T135646Z
UID:10003894-1794304800-1794326400@billingsfarm.org
SUMMARY:Closed
DESCRIPTION:
URL:https://billingsfarm.org/event/closed-96/2026-11-10/
LOCATION:Billings Farm and Museum\, 69 Old River Rd\, Woodstock\, VT\, 05091\, United States
CATEGORIES:Featured
END:VEVENT
BEGIN:VEVENT
DTSTART;TZID=America/New_York:20261111T100000
DTEND;TZID=America/New_York:20261111T160000
DTSTAMP:20260421T131122
CREATED:20260223T135645Z
LAST-MODIFIED:20260223T135646Z
UID:10003895-1794391200-1794412800@billingsfarm.org
SUMMARY:Closed
DESCRIPTION:
URL:https://billingsfarm.org/event/closed-96/2026-11-11/
LOCATION:Billings Farm and Museum\, 69 Old River Rd\, Woodstock\, VT\, 05091\, United States
CATEGORIES:Featured
END:VEVENT
BEGIN:VEVENT
DTSTART;TZID=America/New_York:20261112T100000
DTEND;TZID=America/New_York:20261112T160000
DTSTAMP:20260421T131122
CREATED:20260223T135645Z
LAST-MODIFIED:20260223T135646Z
UID:10003896-1794477600-1794499200@billingsfarm.org
SUMMARY:Closed
DESCRIPTION:
URL:https://billingsfarm.org/event/closed-96/2026-11-12/
LOCATION:Billings Farm and Museum\, 69 Old River Rd\, Woodstock\, VT\, 05091\, United States
CATEGORIES:Featured
END:VEVENT
BEGIN:VEVENT
DTSTART;TZID=America/New_York:20261112T173000
DTEND;TZID=America/New_York:20261112T190000
DTSTAMP:20260421T131122
CREATED:20260331T143452Z
LAST-MODIFIED:20260331T143452Z
UID:10004176-1794504600-1794510000@billingsfarm.org
SUMMARY:Billings After Hours Charcuterie Workshop
DESCRIPTION:For Ages 21+\nPricing: $85/person or $150/couple\nMember Pricing: $80/person or $140/couple\n*Please note that the pricing differs for the two workshops.\n \nClick here for Program Details
URL:https://billingsfarm.org/event/billings-after-hours-charcuterie-workshop-3/
LOCATION:Billings Farm and Museum\, 69 Old River Rd\, Woodstock\, VT\, 05091\, United States
CATEGORIES:Featured
ATTACH;FMTTYPE=image/png:https://billingsfarm.org/wp/wp-content/uploads/2026/03/Charcut-for-homepage-DSC08382.png
END:VEVENT
BEGIN:VEVENT
DTSTART;TZID=America/New_York:20261113T100000
DTEND;TZID=America/New_York:20261113T160000
DTSTAMP:20260421T131122
CREATED:20260223T135645Z
LAST-MODIFIED:20260223T135646Z
UID:10003897-1794564000-1794585600@billingsfarm.org
SUMMARY:Closed
DESCRIPTION:
URL:https://billingsfarm.org/event/closed-96/2026-11-13/
LOCATION:Billings Farm and Museum\, 69 Old River Rd\, Woodstock\, VT\, 05091\, United States
CATEGORIES:Featured
END:VEVENT
BEGIN:VEVENT
DTSTART;TZID=America/New_York:20261113T100000
DTEND;TZID=America/New_York:20261113T160000
DTSTAMP:20260421T131122
CREATED:20260406T140752Z
LAST-MODIFIED:20260420T114952Z
UID:10004348-1794564000-1794585600@billingsfarm.org
SUMMARY:Today's Schedule
DESCRIPTION:
URL:https://billingsfarm.org/event/todays-schedule-427/2026-11-13/
LOCATION:Billings Farm and Museum\, 69 Old River Rd\, Woodstock\, VT\, 05091\, United States
CATEGORIES:Featured
ATTACH;FMTTYPE=image/png:https://billingsfarm.org/wp/wp-content/uploads/2026/04/April-Friday-Sunday-Monday.png
END:VEVENT
BEGIN:VEVENT
DTSTART;TZID=America/New_York:20261114T100000
DTEND;TZID=America/New_York:20261114T160000
DTSTAMP:20260421T131122
CREATED:20260223T135400Z
LAST-MODIFIED:20260223T135400Z
UID:10003879-1794650400-1794672000@billingsfarm.org
SUMMARY:Open
DESCRIPTION:
URL:https://billingsfarm.org/event/open-2/2026-11-14/
LOCATION:Billings Farm and Museum\, 69 Old River Rd\, Woodstock\, VT\, 05091\, United States
CATEGORIES:Featured
END:VEVENT
BEGIN:VEVENT
DTSTART;TZID=America/New_York:20261114T100000
DTEND;TZID=America/New_York:20261114T160000
DTSTAMP:20260421T131122
CREATED:20260420T153228Z
LAST-MODIFIED:20260420T153228Z
UID:10004231-1794650400-1794672000@billingsfarm.org
SUMMARY:Today's Schedule
DESCRIPTION:
URL:https://billingsfarm.org/event/todays-schedule-425-2/2026-11-14/
LOCATION:Billings Farm and Museum\, 69 Old River Rd\, Woodstock\, VT\, 05091\, United States
CATEGORIES:Featured
ATTACH;FMTTYPE=image/png:https://billingsfarm.org/wp/wp-content/uploads/2026/04/April-Saturdays.png
END:VEVENT
BEGIN:VEVENT
DTSTART;TZID=America/New_York:20261115T100000
DTEND;TZID=America/New_York:20261115T160000
DTSTAMP:20260421T131122
CREATED:20260223T135400Z
LAST-MODIFIED:20260223T135400Z
UID:10003880-1794736800-1794758400@billingsfarm.org
SUMMARY:Open
DESCRIPTION:
URL:https://billingsfarm.org/event/open-2/2026-11-15/
LOCATION:Billings Farm and Museum\, 69 Old River Rd\, Woodstock\, VT\, 05091\, United States
CATEGORIES:Featured
END:VEVENT
BEGIN:VEVENT
DTSTART;TZID=America/New_York:20261115T100000
DTEND;TZID=America/New_York:20261115T160000
DTSTAMP:20260421T131122
CREATED:20260406T140752Z
LAST-MODIFIED:20260420T114952Z
UID:10004349-1794736800-1794758400@billingsfarm.org
SUMMARY:Today's Schedule
DESCRIPTION:
URL:https://billingsfarm.org/event/todays-schedule-427/2026-11-15/
LOCATION:Billings Farm and Museum\, 69 Old River Rd\, Woodstock\, VT\, 05091\, United States
CATEGORIES:Featured
ATTACH;FMTTYPE=image/png:https://billingsfarm.org/wp/wp-content/uploads/2026/04/April-Friday-Sunday-Monday.png
END:VEVENT
BEGIN:VEVENT
DTSTART;TZID=America/New_York:20261116T100000
DTEND;TZID=America/New_York:20261116T160000
DTSTAMP:20260421T131122
CREATED:20260223T135645Z
LAST-MODIFIED:20260223T135646Z
UID:10003898-1794823200-1794844800@billingsfarm.org
SUMMARY:Closed
DESCRIPTION:
URL:https://billingsfarm.org/event/closed-96/2026-11-16/
LOCATION:Billings Farm and Museum\, 69 Old River Rd\, Woodstock\, VT\, 05091\, United States
CATEGORIES:Featured
END:VEVENT
BEGIN:VEVENT
DTSTART;TZID=America/New_York:20261116T100000
DTEND;TZID=America/New_York:20261116T160000
DTSTAMP:20260421T131122
CREATED:20260406T140752Z
LAST-MODIFIED:20260420T114952Z
UID:10004350-1794823200-1794844800@billingsfarm.org
SUMMARY:Today's Schedule
DESCRIPTION:
URL:https://billingsfarm.org/event/todays-schedule-427/2026-11-16/
LOCATION:Billings Farm and Museum\, 69 Old River Rd\, Woodstock\, VT\, 05091\, United States
CATEGORIES:Featured
ATTACH;FMTTYPE=image/png:https://billingsfarm.org/wp/wp-content/uploads/2026/04/April-Friday-Sunday-Monday.png
END:VEVENT
BEGIN:VEVENT
DTSTART;TZID=America/New_York:20261117T100000
DTEND;TZID=America/New_York:20261117T160000
DTSTAMP:20260421T131122
CREATED:20260223T135645Z
LAST-MODIFIED:20260223T135646Z
UID:10003899-1794909600-1794931200@billingsfarm.org
SUMMARY:Closed
DESCRIPTION:
URL:https://billingsfarm.org/event/closed-96/2026-11-17/
LOCATION:Billings Farm and Museum\, 69 Old River Rd\, Woodstock\, VT\, 05091\, United States
CATEGORIES:Featured
END:VEVENT
BEGIN:VEVENT
DTSTART;TZID=America/New_York:20261118T100000
DTEND;TZID=America/New_York:20261118T160000
DTSTAMP:20260421T131122
CREATED:20260223T135645Z
LAST-MODIFIED:20260223T135646Z
UID:10003900-1794996000-1795017600@billingsfarm.org
SUMMARY:Closed
DESCRIPTION:
URL:https://billingsfarm.org/event/closed-96/2026-11-18/
LOCATION:Billings Farm and Museum\, 69 Old River Rd\, Woodstock\, VT\, 05091\, United States
CATEGORIES:Featured
END:VEVENT
BEGIN:VEVENT
DTSTART;TZID=America/New_York:20261119T100000
DTEND;TZID=America/New_York:20261119T160000
DTSTAMP:20260421T131122
CREATED:20260223T135645Z
LAST-MODIFIED:20260223T135646Z
UID:10003901-1795082400-1795104000@billingsfarm.org
SUMMARY:Closed
DESCRIPTION:
URL:https://billingsfarm.org/event/closed-96/2026-11-19/
LOCATION:Billings Farm and Museum\, 69 Old River Rd\, Woodstock\, VT\, 05091\, United States
CATEGORIES:Featured
END:VEVENT
END:VCALENDAR